BEGIN:VCALENDAR
VERSION:2.0
PRODID:-//EZFacility.com, Inc.//EZL 2.5.5.28621
BEGIN:VEVENT
UID:16753837@ezleagues.ezfacility.com
DTSTAMP:20260422T132334Z
CREATED:20260422T132334Z
DTSTART:20251001T221500Z
DTEND:20251001T233000Z
LOCATION:Bocce 3
CONTACT:
SUMMARY:FUHGETTABOCCE VS. Son of a Be-occe
DESCRIPTION:League Name: 2025 Fall Wednesday Recreational Bocce League\nGam
 e Type: Regular\nGame Status: Complete\nHome Team: FUHGETTABOCCE\nAway Tea
 m: Son of a Be-occe\nHome Score: 1\nAway Score: 1
END:VEVENT
BEGIN:VEVENT
UID:16753843@ezleagues.ezfacility.com
DTSTAMP:20260422T132334Z
CREATED:20260422T132334Z
DTSTART:20251008T233000Z
DTEND:20251009T004500Z
LOCATION:Bocce 1
CONTACT:
SUMMARY:Son of a Be-occe VS. Boccelism
DESCRIPTION:League Name: 2025 Fall Wednesday Recreational Bocce League\nGam
 e Type: Regular\nGame Status: Complete\nHome Team: Son of a Be-occe\nAway 
 Team: Boccelism\nHome Score: 1\nAway Score: 1
END:VEVENT
BEGIN:VEVENT
UID:16753849@ezleagues.ezfacility.com
DTSTAMP:20260422T132334Z
CREATED:20260422T132334Z
DTSTART:20251015T221500Z
DTEND:20251015T233000Z
LOCATION:Bocce 2
CONTACT:
SUMMARY:Bocce like a hurricane VS. Son of a Be-occe
DESCRIPTION:League Name: 2025 Fall Wednesday Recreational Bocce League\nGam
 e Type: Regular\nGame Status: Complete\nHome Team: Bocce like a hurricane\
 nAway Team: Son of a Be-occe\nHome Score: 1\nAway Score: 1
END:VEVENT
BEGIN:VEVENT
UID:16753855@ezleagues.ezfacility.com
DTSTAMP:20260422T132334Z
CREATED:20260422T132334Z
DTSTART:20251022T221500Z
DTEND:20251022T233000Z
LOCATION:Bocce 1
CONTACT:
SUMMARY:Son of a Be-occe VS. Dirt Devils
DESCRIPTION:League Name: 2025 Fall Wednesday Recreational Bocce League\nGam
 e Type: Regular\nGame Status: Complete\nHome Team: Son of a Be-occe\nAway 
 Team: Dirt Devils\nHome Score: 2\nAway Score: 0
END:VEVENT
BEGIN:VEVENT
UID:16753861@ezleagues.ezfacility.com
DTSTAMP:20260422T132334Z
CREATED:20260422T132334Z
DTSTART:20251029T233000Z
DTEND:20251030T004500Z
LOCATION:Bocce 2
CONTACT:
SUMMARY:Son of a Be-occe VS. Ball Hogs
DESCRIPTION:League Name: 2025 Fall Wednesday Recreational Bocce League\nGam
 e Type: Regular\nGame Status: Complete\nHome Team: Son of a Be-occe\nAway 
 Team: Ball Hogs\nHome Score: 2\nAway Score: 0
END:VEVENT
BEGIN:VEVENT
UID:16753877@ezleagues.ezfacility.com
DTSTAMP:20260422T132334Z
CREATED:20260422T132334Z
DTSTART:20251113T003000Z
DTEND:20251113T014500Z
LOCATION:Bocce 1
CONTACT:
SUMMARY:Son of a Be-occe VS. Orange Crush
DESCRIPTION:League Name: 2025 Fall Wednesday Recreational Bocce League\nGam
 e Type: Regular\nGame Status: Complete\nHome Team: Son of a Be-occe\nAway 
 Team: Orange Crush\nHome Score: 1\nAway Score: 1
END:VEVENT
BEGIN:VEVENT
UID:16753885@ezleagues.ezfacility.com
DTSTAMP:20260422T132334Z
CREATED:20260422T132334Z
DTSTART:20251119T231500Z
DTEND:20251120T003000Z
LOCATION:Bocce 1
CONTACT:
SUMMARY:coc kaws VS. Son of a Be-occe
DESCRIPTION:League Name: 2025 Fall Wednesday Recreational Bocce League\nGam
 e Type: Regular\nGame Status: Complete\nHome Team: coc kaws\nAway Team: So
 n of a Be-occe\nHome Score: 1\nAway Score: 1
END:VEVENT
BEGIN:VEVENT
UID:16753893@ezleagues.ezfacility.com
DTSTAMP:20260422T132334Z
CREATED:20260422T132334Z
DTSTART:20251127T003000Z
DTEND:20251127T014500Z
LOCATION:Bocce 2
CONTACT:
SUMMARY:Son of a Be-occe VS. Balls of Fall
DESCRIPTION:League Name: 2025 Fall Wednesday Recreational Bocce League\nGam
 e Type: Regular\nGame Status: Pending\nHome Team: Son of a Be-occe\nAway T
 eam: Balls of Fall\n
END:VEVENT
BEGIN:VEVENT
UID:16753901@ezleagues.ezfacility.com
DTSTAMP:20260422T132334Z
CREATED:20260422T132334Z
DTSTART:20251204T003000Z
DTEND:20251204T014500Z
LOCATION:Bocce 1
CONTACT:
SUMMARY:Bushwackers VS. Son of a Be-occe
DESCRIPTION:League Name: 2025 Fall Wednesday Recreational Bocce League\nGam
 e Type: Regular\nGame Status: Complete\nHome Team: Bushwackers\nAway Team:
  Son of a Be-occe\nHome Score: 2\nAway Score: 0
END:VEVENT
BEGIN:VEVENT
UID:16753909@ezleagues.ezfacility.com
DTSTAMP:20260422T132334Z
CREATED:20260422T132334Z
DTSTART:20251211T003000Z
DTEND:20251211T014500Z
LOCATION:Bocce 2
CONTACT:
SUMMARY:Bocce Battalion VS. Son of a Be-occe
DESCRIPTION:League Name: 2025 Fall Wednesday Recreational Bocce League\nGam
 e Type: Regular\nGame Status: Complete\nHome Team: Bocce Battalion\nAway T
 eam: Son of a Be-occe\nHome Score: 2\nAway Score: 0
END:VEVENT
BEGIN:VEVENT
UID:16753916@ezleagues.ezfacility.com
DTSTAMP:20260422T132334Z
CREATED:20260422T132334Z
DTSTART:20251217T231500Z
DTEND:20251218T003000Z
LOCATION:Bocce 2
CONTACT:
SUMMARY:Son of a Be-occe VS. VAL'S GALS
DESCRIPTION:League Name: 2025 Fall Wednesday Recreational Bocce League\nGam
 e Type: Regular\nGame Status: Complete\nHome Team: Son of a Be-occe\nAway 
 Team: VAL'S GALS\nHome Score: 0\nAway Score: 1
END:VEVENT
BEGIN:VEVENT
UID:16753922@ezleagues.ezfacility.com
DTSTAMP:20260422T132334Z
CREATED:20260422T132334Z
DTSTART:20260108T003000Z
DTEND:20260108T014500Z
LOCATION:Bocce 2
CONTACT:
SUMMARY:t Ball Busters VS. Son of a Be-occe
DESCRIPTION:League Name: 2025 Fall Wednesday Recreational Bocce League\nGam
 e Type: Regular\nGame Status: Complete\nHome Team: t Ball Busters\nAway Te
 am: Son of a Be-occe\nHome Score: 1\nAway Score: 1
END:VEVENT
BEGIN:VEVENT
UID:16963115@ezleagues.ezfacility.com
DTSTAMP:20260422T132334Z
CREATED:20260422T132334Z
DTSTART:20260114T231500Z
DTEND:20260115T003000Z
LOCATION:Bocce 1
CONTACT:
SUMMARY:VAL'S GALS VS. Son of a Be-occe
DESCRIPTION:League Name: 2025 Fall Wednesday Recreational Bocce League\nGam
 e Type: Regular\nGame Status: Pending\nHome Team: VAL'S GALS\nAway Team: S
 on of a Be-occe\n
END:VEVENT
BEGIN:VEVENT
UID:16977367@ezleagues.ezfacility.com
DTSTAMP:20260422T132334Z
CREATED:20260422T132334Z
DTSTART:20260121T231500Z
DTEND:20260122T003000Z
LOCATION:Bocce 1
CONTACT:
SUMMARY:Son of a Be-occe VS. Bushwackers
DESCRIPTION:League Name: 2025 Fall Wednesday Recreational Bocce League\nGam
 e Type: Regular\nGame Status: Pending\nHome Team: Son of a Be-occe\nAway T
 eam: Bushwackers\n
END:VEVENT
END:VCALENDAR
