BEGIN:VCALENDAR
VERSION:2.0
PRODID:-//EZFacility.com, Inc.//EZL 2.5.5.28621
BEGIN:VEVENT
UID:16753838@ezleagues.ezfacility.com
DTSTAMP:20260423T131455Z
CREATED:20260423T131455Z
DTSTART:20251001T221500Z
DTEND:20251001T233000Z
LOCATION:Bocce 4
CONTACT:
SUMMARY:Orange Crush VS. VAL'S GALS
DESCRIPTION:League Name: 2025 Fall Wednesday Recreational Bocce League\nGam
 e Type: Regular\nGame Status: Complete\nHome Team: Orange Crush\nAway Team
 : VAL'S GALS\nHome Score: 0\nAway Score: 2
END:VEVENT
BEGIN:VEVENT
UID:16753844@ezleagues.ezfacility.com
DTSTAMP:20260423T131455Z
CREATED:20260423T131455Z
DTSTART:20251008T233000Z
DTEND:20251009T004500Z
LOCATION:Bocce 2
CONTACT:
SUMMARY:VAL'S GALS VS. coc kaws
DESCRIPTION:League Name: 2025 Fall Wednesday Recreational Bocce League\nGam
 e Type: Regular\nGame Status: Complete\nHome Team: VAL'S GALS\nAway Team: 
 coc kaws\nHome Score: 2\nAway Score: 0
END:VEVENT
BEGIN:VEVENT
UID:16753850@ezleagues.ezfacility.com
DTSTAMP:20260423T131455Z
CREATED:20260423T131455Z
DTSTART:20251015T233000Z
DTEND:20251016T004500Z
LOCATION:Bocce 2
CONTACT:
SUMMARY:Balls of Fall VS. VAL'S GALS
DESCRIPTION:League Name: 2025 Fall Wednesday Recreational Bocce League\nGam
 e Type: Regular\nGame Status: Complete\nHome Team: Balls of Fall\nAway Tea
 m: VAL'S GALS\nHome Score: 0\nAway Score: 2
END:VEVENT
BEGIN:VEVENT
UID:16753856@ezleagues.ezfacility.com
DTSTAMP:20260423T131455Z
CREATED:20260423T131455Z
DTSTART:20251022T233000Z
DTEND:20251023T004500Z
LOCATION:Bocce 1
CONTACT:
SUMMARY:VAL'S GALS VS. Bushwackers
DESCRIPTION:League Name: 2025 Fall Wednesday Recreational Bocce League\nGam
 e Type: Regular\nGame Status: Complete\nHome Team: VAL'S GALS\nAway Team: 
 Bushwackers\nHome Score: 2\nAway Score: 0
END:VEVENT
BEGIN:VEVENT
UID:16753862@ezleagues.ezfacility.com
DTSTAMP:20260423T131455Z
CREATED:20260423T131455Z
DTSTART:20251029T221500Z
DTEND:20251029T233000Z
LOCATION:Bocce 3
CONTACT:
SUMMARY:Bocce Battalion VS. VAL'S GALS
DESCRIPTION:League Name: 2025 Fall Wednesday Recreational Bocce League\nGam
 e Type: Regular\nGame Status: Complete\nHome Team: Bocce Battalion\nAway T
 eam: VAL'S GALS\nHome Score: 1\nAway Score: 1
END:VEVENT
BEGIN:VEVENT
UID:16753868@ezleagues.ezfacility.com
DTSTAMP:20260423T131455Z
CREATED:20260423T131455Z
DTSTART:20251105T231500Z
DTEND:20251106T003000Z
LOCATION:Bocce 1
CONTACT:
SUMMARY:Ball Hogs VS. VAL'S GALS
DESCRIPTION:League Name: 2025 Fall Wednesday Recreational Bocce League\nGam
 e Type: Regular\nGame Status: Complete\nHome Team: Ball Hogs\nAway Team: V
 AL'S GALS\nHome Score: 0\nAway Score: 2
END:VEVENT
BEGIN:VEVENT
UID:16753876@ezleagues.ezfacility.com
DTSTAMP:20260423T131455Z
CREATED:20260423T131455Z
DTSTART:20251112T231500Z
DTEND:20251113T003000Z
LOCATION:Bocce 3
CONTACT:
SUMMARY:VAL'S GALS VS. t Ball Busters
DESCRIPTION:League Name: 2025 Fall Wednesday Recreational Bocce League\nGam
 e Type: Regular\nGame Status: Complete\nHome Team: VAL'S GALS\nAway Team: 
 t Ball Busters\nHome Score: 0\nAway Score: 2
END:VEVENT
BEGIN:VEVENT
UID:16753884@ezleagues.ezfacility.com
DTSTAMP:20260423T131455Z
CREATED:20260423T131455Z
DTSTART:20251119T231500Z
DTEND:20251120T003000Z
LOCATION:Bocce 4
CONTACT:
SUMMARY:VAL'S GALS VS. FUHGETTABOCCE
DESCRIPTION:League Name: 2025 Fall Wednesday Recreational Bocce League\nGam
 e Type: Regular\nGame Status: Complete\nHome Team: VAL'S GALS\nAway Team: 
 FUHGETTABOCCE\nHome Score: 2\nAway Score: 0
END:VEVENT
BEGIN:VEVENT
UID:16753892@ezleagues.ezfacility.com
DTSTAMP:20260423T131455Z
CREATED:20260423T131455Z
DTSTART:20251126T231500Z
DTEND:20251127T003000Z
LOCATION:Bocce 4
CONTACT:
SUMMARY:VAL'S GALS VS. Boccelism
DESCRIPTION:League Name: 2025 Fall Wednesday Recreational Bocce League\nGam
 e Type: Regular\nGame Status: Pending\nHome Team: VAL'S GALS\nAway Team: B
 occelism\n
END:VEVENT
BEGIN:VEVENT
UID:16753900@ezleagues.ezfacility.com
DTSTAMP:20260423T131455Z
CREATED:20260423T131455Z
DTSTART:20251203T231500Z
DTEND:20251204T003000Z
LOCATION:Bocce 2
CONTACT:
SUMMARY:Bocce like a hurricane VS. VAL'S GALS
DESCRIPTION:League Name: 2025 Fall Wednesday Recreational Bocce League\nGam
 e Type: Regular\nGame Status: Complete\nHome Team: Bocce like a hurricane\
 nAway Team: VAL'S GALS\nHome Score: 1\nAway Score: 1
END:VEVENT
BEGIN:VEVENT
UID:16753908@ezleagues.ezfacility.com
DTSTAMP:20260423T131455Z
CREATED:20260423T131455Z
DTSTART:20251211T003000Z
DTEND:20251211T014500Z
LOCATION:Bocce 1
CONTACT:
SUMMARY:VAL'S GALS VS. Dirt Devils
DESCRIPTION:League Name: 2025 Fall Wednesday Recreational Bocce League\nGam
 e Type: Regular\nGame Status: Complete\nHome Team: VAL'S GALS\nAway Team: 
 Dirt Devils\nHome Score: 2\nAway Score: 0
END:VEVENT
BEGIN:VEVENT
UID:16753916@ezleagues.ezfacility.com
DTSTAMP:20260423T131455Z
CREATED:20260423T131455Z
DTSTART:20251217T231500Z
DTEND:20251218T003000Z
LOCATION:Bocce 2
CONTACT:
SUMMARY:Son of a Be-occe VS. VAL'S GALS
DESCRIPTION:League Name: 2025 Fall Wednesday Recreational Bocce League\nGam
 e Type: Regular\nGame Status: Complete\nHome Team: Son of a Be-occe\nAway 
 Team: VAL'S GALS\nHome Score: 0\nAway Score: 1
END:VEVENT
BEGIN:VEVENT
UID:16963115@ezleagues.ezfacility.com
DTSTAMP:20260423T131455Z
CREATED:20260423T131455Z
DTSTART:20260114T231500Z
DTEND:20260115T003000Z
LOCATION:Bocce 1
CONTACT:
SUMMARY:VAL'S GALS VS. Son of a Be-occe
DESCRIPTION:League Name: 2025 Fall Wednesday Recreational Bocce League\nGam
 e Type: Regular\nGame Status: Pending\nHome Team: VAL'S GALS\nAway Team: S
 on of a Be-occe\n
END:VEVENT
END:VCALENDAR
