BEGIN:VCALENDAR
VERSION:2.0
PRODID:-//EZFacility.com, Inc.//EZL 2.5.5.28621
BEGIN:VEVENT
UID:16759930@ezleagues.ezfacility.com
DTSTAMP:20260426T035032Z
CREATED:20260426T035032Z
DTSTART:20251101T160000Z
DTEND:20251101T164800Z
LOCATION:Field 2
CONTACT:
SUMMARY:(10U) Ravens (RL) VS. (10U) Bengals (PH)
DESCRIPTION:League Name: (+) Hampshire Dome Under 10 Youth NFL Flag Footbal
 l League (Nov/Dec 2025) WS1\nGame Type: Practice\nGame Status: Pending\nHo
 me Team: (10U) Ravens (RL)\nAway Team: (10U) Bengals (PH)\n
END:VEVENT
BEGIN:VEVENT
UID:16823114@ezleagues.ezfacility.com
DTSTAMP:20260426T035032Z
CREATED:20260426T035032Z
DTSTART:20251108T160000Z
DTEND:20251108T164800Z
LOCATION:Field 2
CONTACT:
SUMMARY:(10U) Ravens (RL) VS. (10U) Bills (RP)
DESCRIPTION:League Name: (+) Hampshire Dome Under 10 Youth NFL Flag Footbal
 l League (Nov/Dec 2025) WS1\nGame Type: Regular\nGame Status: Complete\nHo
 me Team: (10U) Ravens (RL)\nAway Team: (10U) Bills (RP)\nHome Score: 12\nA
 way Score: 36
END:VEVENT
BEGIN:VEVENT
UID:16825342@ezleagues.ezfacility.com
DTSTAMP:20260426T035032Z
CREATED:20260426T035032Z
DTSTART:20251115T160000Z
DTEND:20251115T164800Z
LOCATION:Field 2
CONTACT:
SUMMARY:(10U) Jaguars (CC) VS. (10U) Ravens (RL)
DESCRIPTION:League Name: (+) Hampshire Dome Under 10 Youth NFL Flag Footbal
 l League (Nov/Dec 2025) WS1\nGame Type: Regular\nGame Status: Complete\nHo
 me Team: (10U) Jaguars (CC)\nAway Team: (10U) Ravens (RL)\nHome Score: 31\
 nAway Score: 12
END:VEVENT
BEGIN:VEVENT
UID:16825338@ezleagues.ezfacility.com
DTSTAMP:20260426T035032Z
CREATED:20260426T035032Z
DTSTART:20251122T150000Z
DTEND:20251122T154800Z
LOCATION:Field 1
CONTACT:
SUMMARY:(10U) Dolphins (JM) VS. (10U) Ravens (RL)
DESCRIPTION:League Name: (+) Hampshire Dome Under 10 Youth NFL Flag Footbal
 l League (Nov/Dec 2025) WS1\nGame Type: Regular\nGame Status: Complete\nHo
 me Team: (10U) Dolphins (JM)\nAway Team: (10U) Ravens (RL)\nHome Score: 40
 \nAway Score: 30
END:VEVENT
BEGIN:VEVENT
UID:16825375@ezleagues.ezfacility.com
DTSTAMP:20260426T035032Z
CREATED:20260426T035032Z
DTSTART:20251129T150000Z
DTEND:20251129T154800Z
LOCATION:Field 2
CONTACT:
SUMMARY:(10U) Ravens (RL) VS. (10U) Vikings (Geno)
DESCRIPTION:League Name: (+) Hampshire Dome Under 10 Youth NFL Flag Footbal
 l League (Nov/Dec 2025) WS1\nGame Type: Regular\nGame Status: Complete\nHo
 me Team: (10U) Ravens (RL)\nAway Team: (10U) Vikings (Geno)\nHome Score: 8
 \nAway Score: 22
END:VEVENT
BEGIN:VEVENT
UID:16825384@ezleagues.ezfacility.com
DTSTAMP:20260426T035032Z
CREATED:20260426T035032Z
DTSTART:20251206T150000Z
DTEND:20251206T154800Z
LOCATION:Field 1
CONTACT:
SUMMARY:(10U) Ravens (RL) VS. (10U) Bengals (PH)
DESCRIPTION:League Name: (+) Hampshire Dome Under 10 Youth NFL Flag Footbal
 l League (Nov/Dec 2025) WS1\nGame Type: Regular\nGame Status: Complete\nHo
 me Team: (10U) Ravens (RL)\nAway Team: (10U) Bengals (PH)\nHome Score: 28\
 nAway Score: 12
END:VEVENT
BEGIN:VEVENT
UID:16825390@ezleagues.ezfacility.com
DTSTAMP:20260426T035032Z
CREATED:20260426T035032Z
DTSTART:20251213T130000Z
DTEND:20251213T134800Z
LOCATION:Field 2
CONTACT:
SUMMARY:(10U) Commanders (JD) VS. (10U) Ravens (RL)
DESCRIPTION:League Name: (+) Hampshire Dome Under 10 Youth NFL Flag Footbal
 l League (Nov/Dec 2025) WS1\nGame Type: Regular\nGame Status: Complete\nHo
 me Team: (10U) Commanders (JD)\nAway Team: (10U) Ravens (RL)\nHome Score: 
 43\nAway Score: 6
END:VEVENT
END:VCALENDAR
