BEGIN:VCALENDAR
VERSION:2.0
PRODID:-//EZFacility.com, Inc.//EZL 2.5.5.28621
BEGIN:VEVENT
UID:16760019@ezleagues.ezfacility.com
DTSTAMP:20260422T082740Z
CREATED:20260422T082740Z
DTSTART:20251013T235000Z
DTEND:20251014T004000Z
LOCATION:Indoor Field
CONTACT:
SUMMARY:Elite Premier FC 16/17 VS. Matadors - Gray
DESCRIPTION:League Name: 2014/2015 Premier Fall 2025\nGame Type: Regular\nG
 ame Status: Complete\nHome Team: Elite Premier FC 16/17\nAway Team: Matado
 rs - Gray\nHome Score: 4\nAway Score: 10
END:VEVENT
BEGIN:VEVENT
UID:16760007@ezleagues.ezfacility.com
DTSTAMP:20260422T082740Z
CREATED:20260422T082740Z
DTSTART:20251021T235000Z
DTEND:20251022T004000Z
LOCATION:Indoor Field
CONTACT:
SUMMARY:Matadors - Gray VS. East Texas United SC 16B
DESCRIPTION:League Name: 2014/2015 Premier Fall 2025\nGame Type: Regular\nG
 ame Status: Complete\nHome Team: Matadors - Gray\nAway Team: East Texas Un
 ited SC 16B\nHome Score: 5\nAway Score: 23
END:VEVENT
BEGIN:VEVENT
UID:16760013@ezleagues.ezfacility.com
DTSTAMP:20260422T082740Z
CREATED:20260422T082740Z
DTSTART:20251027T230000Z
DTEND:20251027T235000Z
LOCATION:Indoor Field
CONTACT:
SUMMARY:Matadors - Gray VS. Spartans FC
DESCRIPTION:League Name: 2014/2015 Premier Fall 2025\nGame Type: Regular\nG
 ame Status: Complete\nHome Team: Matadors - Gray\nAway Team: Spartans FC\n
 Home Score: 5\nAway Score: 10
END:VEVENT
BEGIN:VEVENT
UID:16760044@ezleagues.ezfacility.com
DTSTAMP:20260422T082740Z
CREATED:20260422T082740Z
DTSTART:20251104T005000Z
DTEND:20251104T014000Z
LOCATION:Outdoor Field
CONTACT:
SUMMARY:Matadors - Gray VS. EP-FC-A
DESCRIPTION:League Name: 2014/2015 Premier Fall 2025\nGame Type: Regular\nG
 ame Status: Complete\nHome Team: Matadors - Gray\nAway Team: EP-FC-A\nHome
  Score: 3\nAway Score: 22
END:VEVENT
BEGIN:VEVENT
UID:16760025@ezleagues.ezfacility.com
DTSTAMP:20260422T082740Z
CREATED:20260422T082740Z
DTSTART:20251111T005000Z
DTEND:20251111T014000Z
LOCATION:Indoor Field
CONTACT:
SUMMARY:Matadors - Gray VS. Marshall Fc
DESCRIPTION:League Name: 2014/2015 Premier Fall 2025\nGame Type: Regular\nG
 ame Status: Complete\nHome Team: Matadors - Gray\nAway Team: Marshall Fc\n
 Home Score: 4\nAway Score: 11
END:VEVENT
BEGIN:VEVENT
UID:16760031@ezleagues.ezfacility.com
DTSTAMP:20260422T082740Z
CREATED:20260422T082740Z
DTSTART:20251118T000000Z
DTEND:20251118T005000Z
LOCATION:Indoor Field
CONTACT:
SUMMARY:La Seleccion  VS. Matadors - Gray
DESCRIPTION:League Name: 2014/2015 Premier Fall 2025\nGame Type: Regular\nG
 ame Status: Complete\nHome Team: La Seleccion \nAway Team: Matadors - Gray
 \nHome Score: 9\nAway Score: 13
END:VEVENT
BEGIN:VEVENT
UID:16765717@ezleagues.ezfacility.com
DTSTAMP:20260422T082740Z
CREATED:20260422T082740Z
DTSTART:20251202T005000Z
DTEND:20251202T014000Z
LOCATION:Indoor Field
CONTACT:
SUMMARY:Matadors - Gray VS. Pink Fluffy Unicorns
DESCRIPTION:League Name: 2014/2015 Premier Fall 2025\nGame Type: Regular\nG
 ame Status: Complete\nHome Team: Matadors - Gray\nAway Team: Pink Fluffy U
 nicorns\nHome Score: 1\nAway Score: 19
END:VEVENT
END:VCALENDAR
