BEGIN:VCALENDAR
VERSION:2.0
PRODID:-//EZFacility.com, Inc.//EZL 2.5.5.28621
BEGIN:VEVENT
UID:16785795@ezleagues.ezfacility.com
DTSTAMP:20260426T033748Z
CREATED:20260426T033748Z
DTSTART:20251024T011000Z
DTEND:20251024T022000Z
LOCATION:Rink
CONTACT:
SUMMARY:Ice Hawks VS. Swans
DESCRIPTION:League Name: 2025-26 B-League\nGame Type: Regular\nGame Status:
  Complete\nHome Team: Ice Hawks\nAway Team: Swans\nHome Score: 10\nAway Sc
 ore: 2
END:VEVENT
BEGIN:VEVENT
UID:16785797@ezleagues.ezfacility.com
DTSTAMP:20260426T033748Z
CREATED:20260426T033748Z
DTSTART:20251031T011000Z
DTEND:20251031T022000Z
LOCATION:Rink
CONTACT:
SUMMARY:Swans VS. Woodies
DESCRIPTION:League Name: 2025-26 B-League\nGame Type: Regular\nGame Status:
  Complete\nHome Team: Swans\nAway Team: Woodies\nHome Score: 2\nAway Score
 : 10
END:VEVENT
BEGIN:VEVENT
UID:16785798@ezleagues.ezfacility.com
DTSTAMP:20260426T033748Z
CREATED:20260426T033748Z
DTSTART:20251107T005000Z
DTEND:20251107T020000Z
LOCATION:Rink
CONTACT:
SUMMARY:New England truck center VS. Swans
DESCRIPTION:League Name: 2025-26 B-League\nGame Type: Regular\nGame Status:
  Complete\nHome Team: New England truck center\nAway Team: Swans\nHome Sco
 re: 5\nAway Score: 5
END:VEVENT
BEGIN:VEVENT
UID:16785801@ezleagues.ezfacility.com
DTSTAMP:20260426T033748Z
CREATED:20260426T033748Z
DTSTART:20251114T005000Z
DTEND:20251114T020000Z
LOCATION:Rink
CONTACT:
SUMMARY:Ice Hawks VS. Swans
DESCRIPTION:League Name: 2025-26 B-League\nGame Type: Regular\nGame Status:
  Complete\nHome Team: Ice Hawks\nAway Team: Swans\nHome Score: 13\nAway Sc
 ore: 0
END:VEVENT
BEGIN:VEVENT
UID:16785803@ezleagues.ezfacility.com
DTSTAMP:20260426T033748Z
CREATED:20260426T033748Z
DTSTART:20251121T005000Z
DTEND:20251121T020000Z
LOCATION:Rink
CONTACT:
SUMMARY:Swans VS. Woodies
DESCRIPTION:League Name: 2025-26 B-League\nGame Type: Regular\nGame Status:
  Complete\nHome Team: Swans\nAway Team: Woodies\nHome Score: 2\nAway Score
 : 7
END:VEVENT
BEGIN:VEVENT
UID:16785807@ezleagues.ezfacility.com
DTSTAMP:20260426T033748Z
CREATED:20260426T033748Z
DTSTART:20251205T021000Z
DTEND:20251205T032000Z
LOCATION:Rink
CONTACT:
SUMMARY:Ice Hawks VS. Swans
DESCRIPTION:League Name: 2025-26 B-League\nGame Type: Regular\nGame Status:
  Complete\nHome Team: Ice Hawks\nAway Team: Swans\nHome Score: 9\nAway Sco
 re: 4
END:VEVENT
BEGIN:VEVENT
UID:16785809@ezleagues.ezfacility.com
DTSTAMP:20260426T033748Z
CREATED:20260426T033748Z
DTSTART:20251212T021000Z
DTEND:20251212T032000Z
LOCATION:Rink
CONTACT:
SUMMARY:Swans VS. Woodies
DESCRIPTION:League Name: 2025-26 B-League\nGame Type: Regular\nGame Status:
  Complete\nHome Team: Swans\nAway Team: Woodies\nHome Score: 1\nAway Score
 : 8
END:VEVENT
BEGIN:VEVENT
UID:16785810@ezleagues.ezfacility.com
DTSTAMP:20260426T033748Z
CREATED:20260426T033748Z
DTSTART:20251219T005000Z
DTEND:20251219T020000Z
LOCATION:Rink
CONTACT:
SUMMARY:New England truck center VS. Swans
DESCRIPTION:League Name: 2025-26 B-League\nGame Type: Regular\nGame Status:
  Complete\nHome Team: New England truck center\nAway Team: Swans\nHome Sco
 re: 6\nAway Score: 1
END:VEVENT
BEGIN:VEVENT
UID:16785816@ezleagues.ezfacility.com
DTSTAMP:20260426T033748Z
CREATED:20260426T033748Z
DTSTART:20260109T021000Z
DTEND:20260109T032000Z
LOCATION:Rink
CONTACT:
SUMMARY:Swans VS. New England truck center
DESCRIPTION:League Name: 2025-26 B-League\nGame Type: Regular\nGame Status:
  Complete\nHome Team: Swans\nAway Team: New England truck center\nHome Sco
 re: 3\nAway Score: 12
END:VEVENT
BEGIN:VEVENT
UID:16785819@ezleagues.ezfacility.com
DTSTAMP:20260426T033748Z
CREATED:20260426T033748Z
DTSTART:20260116T021000Z
DTEND:20260116T032000Z
LOCATION:Rink
CONTACT:
SUMMARY:Swans VS. Ice Hawks
DESCRIPTION:League Name: 2025-26 B-League\nGame Type: Regular\nGame Status:
  Complete\nHome Team: Swans\nAway Team: Ice Hawks\nHome Score: 2\nAway Sco
 re: 8
END:VEVENT
BEGIN:VEVENT
UID:16785821@ezleagues.ezfacility.com
DTSTAMP:20260426T033748Z
CREATED:20260426T033748Z
DTSTART:20260123T021000Z
DTEND:20260123T032000Z
LOCATION:Rink
CONTACT:
SUMMARY:Woodies VS. Swans
DESCRIPTION:League Name: 2025-26 B-League\nGame Type: Regular\nGame Status:
  Complete\nHome Team: Woodies\nAway Team: Swans\nHome Score: 5\nAway Score
 : 7
END:VEVENT
BEGIN:VEVENT
UID:16785822@ezleagues.ezfacility.com
DTSTAMP:20260426T033748Z
CREATED:20260426T033748Z
DTSTART:20260130T005000Z
DTEND:20260130T020000Z
LOCATION:Rink
CONTACT:
SUMMARY:Swans VS. New England truck center
DESCRIPTION:League Name: 2025-26 B-League\nGame Type: Regular\nGame Status:
  Complete\nHome Team: Swans\nAway Team: New England truck center\nHome Sco
 re: 1\nAway Score: 14
END:VEVENT
BEGIN:VEVENT
UID:16785825@ezleagues.ezfacility.com
DTSTAMP:20260426T033748Z
CREATED:20260426T033748Z
DTSTART:20260206T005000Z
DTEND:20260206T020000Z
LOCATION:Rink
CONTACT:
SUMMARY:Swans VS. Ice Hawks
DESCRIPTION:League Name: 2025-26 B-League\nGame Type: Regular\nGame Status:
  Complete\nHome Team: Swans\nAway Team: Ice Hawks\nHome Score: 0\nAway Sco
 re: 8
END:VEVENT
BEGIN:VEVENT
UID:16785827@ezleagues.ezfacility.com
DTSTAMP:20260426T033748Z
CREATED:20260426T033748Z
DTSTART:20260213T005000Z
DTEND:20260213T020000Z
LOCATION:Rink
CONTACT:
SUMMARY:Woodies VS. Swans
DESCRIPTION:League Name: 2025-26 B-League\nGame Type: Regular\nGame Status:
  Complete\nHome Team: Woodies\nAway Team: Swans\nHome Score: 4\nAway Score
 : 1
END:VEVENT
BEGIN:VEVENT
UID:16785828@ezleagues.ezfacility.com
DTSTAMP:20260426T033748Z
CREATED:20260426T033748Z
DTSTART:20260220T021000Z
DTEND:20260220T032000Z
LOCATION:Rink
CONTACT:
SUMMARY:Swans VS. New England truck center
DESCRIPTION:League Name: 2025-26 B-League\nGame Type: Regular\nGame Status:
  Complete\nHome Team: Swans\nAway Team: New England truck center\nHome Sco
 re: 0\nAway Score: 13
END:VEVENT
BEGIN:VEVENT
UID:16785815@ezleagues.ezfacility.com
DTSTAMP:20260426T033748Z
CREATED:20260426T033748Z
DTSTART:20260225T012000Z
DTEND:20260225T023000Z
LOCATION:Rink
CONTACT:
SUMMARY:Woodies VS. Swans
DESCRIPTION:League Name: 2025-26 B-League\nGame Type: Regular\nGame Status:
  Complete\nHome Team: Woodies\nAway Team: Swans\nHome Score: 8\nAway Score
 : 7
END:VEVENT
BEGIN:VEVENT
UID:16785813@ezleagues.ezfacility.com
DTSTAMP:20260426T033748Z
CREATED:20260426T033748Z
DTSTART:20260227T005000Z
DTEND:20260227T020000Z
LOCATION:Rink
CONTACT:
SUMMARY:Swans VS. Ice Hawks
DESCRIPTION:League Name: 2025-26 B-League\nGame Type: Regular\nGame Status:
  Complete\nHome Team: Swans\nAway Team: Ice Hawks\nHome Score: 3\nAway Sco
 re: 8
END:VEVENT
BEGIN:VEVENT
UID:16785804@ezleagues.ezfacility.com
DTSTAMP:20260426T033748Z
CREATED:20260426T033748Z
DTSTART:20260306T021000Z
DTEND:20260306T032000Z
LOCATION:Rink
CONTACT:
SUMMARY:New England truck center VS. Swans
DESCRIPTION:League Name: 2025-26 B-League\nGame Type: Regular\nGame Status:
  Complete\nHome Team: New England truck center\nAway Team: Swans\nHome Sco
 re: 13\nAway Score: 3
END:VEVENT
BEGIN:VEVENT
UID:17048883@ezleagues.ezfacility.com
DTSTAMP:20260426T033748Z
CREATED:20260426T033748Z
DTSTART:20260312T235000Z
DTEND:20260313T010000Z
LOCATION:Rink
CONTACT:
SUMMARY:Ice Hawks VS. Swans
DESCRIPTION:League Name: 2025-26 B-League\nGame Type: Exhibition\nGame Stat
 us: Complete\nHome Team: Ice Hawks\nAway Team: Swans\nHome Score: 8\nAway 
 Score: 0
END:VEVENT
END:VCALENDAR
