BEGIN:VCALENDAR
VERSION:2.0
PRODID:-//EZFacility.com, Inc.//EZL 2.5.5.28621
BEGIN:VEVENT
UID:16766422@ezleagues.ezfacility.com
DTSTAMP:20260421T031257Z
CREATED:20260421T031257Z
DTSTART:20251021T233000Z
DTEND:20251022T001500Z
LOCATION:Gymnasium (CFHL)
CONTACT:
SUMMARY:FutMed VS. Omaha Rugrats
DESCRIPTION:League Name: Futsal Second Session\nGame Type: Regular\nGame St
 atus: Complete\nHome Team: FutMed\nAway Team: Omaha Rugrats\nHome Score: 3
 \nAway Score: 5
END:VEVENT
BEGIN:VEVENT
UID:16766427@ezleagues.ezfacility.com
DTSTAMP:20260421T031257Z
CREATED:20260421T031257Z
DTSTART:20251028T224500Z
DTEND:20251028T233000Z
LOCATION:Gymnasium (CFHL)
CONTACT:
SUMMARY:Hungry Hungry HIPAAS VS. FutMed
DESCRIPTION:League Name: Futsal Second Session\nGame Type: Regular\nGame St
 atus: Complete\nHome Team: Hungry Hungry HIPAAS\nAway Team: FutMed\nHome S
 core: 5\nAway Score: 4
END:VEVENT
BEGIN:VEVENT
UID:16766431@ezleagues.ezfacility.com
DTSTAMP:20260421T031257Z
CREATED:20260421T031257Z
DTSTART:20251105T011500Z
DTEND:20251105T020000Z
LOCATION:Gymnasium (CFHL)
CONTACT:
SUMMARY:Eppley Kickers VS. FutMed
DESCRIPTION:League Name: Futsal Second Session\nGame Type: Regular\nGame St
 atus: Complete\nHome Team: Eppley Kickers\nAway Team: FutMed\nHome Score: 
 2\nAway Score: 6
END:VEVENT
BEGIN:VEVENT
UID:16766434@ezleagues.ezfacility.com
DTSTAMP:20260421T031257Z
CREATED:20260421T031257Z
DTSTART:20251112T011500Z
DTEND:20251112T020000Z
LOCATION:Gymnasium (CFHL)
CONTACT:
SUMMARY:FutMed VS. Hernihoes
DESCRIPTION:League Name: Futsal Second Session\nGame Type: Regular\nGame St
 atus: Complete\nHome Team: FutMed\nAway Team: Hernihoes\nHome Score: 4\nAw
 ay Score: 8
END:VEVENT
BEGIN:VEVENT
UID:16766445@ezleagues.ezfacility.com
DTSTAMP:20260421T031257Z
CREATED:20260421T031257Z
DTSTART:20251119T020000Z
DTEND:20251119T024500Z
LOCATION:Gymnasium (CFHL)
CONTACT:
SUMMARY:FutMed VS. Feet Pics
DESCRIPTION:League Name: Futsal Second Session\nGame Type: Regular\nGame St
 atus: Complete\nHome Team: FutMed\nAway Team: Feet Pics\nHome Score: 4\nAw
 ay Score: 2
END:VEVENT
BEGIN:VEVENT
UID:16766440@ezleagues.ezfacility.com
DTSTAMP:20260421T031257Z
CREATED:20260421T031257Z
DTSTART:20251125T234500Z
DTEND:20251126T003000Z
LOCATION:Gymnasium (CFHL)
CONTACT:
SUMMARY:Ball of Duty VS. FutMed
DESCRIPTION:League Name: Futsal Second Session\nGame Type: Regular\nGame St
 atus: Complete\nHome Team: Ball of Duty\nAway Team: FutMed\nHome Score: 5\
 nAway Score: 4
END:VEVENT
END:VCALENDAR
