BEGIN:VCALENDAR
VERSION:2.0
PRODID:-//EZFacility.com, Inc.//EZL 2.5.5.28621
BEGIN:VEVENT
UID:16836827@ezleagues.ezfacility.com
DTSTAMP:20260425T130117Z
CREATED:20260425T130117Z
DTSTART:20251108T180000Z
DTEND:20251108T190000Z
LOCATION:SAC Main Court
CONTACT:
SUMMARY:Ball Boyz (Kasey) VS. Hwy 7 Chiropractic Hoyas (Ditzenberger)
DESCRIPTION:League Name: Agape Hoops High School Boys Winter I Rec League\n
 Game Type: Regular\nGame Status: Complete\nHome Team: Ball Boyz (Kasey)\nA
 way Team: Hwy 7 Chiropractic Hoyas (Ditzenberger)\nHome Score: 46\nAway Sc
 ore: 37
END:VEVENT
BEGIN:VEVENT
UID:16836836@ezleagues.ezfacility.com
DTSTAMP:20260425T130117Z
CREATED:20260425T130117Z
DTSTART:20251115T150000Z
DTEND:20251115T160000Z
LOCATION:SAC Main Court
CONTACT:
SUMMARY:The Chosen Elite (Ziegenhorn) VS. Ball Boyz (Kasey)
DESCRIPTION:League Name: Agape Hoops High School Boys Winter I Rec League\n
 Game Type: Regular\nGame Status: Complete\nHome Team: The Chosen Elite (Zi
 egenhorn)\nAway Team: Ball Boyz (Kasey)\nHome Score: 30\nAway Score: 69
END:VEVENT
BEGIN:VEVENT
UID:16836873@ezleagues.ezfacility.com
DTSTAMP:20260425T130117Z
CREATED:20260425T130117Z
DTSTART:20251122T170000Z
DTEND:20251122T180000Z
LOCATION:SAC Main Court
CONTACT:
SUMMARY:Ball Boyz (Kasey) VS. LeBronda Academy (Jobe)
DESCRIPTION:League Name: Agape Hoops High School Boys Winter I Rec League\n
 Game Type: Regular\nGame Status: Complete\nHome Team: Ball Boyz (Kasey)\nA
 way Team: LeBronda Academy (Jobe)\nHome Score: 57\nAway Score: 38
END:VEVENT
BEGIN:VEVENT
UID:16836879@ezleagues.ezfacility.com
DTSTAMP:20260425T130117Z
CREATED:20260425T130117Z
DTSTART:20251206T150000Z
DTEND:20251206T160000Z
LOCATION:SAC Main Court
CONTACT:
SUMMARY:Ball Boyz (Kasey) VS. Alley Oops (Hotop)
DESCRIPTION:League Name: Agape Hoops High School Boys Winter I Rec League\n
 Game Type: Regular\nGame Status: Complete\nHome Team: Ball Boyz (Kasey)\nA
 way Team: Alley Oops (Hotop)\nHome Score: 97\nAway Score: 52
END:VEVENT
BEGIN:VEVENT
UID:16836898@ezleagues.ezfacility.com
DTSTAMP:20260425T130117Z
CREATED:20260425T130117Z
DTSTART:20251213T190000Z
DTEND:20251213T200000Z
LOCATION:SAC Main Court
CONTACT:
SUMMARY:Ball Boyz (Kasey) VS. Pink Panthers (Arnold)
DESCRIPTION:League Name: Agape Hoops High School Boys Winter I Rec League\n
 Game Type: Regular\nGame Status: Complete\nHome Team: Ball Boyz (Kasey)\nA
 way Team: Pink Panthers (Arnold)\nHome Score: 56\nAway Score: 40
END:VEVENT
BEGIN:VEVENT
UID:16836906@ezleagues.ezfacility.com
DTSTAMP:20260425T130117Z
CREATED:20260425T130117Z
DTSTART:20251220T180000Z
DTEND:20251220T190000Z
LOCATION:SAC Main Court
CONTACT:
SUMMARY:Ball Boyz (Kasey) VS. Blinking Ballers (McCann)
DESCRIPTION:League Name: Agape Hoops High School Boys Winter I Rec League\n
 Game Type: Regular\nGame Status: Complete\nHome Team: Ball Boyz (Kasey)\nA
 way Team: Blinking Ballers (McCann)\nHome Score: 37\nAway Score: 39
END:VEVENT
BEGIN:VEVENT
UID:16836913@ezleagues.ezfacility.com
DTSTAMP:20260425T130117Z
CREATED:20260425T130117Z
DTSTART:20260110T150000Z
DTEND:20260110T160000Z
LOCATION:SAC Main Court
CONTACT:
SUMMARY:Ball Boyz (Kasey) VS. Prime Elite (Tritz)
DESCRIPTION:League Name: Agape Hoops High School Boys Winter I Rec League\n
 Game Type: Regular\nGame Status: Complete\nHome Team: Ball Boyz (Kasey)\nA
 way Team: Prime Elite (Tritz)\nHome Score: 45\nAway Score: 43
END:VEVENT
BEGIN:VEVENT
UID:16836925@ezleagues.ezfacility.com
DTSTAMP:20260425T130117Z
CREATED:20260425T130117Z
DTSTART:20260117T160000Z
DTEND:20260117T170000Z
LOCATION:SAC Main Court
CONTACT:
SUMMARY:Ball Boyz (Kasey) VS. West Side Girls Elite (Conlon)
DESCRIPTION:League Name: Agape Hoops High School Boys Winter I Rec League\n
 Game Type: Regular\nGame Status: Complete\nHome Team: Ball Boyz (Kasey)\nA
 way Team: West Side Girls Elite (Conlon)\nHome Score: 31\nAway Score: 39
END:VEVENT
END:VCALENDAR
