BEGIN:VCALENDAR
VERSION:2.0
PRODID:-//EZFacility.com, Inc.//EZL 2.5.5.28621
BEGIN:VEVENT
UID:16772612@ezleagues.ezfacility.com
DTSTAMP:20260424T041415Z
CREATED:20260424T041415Z
DTSTART:20251003T015000Z
DTEND:20251003T024500Z
LOCATION:PFFC Field House - B
CONTACT:
SUMMARY:Ginyu Force (Purple) VS. Washed Up FC
DESCRIPTION:League Name: MSL Fall 2025 - Men's Wed/Thurs Div 4\nGame Type: 
 Regular\nGame Status: Complete\nHome Team: Ginyu Force (Purple)\nAway Team
 : Washed Up FC\nHome Score: 3\nAway Score: 1
END:VEVENT
BEGIN:VEVENT
UID:16772611@ezleagues.ezfacility.com
DTSTAMP:20260424T041415Z
CREATED:20260424T041415Z
DTSTART:20251009T005500Z
DTEND:20251009T015000Z
LOCATION:PFFC Field House - A
CONTACT:
SUMMARY:Atletico Mauritius F VS. Ginyu Force (Purple)
DESCRIPTION:League Name: MSL Fall 2025 - Men's Wed/Thurs Div 4\nGame Type: 
 Regular\nGame Status: Complete\nHome Team: Atletico Mauritius F\nAway Team
 : Ginyu Force (Purple)\nHome Score: 1\nAway Score: 4
END:VEVENT
BEGIN:VEVENT
UID:16772275@ezleagues.ezfacility.com
DTSTAMP:20260424T041415Z
CREATED:20260424T041415Z
DTSTART:20251017T000500Z
DTEND:20251017T010000Z
LOCATION:PFFC Field House - A
CONTACT:
SUMMARY:Ginyu Force (Purple) VS. NorthSide Shooters (Red)
DESCRIPTION:League Name: MSL Fall 2025 - Men's Wed/Thurs Div 4\nGame Type: 
 Regular\nGame Status: Complete\nHome Team: Ginyu Force (Purple)\nAway Team
 : NorthSide Shooters (Red)\nHome Score: 1\nAway Score: 5
END:VEVENT
BEGIN:VEVENT
UID:16772299@ezleagues.ezfacility.com
DTSTAMP:20260424T041415Z
CREATED:20260424T041415Z
DTSTART:20251022T233000Z
DTEND:20251023T002500Z
LOCATION:PFFC Field House - A
CONTACT:
SUMMARY:Ginyu Force (Purple) VS. FC Revolution (Green)
DESCRIPTION:League Name: MSL Fall 2025 - Men's Wed/Thurs Div 4\nGame Type: 
 Regular\nGame Status: Complete\nHome Team: Ginyu Force (Purple)\nAway Team
 : FC Revolution (Green)\nHome Score: 4\nAway Score: 5
END:VEVENT
BEGIN:VEVENT
UID:16772324@ezleagues.ezfacility.com
DTSTAMP:20260424T041415Z
CREATED:20260424T041415Z
DTSTART:20251030T000500Z
DTEND:20251030T010000Z
LOCATION:PFFC Field House - B
CONTACT:
SUMMARY:Ginyu Force (Purple) VS. Red Utd (Red)
DESCRIPTION:League Name: MSL Fall 2025 - Men's Wed/Thurs Div 4\nGame Type: 
 Regular\nGame Status: Complete\nHome Team: Ginyu Force (Purple)\nAway Team
 : Red Utd (Red)\nHome Score: 1\nAway Score: 0
END:VEVENT
BEGIN:VEVENT
UID:16772346@ezleagues.ezfacility.com
DTSTAMP:20260424T041415Z
CREATED:20260424T041415Z
DTSTART:20251106T035500Z
DTEND:20251106T045000Z
LOCATION:PFFC Dome - 4
CONTACT:
SUMMARY:Tilted FC (Purple) VS. Ginyu Force (Purple)
DESCRIPTION:League Name: MSL Fall 2025 - Men's Wed/Thurs Div 4\nGame Type: 
 Regular\nGame Status: Complete\nHome Team: Tilted FC (Purple)\nAway Team: 
 Ginyu Force (Purple)\nHome Score: 3\nAway Score: 0
END:VEVENT
BEGIN:VEVENT
UID:16772370@ezleagues.ezfacility.com
DTSTAMP:20260424T041415Z
CREATED:20260424T041415Z
DTSTART:20251114T035500Z
DTEND:20251114T045000Z
LOCATION:PFFC Field House - C
CONTACT:
SUMMARY:Ginyu Force (Purple) VS. The Bacalhau Boys (Red)
DESCRIPTION:League Name: MSL Fall 2025 - Men's Wed/Thurs Div 4\nGame Type: 
 Regular\nGame Status: Complete\nHome Team: Ginyu Force (Purple)\nAway Team
 : The Bacalhau Boys (Red)\nHome Score: 5\nAway Score: 2
END:VEVENT
BEGIN:VEVENT
UID:16772391@ezleagues.ezfacility.com
DTSTAMP:20260424T041415Z
CREATED:20260424T041415Z
DTSTART:20251121T020500Z
DTEND:20251121T030000Z
LOCATION:PFFC Dome - 4
CONTACT:
SUMMARY:Ginyu Force (Purple) VS. NorthSide Shooters (Red)
DESCRIPTION:League Name: MSL Fall 2025 - Men's Wed/Thurs Div 4\nGame Type: 
 Regular\nGame Status: Complete\nHome Team: Ginyu Force (Purple)\nAway Team
 : NorthSide Shooters (Red)\nHome Score: 1\nAway Score: 6
END:VEVENT
BEGIN:VEVENT
UID:16772416@ezleagues.ezfacility.com
DTSTAMP:20260424T041415Z
CREATED:20260424T041415Z
DTSTART:20251127T035500Z
DTEND:20251127T045000Z
LOCATION:PFFC Dome - 4
CONTACT:
SUMMARY:Ginyu Force (Purple) VS. FC Internazionale (Blue/Black Stripe)
DESCRIPTION:League Name: MSL Fall 2025 - Men's Wed/Thurs Div 4\nGame Type: 
 Regular\nGame Status: Complete\nHome Team: Ginyu Force (Purple)\nAway Team
 : FC Internazionale (Blue/Black Stripe)\nHome Score: 3\nAway Score: 4
END:VEVENT
BEGIN:VEVENT
UID:16772438@ezleagues.ezfacility.com
DTSTAMP:20260424T041415Z
CREATED:20260424T041415Z
DTSTART:20251205T030000Z
DTEND:20251205T035500Z
LOCATION:PFFC Dome - 4
CONTACT:
SUMMARY:Goalfathers FC (Blue/White Stripes) VS. Ginyu Force (Purple)
DESCRIPTION:League Name: MSL Fall 2025 - Men's Wed/Thurs Div 4\nGame Type: 
 Regular\nGame Status: Complete\nHome Team: Goalfathers FC (Blue/White Stri
 pes)\nAway Team: Ginyu Force (Purple)\nHome Score: 5\nAway Score: 5
END:VEVENT
BEGIN:VEVENT
UID:16772460@ezleagues.ezfacility.com
DTSTAMP:20260424T041415Z
CREATED:20260424T041415Z
DTSTART:20251211T030000Z
DTEND:20251211T035500Z
LOCATION:PFFC Dome - 4
CONTACT:
SUMMARY:FC Revolution (Green) VS. Ginyu Force (Purple)
DESCRIPTION:League Name: MSL Fall 2025 - Men's Wed/Thurs Div 4\nGame Type: 
 Regular\nGame Status: Complete\nHome Team: FC Revolution (Green)\nAway Tea
 m: Ginyu Force (Purple)\nHome Score: 1\nAway Score: 3
END:VEVENT
BEGIN:VEVENT
UID:16772485@ezleagues.ezfacility.com
DTSTAMP:20260424T041415Z
CREATED:20260424T041415Z
DTSTART:20251219T020500Z
DTEND:20251219T030000Z
LOCATION:PFFC Dome - 4
CONTACT:
SUMMARY:Red Utd (Red) VS. Ginyu Force (Purple)
DESCRIPTION:League Name: MSL Fall 2025 - Men's Wed/Thurs Div 4\nGame Type: 
 Regular\nGame Status: Complete\nHome Team: Red Utd (Red)\nAway Team: Ginyu
  Force (Purple)\nHome Score: 0\nAway Score: 5
END:VEVENT
BEGIN:VEVENT
UID:16772507@ezleagues.ezfacility.com
DTSTAMP:20260424T041415Z
CREATED:20260424T041415Z
DTSTART:20260108T031500Z
DTEND:20260108T041000Z
LOCATION:PFFC Field House - D
CONTACT:
SUMMARY:Tilted FC (Purple) VS. Ginyu Force (Purple)
DESCRIPTION:League Name: MSL Fall 2025 - Men's Wed/Thurs Div 4\nGame Type: 
 Regular\nGame Status: Complete\nHome Team: Tilted FC (Purple)\nAway Team: 
 Ginyu Force (Purple)\nHome Score: 3\nAway Score: 0
END:VEVENT
BEGIN:VEVENT
UID:16893354@ezleagues.ezfacility.com
DTSTAMP:20260424T041415Z
CREATED:20260424T041415Z
DTSTART:20260116T035500Z
DTEND:20260116T045000Z
LOCATION:PFFC Field House - D
CONTACT:
SUMMARY:Tilted FC (Purple) VS. Ginyu Force (Purple)
DESCRIPTION:League Name: MSL Fall 2025 - Men's Wed/Thurs Div 4\nGame Type: 
 Postseason\nGame Status: Complete\nHome Team: Tilted FC (Purple)\nAway Tea
 m: Ginyu Force (Purple)\nHome Score: 2\nAway Score: 3
END:VEVENT
BEGIN:VEVENT
UID:16893357@ezleagues.ezfacility.com
DTSTAMP:20260424T041415Z
CREATED:20260424T041415Z
DTSTART:20260122T020500Z
DTEND:20260122T030000Z
LOCATION:PFFC Dome - 3
CONTACT:
SUMMARY:NorthSide Shooters (Red) VS. Ginyu Force (Purple)
DESCRIPTION:League Name: MSL Fall 2025 - Men's Wed/Thurs Div 4\nGame Type: 
 Postseason\nGame Status: Complete\nHome Team: NorthSide Shooters (Red)\nAw
 ay Team: Ginyu Force (Purple)\nHome Score: 6\nAway Score: 3
END:VEVENT
END:VCALENDAR
