BEGIN:VCALENDAR
VERSION:2.0
PRODID:-//EZFacility.com, Inc.//EZL 2.5.5.28621
BEGIN:VEVENT
UID:16788842@ezleagues.ezfacility.com
DTSTAMP:20260424T044316Z
CREATED:20260424T044316Z
DTSTART:20251023T031500Z
DTEND:20251023T041500Z
LOCATION:Field 1
CONTACT:
SUMMARY:BoD VS. Foul play
DESCRIPTION:League Name: 2025 S6 Wed Rec Men's- Oct.22\nGame Type: Regular\
 nGame Status: Complete\nHome Team: BoD\nAway Team: Foul play\nHome Score: 
 12\nAway Score: 17
END:VEVENT
BEGIN:VEVENT
UID:16788843@ezleagues.ezfacility.com
DTSTAMP:20260424T044316Z
CREATED:20260424T044316Z
DTSTART:20251023T041500Z
DTEND:20251023T051500Z
LOCATION:Field 1
CONTACT:
SUMMARY:Foul play VS. BoD
DESCRIPTION:League Name: 2025 S6 Wed Rec Men's- Oct.22\nGame Type: Regular\
 nGame Status: Complete\nHome Team: Foul play\nAway Team: BoD\nHome Score: 
 13\nAway Score: 12
END:VEVENT
BEGIN:VEVENT
UID:16788856@ezleagues.ezfacility.com
DTSTAMP:20260424T044316Z
CREATED:20260424T044316Z
DTSTART:20251030T011500Z
DTEND:20251030T021500Z
LOCATION:Field 5
CONTACT:
SUMMARY:Mavericks VS. Foul play
DESCRIPTION:League Name: 2025 S6 Wed Rec Men's- Oct.22\nGame Type: Regular\
 nGame Status: Complete\nHome Team: Mavericks\nAway Team: Foul play\nHome S
 core: 7\nAway Score: 13
END:VEVENT
BEGIN:VEVENT
UID:16788857@ezleagues.ezfacility.com
DTSTAMP:20260424T044316Z
CREATED:20260424T044316Z
DTSTART:20251030T021500Z
DTEND:20251030T031500Z
LOCATION:Field 5
CONTACT:
SUMMARY:Foul play VS. Mavericks
DESCRIPTION:League Name: 2025 S6 Wed Rec Men's- Oct.22\nGame Type: Regular\
 nGame Status: Complete\nHome Team: Foul play\nAway Team: Mavericks\nHome S
 core: 19\nAway Score: 13
END:VEVENT
BEGIN:VEVENT
UID:16788864@ezleagues.ezfacility.com
DTSTAMP:20260424T044316Z
CREATED:20260424T044316Z
DTSTART:20251106T031500Z
DTEND:20251106T041500Z
LOCATION:Field 6
CONTACT:
SUMMARY:Foul play VS. Southern Discomfort
DESCRIPTION:League Name: 2025 S6 Wed Rec Men's- Oct.22\nGame Type: Regular\
 nGame Status: Complete\nHome Team: Foul play\nAway Team: Southern Discomfo
 rt\nHome Score: 11\nAway Score: 9
END:VEVENT
BEGIN:VEVENT
UID:16788865@ezleagues.ezfacility.com
DTSTAMP:20260424T044316Z
CREATED:20260424T044316Z
DTSTART:20251106T041500Z
DTEND:20251106T051500Z
LOCATION:Field 6
CONTACT:
SUMMARY:Southern Discomfort VS. Foul play
DESCRIPTION:League Name: 2025 S6 Wed Rec Men's- Oct.22\nGame Type: Regular\
 nGame Status: Complete\nHome Team: Southern Discomfort\nAway Team: Foul pl
 ay\nHome Score: 12\nAway Score: 3
END:VEVENT
BEGIN:VEVENT
UID:16788866@ezleagues.ezfacility.com
DTSTAMP:20260424T044316Z
CREATED:20260424T044316Z
DTSTART:20251113T011500Z
DTEND:20251113T021500Z
LOCATION:Field 1
CONTACT:
SUMMARY:Foul play VS. Gotcha B
DESCRIPTION:League Name: 2025 S6 Wed Rec Men's- Oct.22\nGame Type: Regular\
 nGame Status: Complete\nHome Team: Foul play\nAway Team: Gotcha B\nHome Sc
 ore: 11\nAway Score: 12
END:VEVENT
BEGIN:VEVENT
UID:16788867@ezleagues.ezfacility.com
DTSTAMP:20260424T044316Z
CREATED:20260424T044316Z
DTSTART:20251113T021500Z
DTEND:20251113T031500Z
LOCATION:Field 1
CONTACT:
SUMMARY:Gotcha B VS. Foul play
DESCRIPTION:League Name: 2025 S6 Wed Rec Men's- Oct.22\nGame Type: Regular\
 nGame Status: Complete\nHome Team: Gotcha B\nAway Team: Foul play\nHome Sc
 ore: 17\nAway Score: 22
END:VEVENT
BEGIN:VEVENT
UID:16788884@ezleagues.ezfacility.com
DTSTAMP:20260424T044316Z
CREATED:20260424T044316Z
DTSTART:20251127T031500Z
DTEND:20251127T041500Z
LOCATION:Field 1
CONTACT:
SUMMARY:Quit Pitchin VS. Foul play
DESCRIPTION:League Name: 2025 S6 Wed Rec Men's- Oct.22\nGame Type: Regular\
 nGame Status: Complete\nHome Team: Quit Pitchin\nAway Team: Foul play\nHom
 e Score: 12\nAway Score: 5
END:VEVENT
BEGIN:VEVENT
UID:16788885@ezleagues.ezfacility.com
DTSTAMP:20260424T044316Z
CREATED:20260424T044316Z
DTSTART:20251127T041500Z
DTEND:20251127T051500Z
LOCATION:Field 1
CONTACT:
SUMMARY:Foul play VS. Quit Pitchin
DESCRIPTION:League Name: 2025 S6 Wed Rec Men's- Oct.22\nGame Type: Regular\
 nGame Status: Complete\nHome Team: Foul play\nAway Team: Quit Pitchin\nHom
 e Score: 16\nAway Score: 6
END:VEVENT
BEGIN:VEVENT
UID:16788890@ezleagues.ezfacility.com
DTSTAMP:20260424T044316Z
CREATED:20260424T044316Z
DTSTART:20251204T011500Z
DTEND:20251204T021500Z
LOCATION:Field 1
CONTACT:
SUMMARY:GAT PAC VS. Foul play
DESCRIPTION:League Name: 2025 S6 Wed Rec Men's- Oct.22\nGame Type: Regular\
 nGame Status: Complete\nHome Team: GAT PAC\nAway Team: Foul play\nHome Sco
 re: 17\nAway Score: 20
END:VEVENT
BEGIN:VEVENT
UID:16788891@ezleagues.ezfacility.com
DTSTAMP:20260424T044316Z
CREATED:20260424T044316Z
DTSTART:20251204T021500Z
DTEND:20251204T031500Z
LOCATION:Field 1
CONTACT:
SUMMARY:Foul play VS. GAT PAC
DESCRIPTION:League Name: 2025 S6 Wed Rec Men's- Oct.22\nGame Type: Regular\
 nGame Status: Complete\nHome Team: Foul play\nAway Team: GAT PAC\nHome Sco
 re: 17\nAway Score: 10
END:VEVENT
BEGIN:VEVENT
UID:16788880@ezleagues.ezfacility.com
DTSTAMP:20260424T044316Z
CREATED:20260424T044316Z
DTSTART:20251218T031500Z
DTEND:20251218T041500Z
LOCATION:Field 6
CONTACT:
SUMMARY:Foul play VS. Long Woods
DESCRIPTION:League Name: 2025 S6 Wed Rec Men's- Oct.22\nGame Type: Regular\
 nGame Status: Complete\nHome Team: Foul play\nAway Team: Long Woods\nHome 
 Score: 13\nAway Score: 8
END:VEVENT
BEGIN:VEVENT
UID:16788881@ezleagues.ezfacility.com
DTSTAMP:20260424T044316Z
CREATED:20260424T044316Z
DTSTART:20251218T041500Z
DTEND:20251218T051500Z
LOCATION:Field 6
CONTACT:
SUMMARY:Long Woods VS. Foul play
DESCRIPTION:League Name: 2025 S6 Wed Rec Men's- Oct.22\nGame Type: Regular\
 nGame Status: Complete\nHome Team: Long Woods\nAway Team: Foul play\nHome 
 Score: 18\nAway Score: 23
END:VEVENT
BEGIN:VEVENT
UID:16914797@ezleagues.ezfacility.com
DTSTAMP:20260424T044316Z
CREATED:20260424T044316Z
DTSTART:20260108T011500Z
DTEND:20260108T021500Z
LOCATION:Field 5
CONTACT:
SUMMARY:Foul play VS. Bushwood CC
DESCRIPTION:League Name: 2025 S6 Wed Rec Men's- Oct.22\nGame Type: Postseas
 on\nGame Status: Complete\nHome Team: Foul play\nAway Team: Bushwood CC\nH
 ome Score: 16\nAway Score: 7
END:VEVENT
END:VCALENDAR
