BEGIN:VCALENDAR
VERSION:2.0
PRODID:-//EZFacility.com, Inc.//EZL 2.5.5.28621
BEGIN:VEVENT
UID:16788844@ezleagues.ezfacility.com
DTSTAMP:20260424T043945Z
CREATED:20260424T043945Z
DTSTART:20251023T011500Z
DTEND:20251023T021500Z
LOCATION:Field 2
CONTACT:
SUMMARY:GAT PAC VS. Mavericks
DESCRIPTION:League Name: 2025 S6 Wed Rec Men's- Oct.22\nGame Type: Regular\
 nGame Status: Complete\nHome Team: GAT PAC\nAway Team: Mavericks\nHome Sco
 re: 19\nAway Score: 11
END:VEVENT
BEGIN:VEVENT
UID:16788845@ezleagues.ezfacility.com
DTSTAMP:20260424T043945Z
CREATED:20260424T043945Z
DTSTART:20251023T021500Z
DTEND:20251023T031500Z
LOCATION:Field 2
CONTACT:
SUMMARY:Mavericks VS. GAT PAC
DESCRIPTION:League Name: 2025 S6 Wed Rec Men's- Oct.22\nGame Type: Regular\
 nGame Status: Complete\nHome Team: Mavericks\nAway Team: GAT PAC\nHome Sco
 re: 10\nAway Score: 8
END:VEVENT
BEGIN:VEVENT
UID:16788856@ezleagues.ezfacility.com
DTSTAMP:20260424T043945Z
CREATED:20260424T043945Z
DTSTART:20251030T011500Z
DTEND:20251030T021500Z
LOCATION:Field 5
CONTACT:
SUMMARY:Mavericks VS. Foul play
DESCRIPTION:League Name: 2025 S6 Wed Rec Men's- Oct.22\nGame Type: Regular\
 nGame Status: Complete\nHome Team: Mavericks\nAway Team: Foul play\nHome S
 core: 7\nAway Score: 13
END:VEVENT
BEGIN:VEVENT
UID:16788857@ezleagues.ezfacility.com
DTSTAMP:20260424T043945Z
CREATED:20260424T043945Z
DTSTART:20251030T021500Z
DTEND:20251030T031500Z
LOCATION:Field 5
CONTACT:
SUMMARY:Foul play VS. Mavericks
DESCRIPTION:League Name: 2025 S6 Wed Rec Men's- Oct.22\nGame Type: Regular\
 nGame Status: Complete\nHome Team: Foul play\nAway Team: Mavericks\nHome S
 core: 19\nAway Score: 13
END:VEVENT
BEGIN:VEVENT
UID:16788862@ezleagues.ezfacility.com
DTSTAMP:20260424T043945Z
CREATED:20260424T043945Z
DTSTART:20251106T011500Z
DTEND:20251106T021500Z
LOCATION:Field 4
CONTACT:
SUMMARY:Mavericks VS. Bushwood CC
DESCRIPTION:League Name: 2025 S6 Wed Rec Men's- Oct.22\nGame Type: Regular\
 nGame Status: Complete\nHome Team: Mavericks\nAway Team: Bushwood CC\nHome
  Score: 13\nAway Score: 18
END:VEVENT
BEGIN:VEVENT
UID:16788863@ezleagues.ezfacility.com
DTSTAMP:20260424T043945Z
CREATED:20260424T043945Z
DTSTART:20251106T021500Z
DTEND:20251106T031500Z
LOCATION:Field 4
CONTACT:
SUMMARY:Bushwood CC VS. Mavericks
DESCRIPTION:League Name: 2025 S6 Wed Rec Men's- Oct.22\nGame Type: Regular\
 nGame Status: Complete\nHome Team: Bushwood CC\nAway Team: Mavericks\nHome
  Score: 22\nAway Score: 6
END:VEVENT
BEGIN:VEVENT
UID:16788868@ezleagues.ezfacility.com
DTSTAMP:20260424T043945Z
CREATED:20260424T043945Z
DTSTART:20251113T011500Z
DTEND:20251113T021500Z
LOCATION:Field 3
CONTACT:
SUMMARY:Southern Discomfort VS. Mavericks
DESCRIPTION:League Name: 2025 S6 Wed Rec Men's- Oct.22\nGame Type: Regular\
 nGame Status: Complete\nHome Team: Southern Discomfort\nAway Team: Maveric
 ks\nHome Score: 12\nAway Score: 17
END:VEVENT
BEGIN:VEVENT
UID:16788869@ezleagues.ezfacility.com
DTSTAMP:20260424T043945Z
CREATED:20260424T043945Z
DTSTART:20251113T021500Z
DTEND:20251113T031500Z
LOCATION:Field 3
CONTACT:
SUMMARY:Mavericks VS. Southern Discomfort
DESCRIPTION:League Name: 2025 S6 Wed Rec Men's- Oct.22\nGame Type: Regular\
 nGame Status: Complete\nHome Team: Mavericks\nAway Team: Southern Discomfo
 rt\nHome Score: 12\nAway Score: 14
END:VEVENT
BEGIN:VEVENT
UID:16788888@ezleagues.ezfacility.com
DTSTAMP:20260424T043945Z
CREATED:20260424T043945Z
DTSTART:20251127T011500Z
DTEND:20251127T021500Z
LOCATION:Field 4
CONTACT:
SUMMARY:Mavericks VS. BoD
DESCRIPTION:League Name: 2025 S6 Wed Rec Men's- Oct.22\nGame Type: Regular\
 nGame Status: Complete\nHome Team: Mavericks\nAway Team: BoD\nHome Score: 
 5\nAway Score: 14
END:VEVENT
BEGIN:VEVENT
UID:16788889@ezleagues.ezfacility.com
DTSTAMP:20260424T043945Z
CREATED:20260424T043945Z
DTSTART:20251127T021500Z
DTEND:20251127T031500Z
LOCATION:Field 4
CONTACT:
SUMMARY:BoD VS. Mavericks
DESCRIPTION:League Name: 2025 S6 Wed Rec Men's- Oct.22\nGame Type: Regular\
 nGame Status: Complete\nHome Team: BoD\nAway Team: Mavericks\nHome Score: 
 15\nAway Score: 7
END:VEVENT
BEGIN:VEVENT
UID:16788892@ezleagues.ezfacility.com
DTSTAMP:20260424T043945Z
CREATED:20260424T043945Z
DTSTART:20251204T011500Z
DTEND:20251204T021500Z
LOCATION:Field 2
CONTACT:
SUMMARY:Mavericks VS. Gotcha B
DESCRIPTION:League Name: 2025 S6 Wed Rec Men's- Oct.22\nGame Type: Regular\
 nGame Status: Complete\nHome Team: Mavericks\nAway Team: Gotcha B\nHome Sc
 ore: 13\nAway Score: 12
END:VEVENT
BEGIN:VEVENT
UID:16788893@ezleagues.ezfacility.com
DTSTAMP:20260424T043945Z
CREATED:20260424T043945Z
DTSTART:20251204T021500Z
DTEND:20251204T031500Z
LOCATION:Field 2
CONTACT:
SUMMARY:Gotcha B VS. Mavericks
DESCRIPTION:League Name: 2025 S6 Wed Rec Men's- Oct.22\nGame Type: Regular\
 nGame Status: Complete\nHome Team: Gotcha B\nAway Team: Mavericks\nHome Sc
 ore: 12\nAway Score: 9
END:VEVENT
BEGIN:VEVENT
UID:16788898@ezleagues.ezfacility.com
DTSTAMP:20260424T043945Z
CREATED:20260424T043945Z
DTSTART:20251211T011500Z
DTEND:20251211T021500Z
LOCATION:Field 1
CONTACT:
SUMMARY:Mavericks VS. Long Woods
DESCRIPTION:League Name: 2025 S6 Wed Rec Men's- Oct.22\nGame Type: Regular\
 nGame Status: Complete\nHome Team: Mavericks\nAway Team: Long Woods\nHome 
 Score: 17\nAway Score: 16
END:VEVENT
BEGIN:VEVENT
UID:16788899@ezleagues.ezfacility.com
DTSTAMP:20260424T043945Z
CREATED:20260424T043945Z
DTSTART:20251211T021500Z
DTEND:20251211T031500Z
LOCATION:Field 1
CONTACT:
SUMMARY:Long Woods VS. Mavericks
DESCRIPTION:League Name: 2025 S6 Wed Rec Men's- Oct.22\nGame Type: Regular\
 nGame Status: Complete\nHome Team: Long Woods\nAway Team: Mavericks\nHome 
 Score: 13\nAway Score: 24
END:VEVENT
BEGIN:VEVENT
UID:16788874@ezleagues.ezfacility.com
DTSTAMP:20260424T043945Z
CREATED:20260424T043945Z
DTSTART:20251218T011500Z
DTEND:20251218T021500Z
LOCATION:Field 1
CONTACT:
SUMMARY:Mavericks VS. Quit Pitchin
DESCRIPTION:League Name: 2025 S6 Wed Rec Men's- Oct.22\nGame Type: Regular\
 nGame Status: Complete\nHome Team: Mavericks\nAway Team: Quit Pitchin\nHom
 e Score: 16\nAway Score: 7
END:VEVENT
BEGIN:VEVENT
UID:16788875@ezleagues.ezfacility.com
DTSTAMP:20260424T043945Z
CREATED:20260424T043945Z
DTSTART:20251218T021500Z
DTEND:20251218T031500Z
LOCATION:Field 1
CONTACT:
SUMMARY:Quit Pitchin VS. Mavericks
DESCRIPTION:League Name: 2025 S6 Wed Rec Men's- Oct.22\nGame Type: Regular\
 nGame Status: Complete\nHome Team: Quit Pitchin\nAway Team: Mavericks\nHom
 e Score: 7\nAway Score: 17
END:VEVENT
BEGIN:VEVENT
UID:16914799@ezleagues.ezfacility.com
DTSTAMP:20260424T043945Z
CREATED:20260424T043945Z
DTSTART:20260108T011500Z
DTEND:20260108T021500Z
LOCATION:Field 6
CONTACT:
SUMMARY:Mavericks VS. GAT PAC
DESCRIPTION:League Name: 2025 S6 Wed Rec Men's- Oct.22\nGame Type: Postseas
 on\nGame Status: Complete\nHome Team: Mavericks\nAway Team: GAT PAC\nHome 
 Score: 3\nAway Score: 15
END:VEVENT
BEGIN:VEVENT
UID:16914800@ezleagues.ezfacility.com
DTSTAMP:20260424T043945Z
CREATED:20260424T043945Z
DTSTART:20260108T021500Z
DTEND:20260108T031500Z
LOCATION:Field 6
CONTACT:
SUMMARY:GAT PAC VS. Mavericks
DESCRIPTION:League Name: 2025 S6 Wed Rec Men's- Oct.22\nGame Type: Postseas
 on\nGame Status: Complete\nHome Team: GAT PAC\nAway Team: Mavericks\nHome 
 Score: 6\nAway Score: 20
END:VEVENT
END:VCALENDAR
