BEGIN:VCALENDAR
VERSION:2.0
PRODID:-//EZFacility.com, Inc.//EZL 2.5.5.28621
BEGIN:VEVENT
UID:16777136@ezleagues.ezfacility.com
DTSTAMP:20260423T080752Z
CREATED:20260423T080752Z
DTSTART:20251014T101500Z
DTEND:20251014T105500Z
LOCATION:4 El Madrigal
CONTACT:
SUMMARY:Big PEKKA's VS. Daz the bull FC
DESCRIPTION:League Name: Summer 2025 Tuesday Mens 5s Champions League\nGame
  Type: Regular\nGame Status: Complete\nHome Team: Big PEKKA's\nAway Team: 
 Daz the bull FC\nHome Score: 2\nAway Score: 4
END:VEVENT
BEGIN:VEVENT
UID:16777146@ezleagues.ezfacility.com
DTSTAMP:20260423T080752Z
CREATED:20260423T080752Z
DTSTART:20251021T080000Z
DTEND:20251021T084000Z
LOCATION:4 El Madrigal
CONTACT:
SUMMARY:Balding Ballers VS. Daz the bull FC
DESCRIPTION:League Name: Summer 2025 Tuesday Mens 5s Champions League\nGame
  Type: Regular\nGame Status: Complete\nHome Team: Balding Ballers\nAway Te
 am: Daz the bull FC\nHome Score: 9\nAway Score: 2
END:VEVENT
BEGIN:VEVENT
UID:16777156@ezleagues.ezfacility.com
DTSTAMP:20260423T080752Z
CREATED:20260423T080752Z
DTSTART:20251028T093000Z
DTEND:20251028T101000Z
LOCATION:3 Stamford Bridge
CONTACT:Nick
SUMMARY:Alco-ballers FC VS. Daz the bull FC
DESCRIPTION:League Name: Summer 2025 Tuesday Mens 5s Champions League\nGame
  Type: Regular\nGame Status: Complete\nHome Team: Alco-ballers FC\nAway Te
 am: Daz the bull FC\nHome Score: 7\nAway Score: 5
END:VEVENT
BEGIN:VEVENT
UID:16777179@ezleagues.ezfacility.com
DTSTAMP:20260423T080752Z
CREATED:20260423T080752Z
DTSTART:20251111T080000Z
DTEND:20251111T084000Z
LOCATION:3 Stamford Bridge
CONTACT:N
SUMMARY:Daz the bull FC VS. Yippers 
DESCRIPTION:League Name: Summer 2025 Tuesday Mens 5s Champions League\nGame
  Type: Regular\nGame Status: Complete\nHome Team: Daz the bull FC\nAway Te
 am: Yippers \nHome Score: 5\nAway Score: 10
END:VEVENT
BEGIN:VEVENT
UID:16777191@ezleagues.ezfacility.com
DTSTAMP:20260423T080752Z
CREATED:20260423T080752Z
DTSTART:20251118T084500Z
DTEND:20251118T092500Z
LOCATION:3 Stamford Bridge
CONTACT:
SUMMARY:Daz the bull FC VS. The Receding Hairlines
DESCRIPTION:League Name: Summer 2025 Tuesday Mens 5s Champions League\nGame
  Type: Regular\nGame Status: Complete\nHome Team: Daz the bull FC\nAway Te
 am: The Receding Hairlines\nHome Score: 4\nAway Score: 3
END:VEVENT
BEGIN:VEVENT
UID:16777203@ezleagues.ezfacility.com
DTSTAMP:20260423T080752Z
CREATED:20260423T080752Z
DTSTART:20251125T071500Z
DTEND:20251125T075500Z
LOCATION:3 Stamford Bridge
CONTACT:N
SUMMARY:Your Mate FC VS. Daz the bull FC
DESCRIPTION:League Name: Summer 2025 Tuesday Mens 5s Champions League\nGame
  Type: Regular\nGame Status: Complete\nHome Team: Your Mate FC\nAway Team:
  Daz the bull FC\nHome Score: 7\nAway Score: 5
END:VEVENT
BEGIN:VEVENT
UID:16777215@ezleagues.ezfacility.com
DTSTAMP:20260423T080752Z
CREATED:20260423T080752Z
DTSTART:20251202T080000Z
DTEND:20251202T084000Z
LOCATION:3 Stamford Bridge
CONTACT:Nick
SUMMARY:Shkupis VS. Daz the bull FC
DESCRIPTION:League Name: Summer 2025 Tuesday Mens 5s Champions League\nGame
  Type: Regular\nGame Status: Complete\nHome Team: Shkupis\nAway Team: Daz 
 the bull FC\nHome Score: 5\nAway Score: 5
END:VEVENT
BEGIN:VEVENT
UID:16777221@ezleagues.ezfacility.com
DTSTAMP:20260423T080752Z
CREATED:20260423T080752Z
DTSTART:20251209T101500Z
DTEND:20251209T105500Z
LOCATION:2 Bernabeu
CONTACT:N
SUMMARY:Daz the bull FC VS. Haram ball fc
DESCRIPTION:League Name: Summer 2025 Tuesday Mens 5s Champions League\nGame
  Type: Regular\nGame Status: Complete\nHome Team: Daz the bull FC\nAway Te
 am: Haram ball fc\nHome Score: 0\nAway Score: 0
END:VEVENT
BEGIN:VEVENT
UID:16777238@ezleagues.ezfacility.com
DTSTAMP:20260423T080752Z
CREATED:20260423T080752Z
DTSTART:20251216T093000Z
DTEND:20251216T101000Z
LOCATION:3 Stamford Bridge
CONTACT:Kadir 
SUMMARY:Hard Solo Max Iced FC VS. Daz the bull FC
DESCRIPTION:League Name: Summer 2025 Tuesday Mens 5s Champions League\nGame
  Type: Regular\nGame Status: Complete\nHome Team: Hard Solo Max Iced FC\nA
 way Team: Daz the bull FC\nHome Score: 4\nAway Score: 7
END:VEVENT
BEGIN:VEVENT
UID:16777274@ezleagues.ezfacility.com
DTSTAMP:20260423T080752Z
CREATED:20260423T080752Z
DTSTART:20260106T101500Z
DTEND:20260106T105500Z
LOCATION:1 Old Trafford
CONTACT:N
SUMMARY:Daz the bull FC VS. Cedarz FC
DESCRIPTION:League Name: Summer 2025 Tuesday Mens 5s Champions League\nGame
  Type: Regular\nGame Status: Complete\nHome Team: Daz the bull FC\nAway Te
 am: Cedarz FC\nHome Score: 13\nAway Score: 8
END:VEVENT
BEGIN:VEVENT
UID:16777167@ezleagues.ezfacility.com
DTSTAMP:20260423T080752Z
CREATED:20260423T080752Z
DTSTART:20260113T071500Z
DTEND:20260113T075500Z
LOCATION:3 Stamford Bridge
CONTACT:Seb
SUMMARY:Daz the bull FC VS. How I Megged Your M
DESCRIPTION:League Name: Summer 2025 Tuesday Mens 5s Champions League\nGame
  Type: Regular\nGame Status: Complete\nHome Team: Daz the bull FC\nAway Te
 am: How I Megged Your M\nHome Score: 8\nAway Score: 3
END:VEVENT
BEGIN:VEVENT
UID:16777250@ezleagues.ezfacility.com
DTSTAMP:20260423T080752Z
CREATED:20260423T080752Z
DTSTART:20260120T053000Z
DTEND:20260120T061000Z
LOCATION:5 Estádio Da Luz
CONTACT:
SUMMARY:Daz the bull FC VS. Dandy Casuals
DESCRIPTION:League Name: Summer 2025 Tuesday Mens 5s Champions League\nGame
  Type: Regular\nGame Status: Complete\nHome Team: Daz the bull FC\nAway Te
 am: Dandy Casuals\nHome Score: 10\nAway Score: 0
END:VEVENT
BEGIN:VEVENT
UID:16777262@ezleagues.ezfacility.com
DTSTAMP:20260423T080752Z
CREATED:20260423T080752Z
DTSTART:20260203T101500Z
DTEND:20260203T105500Z
LOCATION:2 Bernabeu
CONTACT:Kadir 
SUMMARY:Daz the bull FC VS. Average fc
DESCRIPTION:League Name: Summer 2025 Tuesday Mens 5s Champions League\nGame
  Type: Regular\nGame Status: Complete\nHome Team: Daz the bull FC\nAway Te
 am: Average fc\nHome Score: 4\nAway Score: 5
END:VEVENT
END:VCALENDAR
