BEGIN:VCALENDAR
VERSION:2.0
PRODID:-//EZFacility.com, Inc.//EZL 2.5.5.28621
BEGIN:VEVENT
UID:16779887@ezleagues.ezfacility.com
DTSTAMP:20260426T033754Z
CREATED:20260426T033754Z
DTSTART:20251018T020000Z
DTEND:20251018T024000Z
LOCATION:Court 2
CONTACT:
SUMMARY:PK Vipers  VS. Sao Paulo
DESCRIPTION:League Name: JRL U9 Saturday Summer 2025-26\nGame Type: Regular
 \nGame Status: Complete\nHome Team: PK Vipers \nAway Team: Sao Paulo\nHome
  Score: 4\nAway Score: 20
END:VEVENT
BEGIN:VEVENT
UID:16779889@ezleagues.ezfacility.com
DTSTAMP:20260426T033754Z
CREATED:20260426T033754Z
DTSTART:20251025T012000Z
DTEND:20251025T020000Z
LOCATION:Court 2
CONTACT:
SUMMARY:PK Vipers  VS. Victoria
DESCRIPTION:League Name: JRL U9 Saturday Summer 2025-26\nGame Type: Regular
 \nGame Status: Complete\nHome Team: PK Vipers \nAway Team: Victoria\nHome 
 Score: 1\nAway Score: 19
END:VEVENT
BEGIN:VEVENT
UID:16779891@ezleagues.ezfacility.com
DTSTAMP:20260426T033754Z
CREATED:20260426T033754Z
DTSTART:20251031T232000Z
DTEND:20251101T000000Z
LOCATION:Court 2
CONTACT:
SUMMARY:Panthers  VS. PK Vipers 
DESCRIPTION:League Name: JRL U9 Saturday Summer 2025-26\nGame Type: Regular
 \nGame Status: Complete\nHome Team: Panthers \nAway Team: PK Vipers \nHome
  Score: 9\nAway Score: 1
END:VEVENT
BEGIN:VEVENT
UID:16779895@ezleagues.ezfacility.com
DTSTAMP:20260426T033754Z
CREATED:20260426T033754Z
DTSTART:20251108T000000Z
DTEND:20251108T004000Z
LOCATION:Court 2
CONTACT:
SUMMARY:The Quokkas  VS. PK Vipers 
DESCRIPTION:League Name: JRL U9 Saturday Summer 2025-26\nGame Type: Regular
 \nGame Status: Complete\nHome Team: The Quokkas \nAway Team: PK Vipers \nH
 ome Score: 13\nAway Score: 1
END:VEVENT
BEGIN:VEVENT
UID:16779899@ezleagues.ezfacility.com
DTSTAMP:20260426T033754Z
CREATED:20260426T033754Z
DTSTART:20251115T020000Z
DTEND:20251115T024000Z
LOCATION:Court 2
CONTACT:
SUMMARY:RedBull VS. PK Vipers 
DESCRIPTION:League Name: JRL U9 Saturday Summer 2025-26\nGame Type: Regular
 \nGame Status: Complete\nHome Team: RedBull\nAway Team: PK Vipers \nHome S
 core: 8\nAway Score: 0
END:VEVENT
BEGIN:VEVENT
UID:16779902@ezleagues.ezfacility.com
DTSTAMP:20260426T033754Z
CREATED:20260426T033754Z
DTSTART:20251122T020000Z
DTEND:20251122T024000Z
LOCATION:Court 2
CONTACT:
SUMMARY:Sao Paulo VS. PK Vipers 
DESCRIPTION:League Name: JRL U9 Saturday Summer 2025-26\nGame Type: Regular
 \nGame Status: Complete\nHome Team: Sao Paulo\nAway Team: PK Vipers \nHome
  Score: 11\nAway Score: 0
END:VEVENT
BEGIN:VEVENT
UID:16779904@ezleagues.ezfacility.com
DTSTAMP:20260426T033754Z
CREATED:20260426T033754Z
DTSTART:20251129T012000Z
DTEND:20251129T020000Z
LOCATION:Court 2
CONTACT:
SUMMARY:Victoria VS. PK Vipers 
DESCRIPTION:League Name: JRL U9 Saturday Summer 2025-26\nGame Type: Regular
 \nGame Status: Complete\nHome Team: Victoria\nAway Team: PK Vipers \nHome 
 Score: 11\nAway Score: 1
END:VEVENT
BEGIN:VEVENT
UID:16779906@ezleagues.ezfacility.com
DTSTAMP:20260426T033754Z
CREATED:20260426T033754Z
DTSTART:20251206T020000Z
DTEND:20251206T024000Z
LOCATION:Court 2
CONTACT:
SUMMARY:PK Vipers  VS. Panthers 
DESCRIPTION:League Name: JRL U9 Saturday Summer 2025-26\nGame Type: Regular
 \nGame Status: Rescheduled\nHome Team: PK Vipers \nAway Team: Panthers \n
END:VEVENT
BEGIN:VEVENT
UID:16779910@ezleagues.ezfacility.com
DTSTAMP:20260426T033754Z
CREATED:20260426T033754Z
DTSTART:20251212T232000Z
DTEND:20251213T000000Z
LOCATION:Court 2
CONTACT:
SUMMARY:PK Vipers  VS. The Quokkas 
DESCRIPTION:League Name: JRL U9 Saturday Summer 2025-26\nGame Type: Regular
 \nGame Status: Complete\nHome Team: PK Vipers \nAway Team: The Quokkas \nH
 ome Score: 0\nAway Score: 3
END:VEVENT
BEGIN:VEVENT
UID:16779914@ezleagues.ezfacility.com
DTSTAMP:20260426T033754Z
CREATED:20260426T033754Z
DTSTART:20251220T012000Z
DTEND:20251220T020000Z
LOCATION:Court 2
CONTACT:
SUMMARY:PK Vipers  VS. RedBull
DESCRIPTION:League Name: JRL U9 Saturday Summer 2025-26\nGame Type: Regular
 \nGame Status: Complete\nHome Team: PK Vipers \nAway Team: RedBull\nHome S
 core: 0\nAway Score: 20
END:VEVENT
BEGIN:VEVENT
UID:16944850@ezleagues.ezfacility.com
DTSTAMP:20260426T033754Z
CREATED:20260426T033754Z
DTSTART:20260117T000000Z
DTEND:20260117T004000Z
LOCATION:Court 2
CONTACT:
SUMMARY:PK Vipers  VS. Panthers 
DESCRIPTION:League Name: JRL U9 Saturday Summer 2025-26\nGame Type: Regular
 \nGame Status: Complete\nHome Team: PK Vipers \nAway Team: Panthers \nHome
  Score: 0\nAway Score: 9
END:VEVENT
BEGIN:VEVENT
UID:16779929@ezleagues.ezfacility.com
DTSTAMP:20260426T033754Z
CREATED:20260426T033754Z
DTSTART:20260124T012000Z
DTEND:20260124T020000Z
LOCATION:Court 2
CONTACT:
SUMMARY:PK Vipers  VS. RedBull
DESCRIPTION:League Name: JRL U9 Saturday Summer 2025-26\nGame Type: Regular
 \nGame Status: Complete\nHome Team: PK Vipers \nAway Team: RedBull\nHome S
 core: 0\nAway Score: 8
END:VEVENT
BEGIN:VEVENT
UID:16779917@ezleagues.ezfacility.com
DTSTAMP:20260426T033754Z
CREATED:20260426T033754Z
DTSTART:20260131T020000Z
DTEND:20260131T024000Z
LOCATION:Court 2
CONTACT:
SUMMARY:Sao Paulo VS. PK Vipers 
DESCRIPTION:League Name: JRL U9 Saturday Summer 2025-26\nGame Type: Regular
 \nGame Status: Complete\nHome Team: Sao Paulo\nAway Team: PK Vipers \nHome
  Score: 10\nAway Score: 3
END:VEVENT
BEGIN:VEVENT
UID:16779919@ezleagues.ezfacility.com
DTSTAMP:20260426T033754Z
CREATED:20260426T033754Z
DTSTART:20260207T012000Z
DTEND:20260207T020000Z
LOCATION:Court 2
CONTACT:
SUMMARY:Victoria VS. PK Vipers 
DESCRIPTION:League Name: JRL U9 Saturday Summer 2025-26\nGame Type: Regular
 \nGame Status: Complete\nHome Team: Victoria\nAway Team: PK Vipers \nHome 
 Score: 22\nAway Score: 0
END:VEVENT
BEGIN:VEVENT
UID:16779921@ezleagues.ezfacility.com
DTSTAMP:20260426T033754Z
CREATED:20260426T033754Z
DTSTART:20260213T232000Z
DTEND:20260214T000000Z
LOCATION:Court 2
CONTACT:
SUMMARY:PK Vipers  VS. Panthers 
DESCRIPTION:League Name: JRL U9 Saturday Summer 2025-26\nGame Type: Regular
 \nGame Status: Complete\nHome Team: PK Vipers \nAway Team: Panthers \nHome
  Score: 0\nAway Score: 13
END:VEVENT
BEGIN:VEVENT
UID:16779925@ezleagues.ezfacility.com
DTSTAMP:20260426T033754Z
CREATED:20260426T033754Z
DTSTART:20260220T232000Z
DTEND:20260221T000000Z
LOCATION:Court 2
CONTACT:
SUMMARY:PK Vipers  VS. The Quokkas 
DESCRIPTION:League Name: JRL U9 Saturday Summer 2025-26\nGame Type: Regular
 \nGame Status: Complete\nHome Team: PK Vipers \nAway Team: The Quokkas \nH
 ome Score: 0\nAway Score: 11
END:VEVENT
END:VCALENDAR
