BEGIN:VCALENDAR
VERSION:2.0
PRODID:-//EZFacility.com, Inc.//EZL 2.5.5.28621
BEGIN:VEVENT
UID:16780113@ezleagues.ezfacility.com
DTSTAMP:20260423T093706Z
CREATED:20260423T093706Z
DTSTART:20251019T020000Z
DTEND:20251019T024000Z
LOCATION:Court 1
CONTACT:
SUMMARY:Baldivis United VS. PK Vipers 
DESCRIPTION:League Name: JRL U11 Sunday Summer 2025-26\nGame Type: Regular\
 nGame Status: Complete\nHome Team: Baldivis United\nAway Team: PK Vipers \
 nHome Score: 2\nAway Score: 3
END:VEVENT
BEGIN:VEVENT
UID:16780121@ezleagues.ezfacility.com
DTSTAMP:20260423T093706Z
CREATED:20260423T093706Z
DTSTART:20251102T012000Z
DTEND:20251102T020000Z
LOCATION:Court 1
CONTACT:
SUMMARY:Cockburn Wolves VS. PK Vipers 
DESCRIPTION:League Name: JRL U11 Sunday Summer 2025-26\nGame Type: Regular\
 nGame Status: Complete\nHome Team: Cockburn Wolves\nAway Team: PK Vipers \
 nHome Score: 9\nAway Score: 3
END:VEVENT
BEGIN:VEVENT
UID:16780127@ezleagues.ezfacility.com
DTSTAMP:20260423T093706Z
CREATED:20260423T093706Z
DTSTART:20251109T012000Z
DTEND:20251109T020000Z
LOCATION:Court 1
CONTACT:
SUMMARY:Baldivis Districts VS. PK Vipers 
DESCRIPTION:League Name: JRL U11 Sunday Summer 2025-26\nGame Type: Regular\
 nGame Status: Complete\nHome Team: Baldivis Districts\nAway Team: PK Viper
 s \nHome Score: 1\nAway Score: 1
END:VEVENT
BEGIN:VEVENT
UID:16780133@ezleagues.ezfacility.com
DTSTAMP:20260423T093706Z
CREATED:20260423T093706Z
DTSTART:20251116T001000Z
DTEND:20251116T005000Z
LOCATION:Court 2
CONTACT:
SUMMARY:PK Vipers  VS. U9 SDB
DESCRIPTION:League Name: JRL U11 Sunday Summer 2025-26\nGame Type: Regular\
 nGame Status: Complete\nHome Team: PK Vipers \nAway Team: U9 SDB\nHome Sco
 re: 1\nAway Score: 3
END:VEVENT
BEGIN:VEVENT
UID:16780139@ezleagues.ezfacility.com
DTSTAMP:20260423T093706Z
CREATED:20260423T093706Z
DTSTART:20251123T000000Z
DTEND:20251123T004000Z
LOCATION:Court 1
CONTACT:
SUMMARY:Freddies Ninjas VS. PK Vipers 
DESCRIPTION:League Name: JRL U11 Sunday Summer 2025-26\nGame Type: Regular\
 nGame Status: Complete\nHome Team: Freddies Ninjas\nAway Team: PK Vipers \
 nHome Score: 3\nAway Score: 4
END:VEVENT
BEGIN:VEVENT
UID:16780144@ezleagues.ezfacility.com
DTSTAMP:20260423T093706Z
CREATED:20260423T093706Z
DTSTART:20251130T020000Z
DTEND:20251130T024000Z
LOCATION:Court 1
CONTACT:
SUMMARY:PK Vipers  VS. Strikers
DESCRIPTION:League Name: JRL U11 Sunday Summer 2025-26\nGame Type: Regular\
 nGame Status: Complete\nHome Team: PK Vipers \nAway Team: Strikers\nHome S
 core: 2\nAway Score: 1
END:VEVENT
BEGIN:VEVENT
UID:16780146@ezleagues.ezfacility.com
DTSTAMP:20260423T093706Z
CREATED:20260423T093706Z
DTSTART:20251207T004000Z
DTEND:20251207T012000Z
LOCATION:Court 1
CONTACT:
SUMMARY:Mayhem VS. PK Vipers 
DESCRIPTION:League Name: JRL U11 Sunday Summer 2025-26\nGame Type: Regular\
 nGame Status: Complete\nHome Team: Mayhem\nAway Team: PK Vipers \nHome Sco
 re: 5\nAway Score: 0
END:VEVENT
BEGIN:VEVENT
UID:16780158@ezleagues.ezfacility.com
DTSTAMP:20260423T093706Z
CREATED:20260423T093706Z
DTSTART:20251221T012000Z
DTEND:20251221T020000Z
LOCATION:Court 1
CONTACT:
SUMMARY:PK Vipers  VS. Baldivis United
DESCRIPTION:League Name: JRL U11 Sunday Summer 2025-26\nGame Type: Regular\
 nGame Status: Complete\nHome Team: PK Vipers \nAway Team: Baldivis United\
 nHome Score: 3\nAway Score: 9
END:VEVENT
BEGIN:VEVENT
UID:16944848@ezleagues.ezfacility.com
DTSTAMP:20260423T093706Z
CREATED:20260423T093706Z
DTSTART:20260118T000000Z
DTEND:20260118T004000Z
LOCATION:Court 1
CONTACT:
SUMMARY:PK Vipers  VS. Freddies Force
DESCRIPTION:League Name: JRL U11 Sunday Summer 2025-26\nGame Type: Regular\
 nGame Status: Complete\nHome Team: PK Vipers \nAway Team: Freddies Force\n
 Home Score: 3\nAway Score: 2
END:VEVENT
BEGIN:VEVENT
UID:16780184@ezleagues.ezfacility.com
DTSTAMP:20260423T093706Z
CREATED:20260423T093706Z
DTSTART:20260125T012000Z
DTEND:20260125T020000Z
LOCATION:Court 1
CONTACT:
SUMMARY:PK Vipers  VS. Freddies Ninjas
DESCRIPTION:League Name: JRL U11 Sunday Summer 2025-26\nGame Type: Regular\
 nGame Status: Complete\nHome Team: PK Vipers \nAway Team: Freddies Ninjas\
 nHome Score: 6\nAway Score: 0
END:VEVENT
BEGIN:VEVENT
UID:16780189@ezleagues.ezfacility.com
DTSTAMP:20260423T093706Z
CREATED:20260423T093706Z
DTSTART:20260201T012000Z
DTEND:20260201T020000Z
LOCATION:Court 1
CONTACT:
SUMMARY:Strikers VS. PK Vipers 
DESCRIPTION:League Name: JRL U11 Sunday Summer 2025-26\nGame Type: Regular\
 nGame Status: Complete\nHome Team: Strikers\nAway Team: PK Vipers \nHome S
 core: 3\nAway Score: 5
END:VEVENT
BEGIN:VEVENT
UID:16780191@ezleagues.ezfacility.com
DTSTAMP:20260423T093706Z
CREATED:20260423T093706Z
DTSTART:20260208T004000Z
DTEND:20260208T012000Z
LOCATION:Court 1
CONTACT:
SUMMARY:PK Vipers  VS. Mayhem
DESCRIPTION:League Name: JRL U11 Sunday Summer 2025-26\nGame Type: Regular\
 nGame Status: Complete\nHome Team: PK Vipers \nAway Team: Mayhem\nHome Sco
 re: 2\nAway Score: 7
END:VEVENT
BEGIN:VEVENT
UID:16780166@ezleagues.ezfacility.com
DTSTAMP:20260423T093706Z
CREATED:20260423T093706Z
DTSTART:20260215T024000Z
DTEND:20260215T032000Z
LOCATION:Court 1
CONTACT:
SUMMARY:PK Vipers  VS. Cockburn Wolves
DESCRIPTION:League Name: JRL U11 Sunday Summer 2025-26\nGame Type: Regular\
 nGame Status: Complete\nHome Team: PK Vipers \nAway Team: Cockburn Wolves\
 nHome Score: 0\nAway Score: 11
END:VEVENT
BEGIN:VEVENT
UID:16780162@ezleagues.ezfacility.com
DTSTAMP:20260423T093706Z
CREATED:20260423T093706Z
DTSTART:20260222T004000Z
DTEND:20260222T012000Z
LOCATION:Court 1
CONTACT:
SUMMARY:Freddies Force VS. PK Vipers 
DESCRIPTION:League Name: JRL U11 Sunday Summer 2025-26\nGame Type: Regular\
 nGame Status: Complete\nHome Team: Freddies Force\nAway Team: PK Vipers \n
 Home Score: 4\nAway Score: 2
END:VEVENT
BEGIN:VEVENT
UID:16780172@ezleagues.ezfacility.com
DTSTAMP:20260423T093706Z
CREATED:20260423T093706Z
DTSTART:20260308T000000Z
DTEND:20260308T004000Z
LOCATION:Court 1
CONTACT:
SUMMARY:PK Vipers  VS. Baldivis Districts
DESCRIPTION:League Name: JRL U11 Sunday Summer 2025-26\nGame Type: Regular\
 nGame Status: Complete\nHome Team: PK Vipers \nAway Team: Baldivis Distric
 ts\nHome Score: 2\nAway Score: 3
END:VEVENT
BEGIN:VEVENT
UID:16780178@ezleagues.ezfacility.com
DTSTAMP:20260423T093706Z
CREATED:20260423T093706Z
DTSTART:20260315T000000Z
DTEND:20260315T004000Z
LOCATION:Court 2
CONTACT:
SUMMARY:U9 SDB VS. PK Vipers 
DESCRIPTION:League Name: JRL U11 Sunday Summer 2025-26\nGame Type: Regular\
 nGame Status: Complete\nHome Team: U9 SDB\nAway Team: PK Vipers \nHome Sco
 re: 3\nAway Score: 3
END:VEVENT
BEGIN:VEVENT
UID:17058563@ezleagues.ezfacility.com
DTSTAMP:20260423T093706Z
CREATED:20260423T093706Z
DTSTART:20260322T012000Z
DTEND:20260322T020000Z
LOCATION:Court 1
CONTACT:
SUMMARY:PK Vipers  VS. Freddies Ninjas
DESCRIPTION:League Name: JRL U11 Sunday Summer 2025-26\nGame Type: Postseas
 on\nGame Status: Complete\nHome Team: PK Vipers \nAway Team: Freddies Ninj
 as\nHome Score: 2\nAway Score: 0
END:VEVENT
BEGIN:VEVENT
UID:17068249@ezleagues.ezfacility.com
DTSTAMP:20260423T093706Z
CREATED:20260423T093706Z
DTSTART:20260329T005000Z
DTEND:20260329T013000Z
LOCATION:Court 1
CONTACT:
SUMMARY:PK Vipers  VS. Strikers
DESCRIPTION:League Name: JRL U11 Sunday Summer 2025-26\nGame Type: Postseas
 on\nGame Status: Pending\nHome Team: PK Vipers \nAway Team: Strikers\n
END:VEVENT
END:VCALENDAR
