BEGIN:VCALENDAR
VERSION:2.0
PRODID:-//EZFacility.com, Inc.//EZL 2.5.5.28621
BEGIN:VEVENT
UID:16784206@ezleagues.ezfacility.com
DTSTAMP:20260423T011224Z
CREATED:20260423T011224Z
DTSTART:20251024T013500Z
DTEND:20251024T021800Z
LOCATION:Field 2
CONTACT:
SUMMARY:BRST VS. Dubs FC
DESCRIPTION:League Name: Adult Soccer League - Winter I 2025-B Division\nGa
 me Type: Regular\nGame Status: Complete\nHome Team: BRST\nAway Team: Dubs 
 FC\nHome Score: 0\nAway Score: 6
END:VEVENT
BEGIN:VEVENT
UID:16784210@ezleagues.ezfacility.com
DTSTAMP:20260423T011224Z
CREATED:20260423T011224Z
DTSTART:20251031T024500Z
DTEND:20251031T032800Z
LOCATION:Field 2
CONTACT:
SUMMARY:BRST VS. PRIMETIME
DESCRIPTION:League Name: Adult Soccer League - Winter I 2025-B Division\nGa
 me Type: Regular\nGame Status: Complete\nHome Team: BRST\nAway Team: PRIME
 TIME\nHome Score: 3\nAway Score: 0
END:VEVENT
BEGIN:VEVENT
UID:16784214@ezleagues.ezfacility.com
DTSTAMP:20260423T011224Z
CREATED:20260423T011224Z
DTSTART:20251107T045000Z
DTEND:20251107T053300Z
LOCATION:Field 2
CONTACT:
SUMMARY:BRST VS. TGFC
DESCRIPTION:League Name: Adult Soccer League - Winter I 2025-B Division\nGa
 me Type: Regular\nGame Status: Complete\nHome Team: BRST\nAway Team: TGFC\
 nHome Score: 0\nAway Score: 3
END:VEVENT
BEGIN:VEVENT
UID:16784218@ezleagues.ezfacility.com
DTSTAMP:20260423T011224Z
CREATED:20260423T011224Z
DTSTART:20251114T032000Z
DTEND:20251114T040300Z
LOCATION:Field 2
CONTACT:
SUMMARY:Tuxpan VS. BRST
DESCRIPTION:League Name: Adult Soccer League - Winter I 2025-B Division\nGa
 me Type: Regular\nGame Status: Complete\nHome Team: Tuxpan\nAway Team: BRS
 T\nHome Score: 3\nAway Score: 1
END:VEVENT
BEGIN:VEVENT
UID:16784222@ezleagues.ezfacility.com
DTSTAMP:20260423T011224Z
CREATED:20260423T011224Z
DTSTART:20251121T032000Z
DTEND:20251121T040300Z
LOCATION:Field 2
CONTACT:
SUMMARY:Still Got It FC VS. BRST
DESCRIPTION:League Name: Adult Soccer League - Winter I 2025-B Division\nGa
 me Type: Regular\nGame Status: Complete\nHome Team: Still Got It FC\nAway 
 Team: BRST\nHome Score: 6\nAway Score: 0
END:VEVENT
BEGIN:VEVENT
UID:16784226@ezleagues.ezfacility.com
DTSTAMP:20260423T011224Z
CREATED:20260423T011224Z
DTSTART:20251205T023500Z
DTEND:20251205T031800Z
LOCATION:Field 2
CONTACT:
SUMMARY:Glory Daze VS. BRST
DESCRIPTION:League Name: Adult Soccer League - Winter I 2025-B Division\nGa
 me Type: Regular\nGame Status: Complete\nHome Team: Glory Daze\nAway Team:
  BRST\nHome Score: 8\nAway Score: 3
END:VEVENT
END:VCALENDAR
