BEGIN:VCALENDAR
VERSION:2.0
PRODID:-//EZFacility.com, Inc.//EZL 2.5.5.28621
BEGIN:VEVENT
UID:16786123@ezleagues.ezfacility.com
DTSTAMP:20260425T195330Z
CREATED:20260425T195330Z
DTSTART:20251023T224500Z
DTEND:20251023T234500Z
LOCATION:Field B (Fronthalf)
CONTACT:
SUMMARY:Pink Resistance F.C. VS. Sons 
DESCRIPTION:League Name: Soccer League Men's 8 v 8 - 2025/26 Season\nGame T
 ype: Regular\nGame Status: Complete\nHome Team: Pink Resistance F.C.\nAway
  Team: Sons \nHome Score: 1\nAway Score: 5
END:VEVENT
BEGIN:VEVENT
UID:16786134@ezleagues.ezfacility.com
DTSTAMP:20260425T195330Z
CREATED:20260425T195330Z
DTSTART:20251030T224500Z
DTEND:20251030T234500Z
LOCATION:Field A (Backhalf)
CONTACT:
SUMMARY:Pink Resistance F.C. VS. Swamp Donkey FC
DESCRIPTION:League Name: Soccer League Men's 8 v 8 - 2025/26 Season\nGame T
 ype: Regular\nGame Status: Complete\nHome Team: Pink Resistance F.C.\nAway
  Team: Swamp Donkey FC\nHome Score: 2\nAway Score: 2
END:VEVENT
BEGIN:VEVENT
UID:16786142@ezleagues.ezfacility.com
DTSTAMP:20260425T195330Z
CREATED:20260425T195330Z
DTSTART:20251107T004500Z
DTEND:20251107T014500Z
LOCATION:Field B (Fronthalf)
CONTACT:
SUMMARY:Pink Resistance F.C. VS. Warren wonderers
DESCRIPTION:League Name: Soccer League Men's 8 v 8 - 2025/26 Season\nGame T
 ype: Regular\nGame Status: Complete\nHome Team: Pink Resistance F.C.\nAway
  Team: Warren wonderers\nHome Score: 2\nAway Score: 0
END:VEVENT
BEGIN:VEVENT
UID:16786159@ezleagues.ezfacility.com
DTSTAMP:20260425T195330Z
CREATED:20260425T195330Z
DTSTART:20251113T234500Z
DTEND:20251114T004500Z
LOCATION:Field A (Backhalf)
CONTACT:
SUMMARY:Dirigo United VS. Pink Resistance F.C.
DESCRIPTION:League Name: Soccer League Men's 8 v 8 - 2025/26 Season\nGame T
 ype: Regular\nGame Status: Complete\nHome Team: Dirigo United\nAway Team: 
 Pink Resistance F.C.\nHome Score: 2\nAway Score: 3
END:VEVENT
BEGIN:VEVENT
UID:16787989@ezleagues.ezfacility.com
DTSTAMP:20260425T195330Z
CREATED:20260425T195330Z
DTSTART:20251120T234500Z
DTEND:20251121T004500Z
LOCATION:Field B (Fronthalf)
CONTACT:
SUMMARY:Lasso’s Biscuits VS. Pink Resistance F.C.
DESCRIPTION:League Name: Soccer League Men's 8 v 8 - 2025/26 Season\nGame T
 ype: Regular\nGame Status: Complete\nHome Team: Lasso’s Biscuits\nAway T
 eam: Pink Resistance F.C.\nHome Score: 0\nAway Score: 4
END:VEVENT
BEGIN:VEVENT
UID:16787995@ezleagues.ezfacility.com
DTSTAMP:20260425T195330Z
CREATED:20260425T195330Z
DTSTART:20251204T234500Z
DTEND:20251205T004500Z
LOCATION:Field A (Backhalf)
CONTACT:
SUMMARY:International FC VS. Pink Resistance F.C.
DESCRIPTION:League Name: Soccer League Men's 8 v 8 - 2025/26 Season\nGame T
 ype: Regular\nGame Status: Complete\nHome Team: International FC\nAway Tea
 m: Pink Resistance F.C.\nHome Score: 1\nAway Score: 4
END:VEVENT
BEGIN:VEVENT
UID:16788007@ezleagues.ezfacility.com
DTSTAMP:20260425T195330Z
CREATED:20260425T195330Z
DTSTART:20251212T004500Z
DTEND:20251212T014500Z
LOCATION:Field A (Backhalf)
CONTACT:
SUMMARY:FC 207 VS. Pink Resistance F.C.
DESCRIPTION:League Name: Soccer League Men's 8 v 8 - 2025/26 Season\nGame T
 ype: Regular\nGame Status: Complete\nHome Team: FC 207\nAway Team: Pink Re
 sistance F.C.\nHome Score: 3\nAway Score: 3
END:VEVENT
BEGIN:VEVENT
UID:16788014@ezleagues.ezfacility.com
DTSTAMP:20260425T195330Z
CREATED:20260425T195330Z
DTSTART:20251218T234500Z
DTEND:20251219T004500Z
LOCATION:Field B (Fronthalf)
CONTACT:
SUMMARY:Pink Resistance F.C. VS. International FC
DESCRIPTION:League Name: Soccer League Men's 8 v 8 - 2025/26 Season\nGame T
 ype: Exhibition\nGame Status: Pending\nHome Team: Pink Resistance F.C.\nAw
 ay Team: International FC\n
END:VEVENT
BEGIN:VEVENT
UID:16786128@ezleagues.ezfacility.com
DTSTAMP:20260425T195330Z
CREATED:20260425T195330Z
DTSTART:20260108T234500Z
DTEND:20260109T004500Z
LOCATION:Field B (Fronthalf)
CONTACT:
SUMMARY:Sons  VS. Pink Resistance F.C.
DESCRIPTION:League Name: Soccer League Men's 8 v 8 - 2025/26 Season\nGame T
 ype: Regular\nGame Status: Complete\nHome Team: Sons \nAway Team: Pink Res
 istance F.C.\nHome Score: 6\nAway Score: 4
END:VEVENT
BEGIN:VEVENT
UID:16786133@ezleagues.ezfacility.com
DTSTAMP:20260425T195330Z
CREATED:20260425T195330Z
DTSTART:20260115T234500Z
DTEND:20260116T004500Z
LOCATION:Field A (Backhalf)
CONTACT:
SUMMARY:Pink Resistance F.C. VS. Swamp Donkey FC
DESCRIPTION:League Name: Soccer League Men's 8 v 8 - 2025/26 Season\nGame T
 ype: Regular\nGame Status: Complete\nHome Team: Pink Resistance F.C.\nAway
  Team: Swamp Donkey FC\nHome Score: 2\nAway Score: 1
END:VEVENT
BEGIN:VEVENT
UID:16786143@ezleagues.ezfacility.com
DTSTAMP:20260425T195330Z
CREATED:20260425T195330Z
DTSTART:20260123T004500Z
DTEND:20260123T014500Z
LOCATION:Field B (Fronthalf)
CONTACT:
SUMMARY:Pink Resistance F.C. VS. Warren wonderers
DESCRIPTION:League Name: Soccer League Men's 8 v 8 - 2025/26 Season\nGame T
 ype: Regular\nGame Status: Complete\nHome Team: Pink Resistance F.C.\nAway
  Team: Warren wonderers\nHome Score: 4\nAway Score: 2
END:VEVENT
BEGIN:VEVENT
UID:16786158@ezleagues.ezfacility.com
DTSTAMP:20260425T195330Z
CREATED:20260425T195330Z
DTSTART:20260129T234500Z
DTEND:20260130T004500Z
LOCATION:Field A (Backhalf)
CONTACT:
SUMMARY:Dirigo United VS. Pink Resistance F.C.
DESCRIPTION:League Name: Soccer League Men's 8 v 8 - 2025/26 Season\nGame T
 ype: Regular\nGame Status: Complete\nHome Team: Dirigo United\nAway Team: 
 Pink Resistance F.C.\nHome Score: 4\nAway Score: 4
END:VEVENT
BEGIN:VEVENT
UID:16787988@ezleagues.ezfacility.com
DTSTAMP:20260425T195330Z
CREATED:20260425T195330Z
DTSTART:20260212T234500Z
DTEND:20260213T004500Z
LOCATION:Field B (Fronthalf)
CONTACT:
SUMMARY:Lasso’s Biscuits VS. Pink Resistance F.C.
DESCRIPTION:League Name: Soccer League Men's 8 v 8 - 2025/26 Season\nGame T
 ype: Regular\nGame Status: Complete\nHome Team: Lasso’s Biscuits\nAway T
 eam: Pink Resistance F.C.\nHome Score: 0\nAway Score: 4
END:VEVENT
BEGIN:VEVENT
UID:16787994@ezleagues.ezfacility.com
DTSTAMP:20260425T195330Z
CREATED:20260425T195330Z
DTSTART:20260226T234500Z
DTEND:20260227T004500Z
LOCATION:Field A (Backhalf)
CONTACT:
SUMMARY:International FC VS. Pink Resistance F.C.
DESCRIPTION:League Name: Soccer League Men's 8 v 8 - 2025/26 Season\nGame T
 ype: Regular\nGame Status: Complete\nHome Team: International FC\nAway Tea
 m: Pink Resistance F.C.\nHome Score: 1\nAway Score: 4
END:VEVENT
BEGIN:VEVENT
UID:16788006@ezleagues.ezfacility.com
DTSTAMP:20260425T195330Z
CREATED:20260425T195330Z
DTSTART:20260306T004500Z
DTEND:20260306T014500Z
LOCATION:Field A (Backhalf)
CONTACT:
SUMMARY:FC 207 VS. Pink Resistance F.C.
DESCRIPTION:League Name: Soccer League Men's 8 v 8 - 2025/26 Season\nGame T
 ype: Regular\nGame Status: Complete\nHome Team: FC 207\nAway Team: Pink Re
 sistance F.C.\nHome Score: 0\nAway Score: 4
END:VEVENT
BEGIN:VEVENT
UID:16786127@ezleagues.ezfacility.com
DTSTAMP:20260425T195330Z
CREATED:20260425T195330Z
DTSTART:20260312T224500Z
DTEND:20260312T234500Z
LOCATION:Field B (Fronthalf)
CONTACT:
SUMMARY:Sons  VS. Pink Resistance F.C.
DESCRIPTION:League Name: Soccer League Men's 8 v 8 - 2025/26 Season\nGame T
 ype: Regular\nGame Status: Complete\nHome Team: Sons \nAway Team: Pink Res
 istance F.C.\nHome Score: 3\nAway Score: 3
END:VEVENT
BEGIN:VEVENT
UID:16786132@ezleagues.ezfacility.com
DTSTAMP:20260425T195330Z
CREATED:20260425T195330Z
DTSTART:20260319T224500Z
DTEND:20260319T234500Z
LOCATION:Field A (Backhalf)
CONTACT:
SUMMARY:Pink Resistance F.C. VS. Swamp Donkey FC
DESCRIPTION:League Name: Soccer League Men's 8 v 8 - 2025/26 Season\nGame T
 ype: Regular\nGame Status: Complete\nHome Team: Pink Resistance F.C.\nAway
  Team: Swamp Donkey FC\nHome Score: 3\nAway Score: 2
END:VEVENT
BEGIN:VEVENT
UID:16786144@ezleagues.ezfacility.com
DTSTAMP:20260425T195330Z
CREATED:20260425T195330Z
DTSTART:20260403T000000Z
DTEND:20260403T010000Z
LOCATION:Field B (Fronthalf)
CONTACT:
SUMMARY:Pink Resistance F.C. VS. Warren wonderers
DESCRIPTION:League Name: Soccer League Men's 8 v 8 - 2025/26 Season\nGame T
 ype: Regular\nGame Status: Complete\nHome Team: Pink Resistance F.C.\nAway
  Team: Warren wonderers\nHome Score: 5\nAway Score: 1
END:VEVENT
BEGIN:VEVENT
UID:16786157@ezleagues.ezfacility.com
DTSTAMP:20260425T195330Z
CREATED:20260425T195330Z
DTSTART:20260409T230000Z
DTEND:20260410T000000Z
LOCATION:Field A (Backhalf)
CONTACT:
SUMMARY:Dirigo United VS. Pink Resistance F.C.
DESCRIPTION:League Name: Soccer League Men's 8 v 8 - 2025/26 Season\nGame T
 ype: Regular\nGame Status: Complete\nHome Team: Dirigo United\nAway Team: 
 Pink Resistance F.C.\nHome Score: 4\nAway Score: 6
END:VEVENT
BEGIN:VEVENT
UID:16787987@ezleagues.ezfacility.com
DTSTAMP:20260425T195330Z
CREATED:20260425T195330Z
DTSTART:20260416T230000Z
DTEND:20260417T000000Z
LOCATION:Field B (Fronthalf)
CONTACT:
SUMMARY:Lasso’s Biscuits VS. Pink Resistance F.C.
DESCRIPTION:League Name: Soccer League Men's 8 v 8 - 2025/26 Season\nGame T
 ype: Regular\nGame Status: Complete\nHome Team: Lasso’s Biscuits\nAway T
 eam: Pink Resistance F.C.\nHome Score: 1\nAway Score: 5
END:VEVENT
BEGIN:VEVENT
UID:16787993@ezleagues.ezfacility.com
DTSTAMP:20260425T195330Z
CREATED:20260425T195330Z
DTSTART:20260430T230000Z
DTEND:20260501T000000Z
LOCATION:Field A (Backhalf)
CONTACT:
SUMMARY:International FC VS. Pink Resistance F.C.
DESCRIPTION:League Name: Soccer League Men's 8 v 8 - 2025/26 Season\nGame T
 ype: Regular\nGame Status: Pending\nHome Team: International FC\nAway Team
 : Pink Resistance F.C.\n
END:VEVENT
BEGIN:VEVENT
UID:16788005@ezleagues.ezfacility.com
DTSTAMP:20260425T195330Z
CREATED:20260425T195330Z
DTSTART:20260508T000000Z
DTEND:20260508T010000Z
LOCATION:Field A (Backhalf)
CONTACT:
SUMMARY:FC 207 VS. Pink Resistance F.C.
DESCRIPTION:League Name: Soccer League Men's 8 v 8 - 2025/26 Season\nGame T
 ype: Regular\nGame Status: Pending\nHome Team: FC 207\nAway Team: Pink Res
 istance F.C.\n
END:VEVENT
END:VCALENDAR
