BEGIN:VCALENDAR
VERSION:2.0
PRODID:-//EZFacility.com, Inc.//EZL 2.5.5.28621
BEGIN:VEVENT
UID:16868049@ezleagues.ezfacility.com
DTSTAMP:20260424T133000Z
CREATED:20260424T133000Z
DTSTART:20251127T210000Z
DTEND:20251127T220000Z
LOCATION:TBD
CONTACT:
SUMMARY:Dnipro VS. No Games - Holiday
DESCRIPTION:League Name: Fall Thursday 7v7 Mens Soccer\nGame Type: Regular\
 nGame Status: Pending\nHome Team: Dnipro\nAway Team: No Games - Holiday\n
END:VEVENT
BEGIN:VEVENT
UID:16867985@ezleagues.ezfacility.com
DTSTAMP:20260424T133000Z
CREATED:20260424T133000Z
DTSTART:20251205T033000Z
DTEND:20251205T043000Z
LOCATION:Field 2A
CONTACT:
SUMMARY:Dnipro VS. Bianconeri
DESCRIPTION:League Name: Fall Thursday 7v7 Mens Soccer\nGame Type: Regular\
 nGame Status: Complete\nHome Team: Dnipro\nAway Team: Bianconeri\nHome Sco
 re: 2\nAway Score: 1
END:VEVENT
BEGIN:VEVENT
UID:16867994@ezleagues.ezfacility.com
DTSTAMP:20260424T133000Z
CREATED:20260424T133000Z
DTSTART:20251212T023000Z
DTEND:20251212T033000Z
LOCATION:Field 2B
CONTACT:
SUMMARY:Dnipro VS. Hooligans FC
DESCRIPTION:League Name: Fall Thursday 7v7 Mens Soccer\nGame Type: Regular\
 nGame Status: Complete\nHome Team: Dnipro\nAway Team: Hooligans FC\nHome S
 core: 5\nAway Score: 3
END:VEVENT
BEGIN:VEVENT
UID:16868065@ezleagues.ezfacility.com
DTSTAMP:20260424T133000Z
CREATED:20260424T133000Z
DTSTART:20251218T210000Z
DTEND:20251218T220000Z
LOCATION:TBD
CONTACT:
SUMMARY:Dnipro VS. No Games - Holiday
DESCRIPTION:League Name: Fall Thursday 7v7 Mens Soccer\nGame Type: Regular\
 nGame Status: Pending\nHome Team: Dnipro\nAway Team: No Games - Holiday\n
END:VEVENT
BEGIN:VEVENT
UID:16868082@ezleagues.ezfacility.com
DTSTAMP:20260424T133000Z
CREATED:20260424T133000Z
DTSTART:20251225T210000Z
DTEND:20251225T220000Z
LOCATION:TBD
CONTACT:
SUMMARY:Dnipro VS. No Games - Holiday
DESCRIPTION:League Name: Fall Thursday 7v7 Mens Soccer\nGame Type: Regular\
 nGame Status: Pending\nHome Team: Dnipro\nAway Team: No Games - Holiday\n
END:VEVENT
BEGIN:VEVENT
UID:16868098@ezleagues.ezfacility.com
DTSTAMP:20260424T133000Z
CREATED:20260424T133000Z
DTSTART:20260101T210000Z
DTEND:20260101T220000Z
LOCATION:TBD
CONTACT:
SUMMARY:Dnipro VS. No Games - Holiday
DESCRIPTION:League Name: Fall Thursday 7v7 Mens Soccer\nGame Type: Regular\
 nGame Status: Pending\nHome Team: Dnipro\nAway Team: No Games - Holiday\n
END:VEVENT
BEGIN:VEVENT
UID:16868030@ezleagues.ezfacility.com
DTSTAMP:20260424T133000Z
CREATED:20260424T133000Z
DTSTART:20260109T043000Z
DTEND:20260109T053000Z
LOCATION:Field 2B
CONTACT:
SUMMARY:Dnipro VS. Fire FC
DESCRIPTION:League Name: Fall Thursday 7v7 Mens Soccer\nGame Type: Regular\
 nGame Status: Complete\nHome Team: Dnipro\nAway Team: Fire FC\nHome Score:
  8\nAway Score: 2
END:VEVENT
BEGIN:VEVENT
UID:16868039@ezleagues.ezfacility.com
DTSTAMP:20260424T133000Z
CREATED:20260424T133000Z
DTSTART:20260116T053000Z
DTEND:20260116T063000Z
LOCATION:Field 2B
CONTACT:
SUMMARY:Dnipro VS. Onlylads FC
DESCRIPTION:League Name: Fall Thursday 7v7 Mens Soccer\nGame Type: Regular\
 nGame Status: Complete\nHome Team: Dnipro\nAway Team: Onlylads FC\nHome Sc
 ore: 8\nAway Score: 4
END:VEVENT
BEGIN:VEVENT
UID:16868047@ezleagues.ezfacility.com
DTSTAMP:20260424T133000Z
CREATED:20260424T133000Z
DTSTART:20260123T053000Z
DTEND:20260123T063000Z
LOCATION:Field 2A
CONTACT:
SUMMARY:Fair Play VS. Dnipro
DESCRIPTION:League Name: Fall Thursday 7v7 Mens Soccer\nGame Type: Regular\
 nGame Status: Complete\nHome Team: Fair Play\nAway Team: Dnipro\nHome Scor
 e: 3\nAway Score: 9
END:VEVENT
BEGIN:VEVENT
UID:16868003@ezleagues.ezfacility.com
DTSTAMP:20260424T133000Z
CREATED:20260424T133000Z
DTSTART:20260130T043000Z
DTEND:20260130T053000Z
LOCATION:Field 2B
CONTACT:
SUMMARY:Pinewood FC VS. Dnipro
DESCRIPTION:League Name: Fall Thursday 7v7 Mens Soccer\nGame Type: Regular\
 nGame Status: Complete\nHome Team: Pinewood FC\nAway Team: Dnipro\nHome Sc
 ore: 2\nAway Score: 6
END:VEVENT
BEGIN:VEVENT
UID:16868012@ezleagues.ezfacility.com
DTSTAMP:20260424T133000Z
CREATED:20260424T133000Z
DTSTART:20260206T023000Z
DTEND:20260206T033000Z
LOCATION:Field 2A
CONTACT:
SUMMARY:Young Pops VS. Dnipro
DESCRIPTION:League Name: Fall Thursday 7v7 Mens Soccer\nGame Type: Regular\
 nGame Status: Complete\nHome Team: Young Pops\nAway Team: Dnipro\nHome Sco
 re: 2\nAway Score: 3
END:VEVENT
BEGIN:VEVENT
UID:16868021@ezleagues.ezfacility.com
DTSTAMP:20260424T133000Z
CREATED:20260424T133000Z
DTSTART:20260213T033000Z
DTEND:20260213T043000Z
LOCATION:Field 2A
CONTACT:
SUMMARY:Legends FC VS. Dnipro
DESCRIPTION:League Name: Fall Thursday 7v7 Mens Soccer\nGame Type: Regular\
 nGame Status: Complete\nHome Team: Legends FC\nAway Team: Dnipro\nHome Sco
 re: 1\nAway Score: 12
END:VEVENT
BEGIN:VEVENT
UID:16868113@ezleagues.ezfacility.com
DTSTAMP:20260424T133000Z
CREATED:20260424T133000Z
DTSTART:20260220T023000Z
DTEND:20260220T033000Z
LOCATION:Field 2A
CONTACT:
SUMMARY:Dnipro VS. VGS FC
DESCRIPTION:League Name: Fall Thursday 7v7 Mens Soccer\nGame Type: Postseas
 on\nGame Status: Complete\nHome Team: Dnipro\nAway Team: VGS FC\nHome Scor
 e: 8\nAway Score: 0
END:VEVENT
BEGIN:VEVENT
UID:16868117@ezleagues.ezfacility.com
DTSTAMP:20260424T133000Z
CREATED:20260424T133000Z
DTSTART:20260220T043000Z
DTEND:20260220T053000Z
LOCATION:Field 2A
CONTACT:
SUMMARY:Dnipro VS. Onlylads FC
DESCRIPTION:League Name: Fall Thursday 7v7 Mens Soccer\nGame Type: Postseas
 on\nGame Status: Complete\nHome Team: Dnipro\nAway Team: Onlylads FC\nHome
  Score: 3\nAway Score: 2
END:VEVENT
END:VCALENDAR
