BEGIN:VCALENDAR
VERSION:2.0
PRODID:-//EZFacility.com, Inc.//EZL 2.5.5.28621
BEGIN:VEVENT
UID:16820470@ezleagues.ezfacility.com
DTSTAMP:20260422T001139Z
CREATED:20260422T001139Z
DTSTART:20251102T014000Z
DTEND:20251102T024000Z
LOCATION:Field 3
CONTACT:Winslow
SUMMARY:All Bark No Bite VS. Qi United
DESCRIPTION:League Name: Saturday night COED Indoor session 1 2025\nGame Ty
 pe: Regular\nGame Status: Complete\nHome Team: All Bark No Bite\nAway Team
 : Qi United\nHome Score: 3\nAway Score: 1
END:VEVENT
BEGIN:VEVENT
UID:16829462@ezleagues.ezfacility.com
DTSTAMP:20260422T001139Z
CREATED:20260422T001139Z
DTSTART:20251109T034000Z
DTEND:20251109T044000Z
LOCATION:Field 3
CONTACT:Wilson
SUMMARY:All Bark No Bite VS. iFast Fix FC
DESCRIPTION:League Name: Saturday night COED Indoor session 1 2025\nGame Ty
 pe: Regular\nGame Status: Complete\nHome Team: All Bark No Bite\nAway Team
 : iFast Fix FC\nHome Score: 3\nAway Score: 4
END:VEVENT
BEGIN:VEVENT
UID:16831703@ezleagues.ezfacility.com
DTSTAMP:20260422T001139Z
CREATED:20260422T001139Z
DTSTART:20251116T024000Z
DTEND:20251116T034000Z
LOCATION:Field 3
CONTACT:Wilson
SUMMARY:The Hulks VS. All Bark No Bite
DESCRIPTION:League Name: Saturday night COED Indoor session 1 2025\nGame Ty
 pe: Regular\nGame Status: Complete\nHome Team: The Hulks\nAway Team: All B
 ark No Bite\nHome Score: 10\nAway Score: 4
END:VEVENT
BEGIN:VEVENT
UID:16831711@ezleagues.ezfacility.com
DTSTAMP:20260422T001139Z
CREATED:20260422T001139Z
DTSTART:20251123T034000Z
DTEND:20251123T044000Z
LOCATION:Field 3
CONTACT:Wilson
SUMMARY:All Bark No Bite VS. Retirees
DESCRIPTION:League Name: Saturday night COED Indoor session 1 2025\nGame Ty
 pe: Regular\nGame Status: Complete\nHome Team: All Bark No Bite\nAway Team
 : Retirees\nHome Score: 2\nAway Score: 5
END:VEVENT
BEGIN:VEVENT
UID:16831724@ezleagues.ezfacility.com
DTSTAMP:20260422T001139Z
CREATED:20260422T001139Z
DTSTART:20251130T002000Z
DTEND:20251130T012000Z
LOCATION:Field 1
CONTACT:Chinenyanga
SUMMARY:THE BUTTERCUPS VS. All Bark No Bite
DESCRIPTION:League Name: Saturday night COED Indoor session 1 2025\nGame Ty
 pe: Regular\nGame Status: Complete\nHome Team: THE BUTTERCUPS\nAway Team: 
 All Bark No Bite\nHome Score: 8\nAway Score: 3
END:VEVENT
BEGIN:VEVENT
UID:16831723@ezleagues.ezfacility.com
DTSTAMP:20260422T001139Z
CREATED:20260422T001139Z
DTSTART:20251130T012000Z
DTEND:20251130T022000Z
LOCATION:Field 1
CONTACT:Chinenyanga
SUMMARY:All Bark No Bite VS. LLEXI STRONG
DESCRIPTION:League Name: Saturday night COED Indoor session 1 2025\nGame Ty
 pe: Regular\nGame Status: Complete\nHome Team: All Bark No Bite\nAway Team
 : LLEXI STRONG\nHome Score: 0\nAway Score: 6
END:VEVENT
BEGIN:VEVENT
UID:16831781@ezleagues.ezfacility.com
DTSTAMP:20260422T001139Z
CREATED:20260422T001139Z
DTSTART:20251214T024000Z
DTEND:20251214T034000Z
LOCATION:Field 3
CONTACT:Svilar
SUMMARY:All Bark No Bite VS. LLEXI STRONG
DESCRIPTION:League Name: Saturday night COED Indoor session 1 2025\nGame Ty
 pe: Regular\nGame Status: Pending\nHome Team: All Bark No Bite\nAway Team:
  LLEXI STRONG\n
END:VEVENT
BEGIN:VEVENT
UID:16831787@ezleagues.ezfacility.com
DTSTAMP:20260422T001139Z
CREATED:20260422T001139Z
DTSTART:20251221T012000Z
DTEND:20251221T022000Z
LOCATION:Field 1
CONTACT:MCDonald
SUMMARY:Out of shape united VS. All Bark No Bite
DESCRIPTION:League Name: Saturday night COED Indoor session 1 2025\nGame Ty
 pe: Regular\nGame Status: Complete\nHome Team: Out of shape united\nAway T
 eam: All Bark No Bite\nHome Score: 7\nAway Score: 6
END:VEVENT
END:VCALENDAR
