BEGIN:VCALENDAR
VERSION:2.0
PRODID:-//EZFacility.com, Inc.//EZL 2.5.5.28621
BEGIN:VEVENT
UID:16794353@ezleagues.ezfacility.com
DTSTAMP:20260423T100800Z
CREATED:20260423T100800Z
DTSTART:20251030T093000Z
DTEND:20251030T101000Z
LOCATION:005 Nou Camp
CONTACT:Jack
SUMMARY:Ballbusters67 VS. Marmite
DESCRIPTION:League Name: SUMMER LEAGUES 25/26 Thursday Mixed 5s\nGame Type:
  Regular\nGame Status: Complete\nHome Team: Ballbusters67\nAway Team: Marm
 ite\nHome Score: 1\nAway Score: 17
END:VEVENT
BEGIN:VEVENT
UID:16794358@ezleagues.ezfacility.com
DTSTAMP:20260423T100800Z
CREATED:20260423T100800Z
DTSTART:20251106T101500Z
DTEND:20251106T105500Z
LOCATION:005 Nou Camp
CONTACT:Jayden
SUMMARY:Tiki Taka Tekky Steppers VS. Marmite
DESCRIPTION:League Name: SUMMER LEAGUES 25/26 Thursday Mixed 5s\nGame Type:
  Regular\nGame Status: Complete\nHome Team: Tiki Taka Tekky Steppers\nAway
  Team: Marmite\nHome Score: 4\nAway Score: 10
END:VEVENT
BEGIN:VEVENT
UID:16794363@ezleagues.ezfacility.com
DTSTAMP:20260423T100800Z
CREATED:20260423T100800Z
DTSTART:20251113T093000Z
DTEND:20251113T101000Z
LOCATION:006 Estadio do Dragao
CONTACT:
SUMMARY:Red Frogs VS. Marmite
DESCRIPTION:League Name: SUMMER LEAGUES 25/26 Thursday Mixed 5s\nGame Type:
  Regular\nGame Status: Complete\nHome Team: Red Frogs\nAway Team: Marmite\
 nHome Score: 0\nAway Score: 10
END:VEVENT
BEGIN:VEVENT
UID:16794368@ezleagues.ezfacility.com
DTSTAMP:20260423T100800Z
CREATED:20260423T100800Z
DTSTART:20251120T093000Z
DTEND:20251120T101000Z
LOCATION:006 Estadio do Dragao
CONTACT:Jack
SUMMARY:Blended FC VS. Marmite
DESCRIPTION:League Name: SUMMER LEAGUES 25/26 Thursday Mixed 5s\nGame Type:
  Regular\nGame Status: Complete\nHome Team: Blended FC\nAway Team: Marmite
 \nHome Score: 3\nAway Score: 9
END:VEVENT
BEGIN:VEVENT
UID:16794372@ezleagues.ezfacility.com
DTSTAMP:20260423T100800Z
CREATED:20260423T100800Z
DTSTART:20251127T101500Z
DTEND:20251127T105500Z
LOCATION:006 Estadio do Dragao
CONTACT:Ash
SUMMARY:Marmite VS. Rug Rats
DESCRIPTION:League Name: SUMMER LEAGUES 25/26 Thursday Mixed 5s\nGame Type:
  Regular\nGame Status: Complete\nHome Team: Marmite\nAway Team: Rug Rats\n
 Home Score: 18\nAway Score: 3
END:VEVENT
BEGIN:VEVENT
UID:16794375@ezleagues.ezfacility.com
DTSTAMP:20260423T100800Z
CREATED:20260423T100800Z
DTSTART:20251204T093000Z
DTEND:20251204T101000Z
LOCATION:003 San Siro
CONTACT:Jack
SUMMARY:Marmite VS. With Ourselves
DESCRIPTION:League Name: SUMMER LEAGUES 25/26 Thursday Mixed 5s\nGame Type:
  Regular\nGame Status: Complete\nHome Team: Marmite\nAway Team: With Ourse
 lves\nHome Score: 5\nAway Score: 7
END:VEVENT
BEGIN:VEVENT
UID:16794378@ezleagues.ezfacility.com
DTSTAMP:20260423T100800Z
CREATED:20260423T100800Z
DTSTART:20251211T093000Z
DTEND:20251211T101000Z
LOCATION:005 Nou Camp
CONTACT:Adrian
SUMMARY:Red Frogs VS. Marmite
DESCRIPTION:League Name: SUMMER LEAGUES 25/26 Thursday Mixed 5s\nGame Type:
  Regular\nGame Status: Complete\nHome Team: Red Frogs\nAway Team: Marmite\
 nHome Score: 6\nAway Score: 3
END:VEVENT
BEGIN:VEVENT
UID:16794381@ezleagues.ezfacility.com
DTSTAMP:20260423T100800Z
CREATED:20260423T100800Z
DTSTART:20251218T101500Z
DTEND:20251218T105500Z
LOCATION:005 Nou Camp
CONTACT:Matt
SUMMARY:Marmite VS. Ballbusters67
DESCRIPTION:League Name: SUMMER LEAGUES 25/26 Thursday Mixed 5s\nGame Type:
  Regular\nGame Status: Complete\nHome Team: Marmite\nAway Team: Ballbuster
 s67\nHome Score: 5\nAway Score: 5
END:VEVENT
BEGIN:VEVENT
UID:16794396@ezleagues.ezfacility.com
DTSTAMP:20260423T100800Z
CREATED:20260423T100800Z
DTSTART:20260108T093000Z
DTEND:20260108T101000Z
LOCATION:006 Estadio do Dragao
CONTACT:Connor
SUMMARY:Marmite VS. Blended FC
DESCRIPTION:League Name: SUMMER LEAGUES 25/26 Thursday Mixed 5s\nGame Type:
  Regular\nGame Status: Complete\nHome Team: Marmite\nAway Team: Blended FC
 \nHome Score: 12\nAway Score: 2
END:VEVENT
BEGIN:VEVENT
UID:16794403@ezleagues.ezfacility.com
DTSTAMP:20260423T100800Z
CREATED:20260423T100800Z
DTSTART:20260122T093000Z
DTEND:20260122T101000Z
LOCATION:009 Anfield
CONTACT:Adrian
SUMMARY:With Ourselves VS. Marmite
DESCRIPTION:League Name: SUMMER LEAGUES 25/26 Thursday Mixed 5s\nGame Type:
  Regular\nGame Status: Complete\nHome Team: With Ourselves\nAway Team: Mar
 mite\nHome Score: 12\nAway Score: 8
END:VEVENT
BEGIN:VEVENT
UID:16794386@ezleagues.ezfacility.com
DTSTAMP:20260423T100800Z
CREATED:20260423T100800Z
DTSTART:20260129T101500Z
DTEND:20260129T105500Z
LOCATION:005 Nou Camp
CONTACT:Connor
SUMMARY:Marmite VS. Tiki Taka Tekky Steppers
DESCRIPTION:League Name: SUMMER LEAGUES 25/26 Thursday Mixed 5s\nGame Type:
  Regular\nGame Status: Complete\nHome Team: Marmite\nAway Team: Tiki Taka 
 Tekky Steppers\nHome Score: 9\nAway Score: 3
END:VEVENT
BEGIN:VEVENT
UID:16794391@ezleagues.ezfacility.com
DTSTAMP:20260423T100800Z
CREATED:20260423T100800Z
DTSTART:20260205T031500Z
DTEND:20260205T035500Z
LOCATION:005 Nou Camp
CONTACT:AA
SUMMARY:Marmite VS. Team TBC#1
DESCRIPTION:League Name: SUMMER LEAGUES 25/26 Thursday Mixed 5s\nGame Type:
  Regular\nGame Status: Complete\nHome Team: Marmite\nAway Team: Team TBC#1
 \nHome Score: 10\nAway Score: 0
END:VEVENT
BEGIN:VEVENT
UID:16794400@ezleagues.ezfacility.com
DTSTAMP:20260423T100800Z
CREATED:20260423T100800Z
DTSTART:20260212T093000Z
DTEND:20260212T101000Z
LOCATION:005 Nou Camp
CONTACT:Corey 
SUMMARY:Ballbusters67 VS. Marmite
DESCRIPTION:League Name: SUMMER LEAGUES 25/26 Thursday Mixed 5s\nGame Type:
  Regular\nGame Status: Complete\nHome Team: Ballbusters67\nAway Team: Marm
 ite\nHome Score: 7\nAway Score: 12
END:VEVENT
BEGIN:VEVENT
UID:16996379@ezleagues.ezfacility.com
DTSTAMP:20260423T100800Z
CREATED:20260423T100800Z
DTSTART:20260219T093000Z
DTEND:20260219T101000Z
LOCATION:005 Nou Camp
CONTACT:Finnley
SUMMARY:Red Frogs VS. Marmite
DESCRIPTION:League Name: SUMMER LEAGUES 25/26 Thursday Mixed 5s\nGame Type:
  Postseason\nGame Status: Complete\nHome Team: Red Frogs\nAway Team: Marmi
 te\nHome Score: 3\nAway Score: 4
END:VEVENT
BEGIN:VEVENT
UID:16996397@ezleagues.ezfacility.com
DTSTAMP:20260423T100800Z
CREATED:20260423T100800Z
DTSTART:20260226T084500Z
DTEND:20260226T092500Z
LOCATION:005 Nou Camp
CONTACT:Ash
SUMMARY:Marmite VS. Rug Rats
DESCRIPTION:League Name: SUMMER LEAGUES 25/26 Thursday Mixed 5s\nGame Type:
  Postseason\nGame Status: Complete\nHome Team: Marmite\nAway Team: Rug Rat
 s\nHome Score: 6\nAway Score: 4
END:VEVENT
END:VCALENDAR
