BEGIN:VCALENDAR
VERSION:2.0
PRODID:-//EZFacility.com, Inc.//EZL 2.5.5.28621
BEGIN:VEVENT
UID:16818062@ezleagues.ezfacility.com
DTSTAMP:20260419T212344Z
CREATED:20260419T212344Z
DTSTART:20251109T220000Z
DTEND:20251109T225000Z
LOCATION:Field 2
CONTACT:
SUMMARY:Limon VS. Colombia Sport
DESCRIPTION:League Name: Under 12 Boys Comp F-25 (2014 oldest player)\nGame
  Type: Regular\nGame Status: Complete\nHome Team: Limon\nAway Team: Colomb
 ia Sport\nHome Score: 6\nAway Score: 5
END:VEVENT
BEGIN:VEVENT
UID:16818019@ezleagues.ezfacility.com
DTSTAMP:20260419T212344Z
CREATED:20260419T212344Z
DTSTART:20251116T025500Z
DTEND:20251116T034500Z
LOCATION:Field 1
CONTACT:
SUMMARY:Surf VS. Colombia Sport
DESCRIPTION:League Name: Under 12 Boys Comp F-25 (2014 oldest player)\nGame
  Type: Regular\nGame Status: Complete\nHome Team: Surf\nAway Team: Colombi
 a Sport\nHome Score: 5\nAway Score: 6
END:VEVENT
BEGIN:VEVENT
UID:16818035@ezleagues.ezfacility.com
DTSTAMP:20260419T212344Z
CREATED:20260419T212344Z
DTSTART:20251123T031000Z
DTEND:20251123T040000Z
LOCATION:Field 2
CONTACT:
SUMMARY:Colombia Sport VS. Ajax United
DESCRIPTION:League Name: Under 12 Boys Comp F-25 (2014 oldest player)\nGame
  Type: Regular\nGame Status: Complete\nHome Team: Colombia Sport\nAway Tea
 m: Ajax United\nHome Score: 0\nAway Score: 5
END:VEVENT
BEGIN:VEVENT
UID:16818041@ezleagues.ezfacility.com
DTSTAMP:20260419T212344Z
CREATED:20260419T212344Z
DTSTART:20251207T191000Z
DTEND:20251207T200000Z
LOCATION:Field 2
CONTACT:
SUMMARY:BOCA Girls VS. Colombia Sport
DESCRIPTION:League Name: Under 12 Boys Comp F-25 (2014 oldest player)\nGame
  Type: Regular\nGame Status: Complete\nHome Team: BOCA Girls\nAway Team: C
 olombia Sport\nHome Score: 9\nAway Score: 6
END:VEVENT
BEGIN:VEVENT
UID:16818046@ezleagues.ezfacility.com
DTSTAMP:20260419T212344Z
CREATED:20260419T212344Z
DTSTART:20251214T220000Z
DTEND:20251214T225000Z
LOCATION:Field 1
CONTACT:
SUMMARY:Colombia Sport VS. Mexico
DESCRIPTION:League Name: Under 12 Boys Comp F-25 (2014 oldest player)\nGame
  Type: Regular\nGame Status: Complete\nHome Team: Colombia Sport\nAway Tea
 m: Mexico\nHome Score: 1\nAway Score: 8
END:VEVENT
BEGIN:VEVENT
UID:16818028@ezleagues.ezfacility.com
DTSTAMP:20260419T212344Z
CREATED:20260419T212344Z
DTSTART:20260104T220000Z
DTEND:20260104T225000Z
LOCATION:Field 1
CONTACT:
SUMMARY:Colombia Sport VS. Fuego
DESCRIPTION:League Name: Under 12 Boys Comp F-25 (2014 oldest player)\nGame
  Type: Regular\nGame Status: Complete\nHome Team: Colombia Sport\nAway Tea
 m: Fuego\nHome Score: 5\nAway Score: 0
END:VEVENT
BEGIN:VEVENT
UID:16818051@ezleagues.ezfacility.com
DTSTAMP:20260419T212344Z
CREATED:20260419T212344Z
DTSTART:20260118T220000Z
DTEND:20260118T225000Z
LOCATION:Field 1
CONTACT:
SUMMARY:Ceres Rush VS. Colombia Sport
DESCRIPTION:League Name: Under 12 Boys Comp F-25 (2014 oldest player)\nGame
  Type: Regular\nGame Status: Complete\nHome Team: Ceres Rush\nAway Team: C
 olombia Sport\nHome Score: 8\nAway Score: 3
END:VEVENT
BEGIN:VEVENT
UID:16818015@ezleagues.ezfacility.com
DTSTAMP:20260419T212344Z
CREATED:20260419T212344Z
DTSTART:20260125T181500Z
DTEND:20260125T190500Z
LOCATION:Field 2
CONTACT:
SUMMARY:Colombia Sport VS. Academica
DESCRIPTION:League Name: Under 12 Boys Comp F-25 (2014 oldest player)\nGame
  Type: Regular\nGame Status: Complete\nHome Team: Colombia Sport\nAway Tea
 m: Academica\nHome Score: 4\nAway Score: 11
END:VEVENT
END:VCALENDAR
