BEGIN:VCALENDAR
VERSION:2.0
PRODID:-//EZFacility.com, Inc.//EZL 2.5.5.28621
BEGIN:VEVENT
UID:16793806@ezleagues.ezfacility.com
DTSTAMP:20260426T004316Z
CREATED:20260426T004316Z
DTSTART:20251122T193000Z
DTEND:20251122T203000Z
LOCATION:RCF West - Montevideo
CONTACT:
SUMMARY:ASCP VS. Sole Sisters U11Gs
DESCRIPTION:League Name: Youth League 2025-26 - Winter 1-Girls-U11 D1\nGame
  Type: Regular\nGame Status: Complete\nHome Team: ASCP\nAway Team: Sole Si
 sters U11Gs\nHome Score: 2\nAway Score: 5
END:VEVENT
BEGIN:VEVENT
UID:16793789@ezleagues.ezfacility.com
DTSTAMP:20260426T004316Z
CREATED:20260426T004316Z
DTSTART:20251123T175000Z
DTEND:20251123T185000Z
LOCATION:RCF East - Barcelona
CONTACT:
SUMMARY:Juniors academy VS. Sole Sisters U11Gs
DESCRIPTION:League Name: Youth League 2025-26 - Winter 1-Girls-U11 D1\nGame
  Type: Regular\nGame Status: Complete\nHome Team: Juniors academy\nAway Te
 am: Sole Sisters U11Gs\nHome Score: 3\nAway Score: 7
END:VEVENT
BEGIN:VEVENT
UID:16793844@ezleagues.ezfacility.com
DTSTAMP:20260426T004316Z
CREATED:20260426T004316Z
DTSTART:20251206T221000Z
DTEND:20251206T231000Z
LOCATION:RCF West - Buenos Aires
CONTACT:
SUMMARY:Sole Sisters U11Gs VS. Bananas II
DESCRIPTION:League Name: Youth League 2025-26 - Winter 1-Girls-U11 D1\nGame
  Type: Regular\nGame Status: Complete\nHome Team: Sole Sisters U11Gs\nAway
  Team: Bananas II\nHome Score: 7\nAway Score: 4
END:VEVENT
BEGIN:VEVENT
UID:16793755@ezleagues.ezfacility.com
DTSTAMP:20260426T004316Z
CREATED:20260426T004316Z
DTSTART:20251207T173000Z
DTEND:20251207T183000Z
LOCATION:RCF East - Rio
CONTACT:
SUMMARY:Sole Sisters U11Gs VS. PDX Strikers
DESCRIPTION:League Name: Youth League 2025-26 - Winter 1-Girls-U11 D1\nGame
  Type: Regular\nGame Status: Complete\nHome Team: Sole Sisters U11Gs\nAway
  Team: PDX Strikers\nHome Score: 2\nAway Score: 3
END:VEVENT
BEGIN:VEVENT
UID:16793772@ezleagues.ezfacility.com
DTSTAMP:20260426T004316Z
CREATED:20260426T004316Z
DTSTART:20251213T233000Z
DTEND:20251214T003000Z
LOCATION:RCF West - Montevideo
CONTACT:
SUMMARY:Bananas VS. Sole Sisters U11Gs
DESCRIPTION:League Name: Youth League 2025-26 - Winter 1-Girls-U11 D1\nGame
  Type: Regular\nGame Status: Complete\nHome Team: Bananas\nAway Team: Sole
  Sisters U11Gs\nHome Score: 6\nAway Score: 11
END:VEVENT
BEGIN:VEVENT
UID:16793863@ezleagues.ezfacility.com
DTSTAMP:20260426T004316Z
CREATED:20260426T004316Z
DTSTART:20251214T225000Z
DTEND:20251214T235000Z
LOCATION:RCF West - Tigard
CONTACT:
SUMMARY:Sole Sisters U11Gs VS. RCF Select 2016 Girls
DESCRIPTION:League Name: Youth League 2025-26 - Winter 1-Girls-U11 D1\nGame
  Type: Regular\nGame Status: Complete\nHome Team: Sole Sisters U11Gs\nAway
  Team: RCF Select 2016 Girls\nHome Score: 8\nAway Score: 3
END:VEVENT
BEGIN:VEVENT
UID:16793825@ezleagues.ezfacility.com
DTSTAMP:20260426T004316Z
CREATED:20260426T004316Z
DTSTART:20260110T165000Z
DTEND:20260110T175000Z
LOCATION:RCF East - Barcelona
CONTACT:
SUMMARY:Sole Sisters U11Gs VS. Elite Feet
DESCRIPTION:League Name: Youth League 2025-26 - Winter 1-Girls-U11 D1\nGame
  Type: Regular\nGame Status: Complete\nHome Team: Sole Sisters U11Gs\nAway
  Team: Elite Feet\nHome Score: 5\nAway Score: 5
END:VEVENT
BEGIN:VEVENT
UID:16793881@ezleagues.ezfacility.com
DTSTAMP:20260426T004316Z
CREATED:20260426T004316Z
DTSTART:20260117T221000Z
DTEND:20260117T231000Z
LOCATION:RCF East - Portland
CONTACT:
SUMMARY:PDX Strikers VS. Sole Sisters U11Gs
DESCRIPTION:League Name: Youth League 2025-26 - Winter 1-Girls-U11 D1\nGame
  Type: Regular\nGame Status: Complete\nHome Team: PDX Strikers\nAway Team:
  Sole Sisters U11Gs\nHome Score: 6\nAway Score: 9
END:VEVENT
END:VCALENDAR
