BEGIN:VCALENDAR
VERSION:2.0
PRODID:-//EZFacility.com, Inc.//EZL 2.5.5.28621
BEGIN:VEVENT
UID:16794486@ezleagues.ezfacility.com
DTSTAMP:20260421T063323Z
CREATED:20260421T063323Z
DTSTART:20251030T054500Z
DTEND:20251030T062500Z
LOCATION:005 Nou Camp
CONTACT:Lucas 
SUMMARY:Super Shooters VS. Killarney girls
DESCRIPTION:League Name: SUMMER LEAGUES 25/26 Thursday U7s\nGame Type: Regu
 lar\nGame Status: Complete\nHome Team: Super Shooters\nAway Team: Killarne
 y girls\nHome Score: 9\nAway Score: 2
END:VEVENT
BEGIN:VEVENT
UID:16794493@ezleagues.ezfacility.com
DTSTAMP:20260421T063323Z
CREATED:20260421T063323Z
DTSTART:20251106T054500Z
DTEND:20251106T062500Z
LOCATION:003 San Siro
CONTACT:Roman
SUMMARY:The Net Ninjas VS. Killarney girls
DESCRIPTION:League Name: SUMMER LEAGUES 25/26 Thursday U7s\nGame Type: Regu
 lar\nGame Status: Complete\nHome Team: The Net Ninjas\nAway Team: Killarne
 y girls\nHome Score: 2\nAway Score: 8
END:VEVENT
BEGIN:VEVENT
UID:16794500@ezleagues.ezfacility.com
DTSTAMP:20260421T063323Z
CREATED:20260421T063323Z
DTSTART:20251113T054500Z
DTEND:20251113T062500Z
LOCATION:008 Ibrox
CONTACT:Lucas 
SUMMARY:Killarney girls VS. The Dream Team
DESCRIPTION:League Name: SUMMER LEAGUES 25/26 Thursday U7s\nGame Type: Regu
 lar\nGame Status: Complete\nHome Team: Killarney girls\nAway Team: The Dre
 am Team\nHome Score: 2\nAway Score: 12
END:VEVENT
BEGIN:VEVENT
UID:16794501@ezleagues.ezfacility.com
DTSTAMP:20260421T063323Z
CREATED:20260421T063323Z
DTSTART:20251120T063000Z
DTEND:20251120T071000Z
LOCATION:003 San Siro
CONTACT:Seth
SUMMARY:Killarney girls VS. Summer Strikers
DESCRIPTION:League Name: SUMMER LEAGUES 25/26 Thursday U7s\nGame Type: Regu
 lar\nGame Status: Complete\nHome Team: Killarney girls\nAway Team: Summer 
 Strikers\nHome Score: 3\nAway Score: 13
END:VEVENT
BEGIN:VEVENT
UID:16794512@ezleagues.ezfacility.com
DTSTAMP:20260421T063323Z
CREATED:20260421T063323Z
DTSTART:20251127T054500Z
DTEND:20251127T062500Z
LOCATION:007 Celtic Park
CONTACT:Roman
SUMMARY:Goal diggers VS. Killarney girls
DESCRIPTION:League Name: SUMMER LEAGUES 25/26 Thursday U7s\nGame Type: Regu
 lar\nGame Status: Complete\nHome Team: Goal diggers\nAway Team: Killarney 
 girls\nHome Score: 10\nAway Score: 0
END:VEVENT
BEGIN:VEVENT
UID:16794517@ezleagues.ezfacility.com
DTSTAMP:20260421T063323Z
CREATED:20260421T063323Z
DTSTART:20251204T054500Z
DTEND:20251204T062500Z
LOCATION:003 San Siro
CONTACT:Hunter
SUMMARY:Loot Llamas VS. Killarney girls
DESCRIPTION:League Name: SUMMER LEAGUES 25/26 Thursday U7s\nGame Type: Regu
 lar\nGame Status: Complete\nHome Team: Loot Llamas\nAway Team: Killarney g
 irls\nHome Score: 11\nAway Score: 1
END:VEVENT
BEGIN:VEVENT
UID:16794522@ezleagues.ezfacility.com
DTSTAMP:20260421T063323Z
CREATED:20260421T063323Z
DTSTART:20251211T054500Z
DTEND:20251211T062500Z
LOCATION:005 Nou Camp
CONTACT:Adrian
SUMMARY:The Avengers  VS. Killarney girls
DESCRIPTION:League Name: SUMMER LEAGUES 25/26 Thursday U7s\nGame Type: Regu
 lar\nGame Status: Complete\nHome Team: The Avengers \nAway Team: Killarney
  girls\nHome Score: 10\nAway Score: 0
END:VEVENT
BEGIN:VEVENT
UID:16794527@ezleagues.ezfacility.com
DTSTAMP:20260421T063323Z
CREATED:20260421T063323Z
DTSTART:20251218T054500Z
DTEND:20251218T062500Z
LOCATION:006 Estadio do Dragao
CONTACT:Adrian
SUMMARY:Wombats VS. Killarney girls
DESCRIPTION:League Name: SUMMER LEAGUES 25/26 Thursday U7s\nGame Type: Regu
 lar\nGame Status: Complete\nHome Team: Wombats\nAway Team: Killarney girls
 \nHome Score: 0\nAway Score: 10
END:VEVENT
BEGIN:VEVENT
UID:16794545@ezleagues.ezfacility.com
DTSTAMP:20260421T063323Z
CREATED:20260421T063323Z
DTSTART:20260108T054500Z
DTEND:20260108T062500Z
LOCATION:006 Estadio do Dragao
CONTACT:Adrian
SUMMARY:Killarney girls VS. Kick Squad
DESCRIPTION:League Name: SUMMER LEAGUES 25/26 Thursday U7s\nGame Type: Regu
 lar\nGame Status: Complete\nHome Team: Killarney girls\nAway Team: Kick Sq
 uad\nHome Score: 0\nAway Score: 10
END:VEVENT
BEGIN:VEVENT
UID:16794552@ezleagues.ezfacility.com
DTSTAMP:20260421T063323Z
CREATED:20260421T063323Z
DTSTART:20260115T054500Z
DTEND:20260115T062500Z
LOCATION:005 Nou Camp
CONTACT:Jake
SUMMARY:Killarney girls VS. Super Shooters
DESCRIPTION:League Name: SUMMER LEAGUES 25/26 Thursday U7s\nGame Type: Regu
 lar\nGame Status: Complete\nHome Team: Killarney girls\nAway Team: Super S
 hooters\nHome Score: 3\nAway Score: 10
END:VEVENT
BEGIN:VEVENT
UID:16794559@ezleagues.ezfacility.com
DTSTAMP:20260421T063323Z
CREATED:20260421T063323Z
DTSTART:20260122T054500Z
DTEND:20260122T062500Z
LOCATION:007 Celtic Park
CONTACT:Matt
SUMMARY:Killarney girls VS. TBC
DESCRIPTION:League Name: SUMMER LEAGUES 25/26 Thursday U7s\nGame Type: Regu
 lar\nGame Status: Complete\nHome Team: Killarney girls\nAway Team: TBC\nHo
 me Score: 10\nAway Score: 0
END:VEVENT
BEGIN:VEVENT
UID:16794532@ezleagues.ezfacility.com
DTSTAMP:20260421T063323Z
CREATED:20260421T063323Z
DTSTART:20260129T024500Z
DTEND:20260129T032500Z
LOCATION:007 Celtic Park
CONTACT:AA
SUMMARY:Team TBC#1 VS. Killarney girls
DESCRIPTION:League Name: SUMMER LEAGUES 25/26 Thursday U7s\nGame Type: Regu
 lar\nGame Status: Complete\nHome Team: Team TBC#1\nAway Team: Killarney gi
 rls\nHome Score: 0\nAway Score: 10
END:VEVENT
BEGIN:VEVENT
UID:16794538@ezleagues.ezfacility.com
DTSTAMP:20260421T063323Z
CREATED:20260421T063323Z
DTSTART:20260205T054500Z
DTEND:20260205T062500Z
LOCATION:004 La Bombonera
CONTACT:Liam
SUMMARY:Killarney girls VS. GDFC
DESCRIPTION:League Name: SUMMER LEAGUES 25/26 Thursday U7s\nGame Type: Regu
 lar\nGame Status: Complete\nHome Team: Killarney girls\nAway Team: GDFC\nH
 ome Score: 3\nAway Score: 13
END:VEVENT
BEGIN:VEVENT
UID:16996328@ezleagues.ezfacility.com
DTSTAMP:20260421T063323Z
CREATED:20260421T063323Z
DTSTART:20260212T054500Z
DTEND:20260212T062500Z
LOCATION:005 Nou Camp
CONTACT:Liam
SUMMARY:Killarney girls VS. Wombats
DESCRIPTION:League Name: SUMMER LEAGUES 25/26 Thursday U7s\nGame Type: Post
 season\nGame Status: Complete\nHome Team: Killarney girls\nAway Team: Womb
 ats\nHome Score: 0\nAway Score: 10
END:VEVENT
END:VCALENDAR
