BEGIN:VCALENDAR
VERSION:2.0
PRODID:-//EZFacility.com, Inc.//EZL 2.5.5.28621
BEGIN:VEVENT
UID:16794483@ezleagues.ezfacility.com
DTSTAMP:20260421T063033Z
CREATED:20260421T063033Z
DTSTART:20251030T063000Z
DTEND:20251030T071000Z
LOCATION:003 San Siro
CONTACT:Eli
SUMMARY:The Avengers  VS. Summer Strikers
DESCRIPTION:League Name: SUMMER LEAGUES 25/26 Thursday U7s\nGame Type: Regu
 lar\nGame Status: Complete\nHome Team: The Avengers \nAway Team: Summer St
 rikers\nHome Score: 2\nAway Score: 12
END:VEVENT
BEGIN:VEVENT
UID:16794489@ezleagues.ezfacility.com
DTSTAMP:20260421T063033Z
CREATED:20260421T063033Z
DTSTART:20251106T063000Z
DTEND:20251106T071000Z
LOCATION:003 San Siro
CONTACT:Roman
SUMMARY:Wombats VS. Summer Strikers
DESCRIPTION:League Name: SUMMER LEAGUES 25/26 Thursday U7s\nGame Type: Regu
 lar\nGame Status: Complete\nHome Team: Wombats\nAway Team: Summer Strikers
 \nHome Score: 2\nAway Score: 12
END:VEVENT
BEGIN:VEVENT
UID:16794495@ezleagues.ezfacility.com
DTSTAMP:20260421T063033Z
CREATED:20260421T063033Z
DTSTART:20251113T063000Z
DTEND:20251113T071000Z
LOCATION:003 San Siro
CONTACT:Jack
SUMMARY:Summer Strikers VS. Jellyfish united
DESCRIPTION:League Name: SUMMER LEAGUES 25/26 Thursday U7s\nGame Type: Regu
 lar\nGame Status: Complete\nHome Team: Summer Strikers\nAway Team: Jellyfi
 sh united\nHome Score: 10\nAway Score: 0
END:VEVENT
BEGIN:VEVENT
UID:16794501@ezleagues.ezfacility.com
DTSTAMP:20260421T063033Z
CREATED:20260421T063033Z
DTSTART:20251120T063000Z
DTEND:20251120T071000Z
LOCATION:003 San Siro
CONTACT:Seth
SUMMARY:Killarney girls VS. Summer Strikers
DESCRIPTION:League Name: SUMMER LEAGUES 25/26 Thursday U7s\nGame Type: Regu
 lar\nGame Status: Complete\nHome Team: Killarney girls\nAway Team: Summer 
 Strikers\nHome Score: 3\nAway Score: 13
END:VEVENT
BEGIN:VEVENT
UID:16794507@ezleagues.ezfacility.com
DTSTAMP:20260421T063033Z
CREATED:20260421T063033Z
DTSTART:20251127T063000Z
DTEND:20251127T071000Z
LOCATION:003 San Siro
CONTACT:Jesse
SUMMARY:Kick Squad VS. Summer Strikers
DESCRIPTION:League Name: SUMMER LEAGUES 25/26 Thursday U7s\nGame Type: Regu
 lar\nGame Status: Complete\nHome Team: Kick Squad\nAway Team: Summer Strik
 ers\nHome Score: 0\nAway Score: 10
END:VEVENT
BEGIN:VEVENT
UID:16794513@ezleagues.ezfacility.com
DTSTAMP:20260421T063033Z
CREATED:20260421T063033Z
DTSTART:20251204T063000Z
DTEND:20251204T071000Z
LOCATION:003 San Siro
CONTACT:Hunter
SUMMARY:Super Shooters VS. Summer Strikers
DESCRIPTION:League Name: SUMMER LEAGUES 25/26 Thursday U7s\nGame Type: Regu
 lar\nGame Status: Complete\nHome Team: Super Shooters\nAway Team: Summer S
 trikers\nHome Score: 2\nAway Score: 9
END:VEVENT
BEGIN:VEVENT
UID:16794519@ezleagues.ezfacility.com
DTSTAMP:20260421T063033Z
CREATED:20260421T063033Z
DTSTART:20251211T063000Z
DTEND:20251211T071000Z
LOCATION:003 San Siro
CONTACT:Finnley
SUMMARY:The Net Ninjas VS. Summer Strikers
DESCRIPTION:League Name: SUMMER LEAGUES 25/26 Thursday U7s\nGame Type: Regu
 lar\nGame Status: Complete\nHome Team: The Net Ninjas\nAway Team: Summer S
 trikers\nHome Score: 1\nAway Score: 11
END:VEVENT
BEGIN:VEVENT
UID:16794525@ezleagues.ezfacility.com
DTSTAMP:20260421T063033Z
CREATED:20260421T063033Z
DTSTART:20251218T063000Z
DTEND:20251218T071000Z
LOCATION:003 San Siro
CONTACT:Finnley
SUMMARY:The Dream Team VS. Summer Strikers
DESCRIPTION:League Name: SUMMER LEAGUES 25/26 Thursday U7s\nGame Type: Regu
 lar\nGame Status: Complete\nHome Team: The Dream Team\nAway Team: Summer S
 trikers\nHome Score: 10\nAway Score: 4
END:VEVENT
BEGIN:VEVENT
UID:16794543@ezleagues.ezfacility.com
DTSTAMP:20260421T063033Z
CREATED:20260421T063033Z
DTSTART:20260108T063000Z
DTEND:20260108T071000Z
LOCATION:003 San Siro
CONTACT:Lucas 
SUMMARY:Summer Strikers VS. Loot Llamas
DESCRIPTION:League Name: SUMMER LEAGUES 25/26 Thursday U7s\nGame Type: Regu
 lar\nGame Status: Complete\nHome Team: Summer Strikers\nAway Team: Loot Ll
 amas\nHome Score: 9\nAway Score: 5
END:VEVENT
BEGIN:VEVENT
UID:16794549@ezleagues.ezfacility.com
DTSTAMP:20260421T063033Z
CREATED:20260421T063033Z
DTSTART:20260115T063000Z
DTEND:20260115T071000Z
LOCATION:003 San Siro
CONTACT:Lucas 
SUMMARY:Summer Strikers VS. The Avengers 
DESCRIPTION:League Name: SUMMER LEAGUES 25/26 Thursday U7s\nGame Type: Regu
 lar\nGame Status: Complete\nHome Team: Summer Strikers\nAway Team: The Ave
 ngers \nHome Score: 14\nAway Score: 4
END:VEVENT
BEGIN:VEVENT
UID:16794555@ezleagues.ezfacility.com
DTSTAMP:20260421T063033Z
CREATED:20260421T063033Z
DTSTART:20260122T063000Z
DTEND:20260122T071000Z
LOCATION:003 San Siro
CONTACT:Myles
SUMMARY:Summer Strikers VS. Wombats
DESCRIPTION:League Name: SUMMER LEAGUES 25/26 Thursday U7s\nGame Type: Regu
 lar\nGame Status: Complete\nHome Team: Summer Strikers\nAway Team: Wombats
 \nHome Score: 11\nAway Score: 1
END:VEVENT
BEGIN:VEVENT
UID:16794531@ezleagues.ezfacility.com
DTSTAMP:20260421T063033Z
CREATED:20260421T063033Z
DTSTART:20260129T063000Z
DTEND:20260129T071000Z
LOCATION:003 San Siro
CONTACT:Tate
SUMMARY:Summer Strikers VS. GDFC
DESCRIPTION:League Name: SUMMER LEAGUES 25/26 Thursday U7s\nGame Type: Regu
 lar\nGame Status: Complete\nHome Team: Summer Strikers\nAway Team: GDFC\nH
 ome Score: 11\nAway Score: 1
END:VEVENT
BEGIN:VEVENT
UID:16794537@ezleagues.ezfacility.com
DTSTAMP:20260421T063033Z
CREATED:20260421T063033Z
DTSTART:20260205T063000Z
DTEND:20260205T071000Z
LOCATION:003 San Siro
CONTACT:Roman
SUMMARY:Summer Strikers VS. Goal diggers
DESCRIPTION:League Name: SUMMER LEAGUES 25/26 Thursday U7s\nGame Type: Regu
 lar\nGame Status: Complete\nHome Team: Summer Strikers\nAway Team: Goal di
 ggers\nHome Score: 12\nAway Score: 7
END:VEVENT
BEGIN:VEVENT
UID:16996325@ezleagues.ezfacility.com
DTSTAMP:20260421T063033Z
CREATED:20260421T063033Z
DTSTART:20260212T063000Z
DTEND:20260212T071000Z
LOCATION:004 La Bombonera
CONTACT:Jesse
SUMMARY:Summer Strikers VS. Loot Llamas
DESCRIPTION:League Name: SUMMER LEAGUES 25/26 Thursday U7s\nGame Type: Post
 season\nGame Status: Complete\nHome Team: Summer Strikers\nAway Team: Loot
  Llamas\nHome Score: 9\nAway Score: 3
END:VEVENT
BEGIN:VEVENT
UID:16996347@ezleagues.ezfacility.com
DTSTAMP:20260421T063033Z
CREATED:20260421T063033Z
DTSTART:20260219T063000Z
DTEND:20260219T071000Z
LOCATION:004 La Bombonera
CONTACT:Jesse
SUMMARY:The Dream Team VS. Summer Strikers
DESCRIPTION:League Name: SUMMER LEAGUES 25/26 Thursday U7s\nGame Type: Post
 season\nGame Status: Complete\nHome Team: The Dream Team\nAway Team: Summe
 r Strikers\nHome Score: 7\nAway Score: 5
END:VEVENT
END:VCALENDAR
