BEGIN:VCALENDAR
VERSION:2.0
PRODID:-//EZFacility.com, Inc.//EZL 2.5.5.28621
BEGIN:VEVENT
UID:16794483@ezleagues.ezfacility.com
DTSTAMP:20260423T192642Z
CREATED:20260423T192642Z
DTSTART:20251030T063000Z
DTEND:20251030T071000Z
LOCATION:003 San Siro
CONTACT:Eli
SUMMARY:The Avengers  VS. Summer Strikers
DESCRIPTION:League Name: SUMMER LEAGUES 25/26 Thursday U7s\nGame Type: Regu
 lar\nGame Status: Complete\nHome Team: The Avengers \nAway Team: Summer St
 rikers\nHome Score: 2\nAway Score: 12
END:VEVENT
BEGIN:VEVENT
UID:16794492@ezleagues.ezfacility.com
DTSTAMP:20260423T192642Z
CREATED:20260423T192642Z
DTSTART:20251106T054500Z
DTEND:20251106T062500Z
LOCATION:006 Estadio do Dragao
CONTACT:Sam
SUMMARY:The Avengers  VS. Goal diggers
DESCRIPTION:League Name: SUMMER LEAGUES 25/26 Thursday U7s\nGame Type: Regu
 lar\nGame Status: Complete\nHome Team: The Avengers \nAway Team: Goal digg
 ers\nHome Score: 9\nAway Score: 9
END:VEVENT
BEGIN:VEVENT
UID:16794497@ezleagues.ezfacility.com
DTSTAMP:20260423T192642Z
CREATED:20260423T192642Z
DTSTART:20251113T054500Z
DTEND:20251113T062500Z
LOCATION:007 Celtic Park
CONTACT:Kian
SUMMARY:Loot Llamas VS. The Avengers 
DESCRIPTION:League Name: SUMMER LEAGUES 25/26 Thursday U7s\nGame Type: Regu
 lar\nGame Status: Complete\nHome Team: Loot Llamas\nAway Team: The Avenger
 s \nHome Score: 9\nAway Score: 6
END:VEVENT
BEGIN:VEVENT
UID:16794502@ezleagues.ezfacility.com
DTSTAMP:20260423T192642Z
CREATED:20260423T192642Z
DTSTART:20251120T054500Z
DTEND:20251120T062500Z
LOCATION:004 La Bombonera
CONTACT:Jayden
SUMMARY:GDFC VS. The Avengers 
DESCRIPTION:League Name: SUMMER LEAGUES 25/26 Thursday U7s\nGame Type: Regu
 lar\nGame Status: Complete\nHome Team: GDFC\nAway Team: The Avengers \nHom
 e Score: 3\nAway Score: 10
END:VEVENT
BEGIN:VEVENT
UID:16794509@ezleagues.ezfacility.com
DTSTAMP:20260423T192642Z
CREATED:20260423T192642Z
DTSTART:20251127T054500Z
DTEND:20251127T062500Z
LOCATION:005 Nou Camp
CONTACT:Myles
SUMMARY:The Avengers  VS. Wombats
DESCRIPTION:League Name: SUMMER LEAGUES 25/26 Thursday U7s\nGame Type: Regu
 lar\nGame Status: Complete\nHome Team: The Avengers \nAway Team: Wombats\n
 Home Score: 9\nAway Score: 3
END:VEVENT
BEGIN:VEVENT
UID:16794516@ezleagues.ezfacility.com
DTSTAMP:20260423T192642Z
CREATED:20260423T192642Z
DTSTART:20251204T054500Z
DTEND:20251204T062500Z
LOCATION:004 La Bombonera
CONTACT:Finnley
SUMMARY:The Avengers  VS. Slayers
DESCRIPTION:League Name: SUMMER LEAGUES 25/26 Thursday U7s\nGame Type: Regu
 lar\nGame Status: Complete\nHome Team: The Avengers \nAway Team: Slayers\n
 Home Score: 10\nAway Score: 0
END:VEVENT
BEGIN:VEVENT
UID:16794522@ezleagues.ezfacility.com
DTSTAMP:20260423T192642Z
CREATED:20260423T192642Z
DTSTART:20251211T054500Z
DTEND:20251211T062500Z
LOCATION:005 Nou Camp
CONTACT:Adrian
SUMMARY:The Avengers  VS. Killarney girls
DESCRIPTION:League Name: SUMMER LEAGUES 25/26 Thursday U7s\nGame Type: Regu
 lar\nGame Status: Complete\nHome Team: The Avengers \nAway Team: Killarney
  girls\nHome Score: 10\nAway Score: 0
END:VEVENT
BEGIN:VEVENT
UID:16794529@ezleagues.ezfacility.com
DTSTAMP:20260423T192642Z
CREATED:20260423T192642Z
DTSTART:20251218T054500Z
DTEND:20251218T062500Z
LOCATION:007 Celtic Park
CONTACT:Hunter
SUMMARY:The Avengers  VS. Kick Squad
DESCRIPTION:League Name: SUMMER LEAGUES 25/26 Thursday U7s\nGame Type: Regu
 lar\nGame Status: Complete\nHome Team: The Avengers \nAway Team: Kick Squa
 d\nHome Score: 12\nAway Score: 4
END:VEVENT
BEGIN:VEVENT
UID:16794547@ezleagues.ezfacility.com
DTSTAMP:20260423T192642Z
CREATED:20260423T192642Z
DTSTART:20260108T054500Z
DTEND:20260108T062500Z
LOCATION:007 Celtic Park
CONTACT:Jesse
SUMMARY:The Dream Team VS. The Avengers 
DESCRIPTION:League Name: SUMMER LEAGUES 25/26 Thursday U7s\nGame Type: Regu
 lar\nGame Status: Complete\nHome Team: The Dream Team\nAway Team: The Aven
 gers \nHome Score: 9\nAway Score: 7
END:VEVENT
BEGIN:VEVENT
UID:16794549@ezleagues.ezfacility.com
DTSTAMP:20260423T192642Z
CREATED:20260423T192642Z
DTSTART:20260115T063000Z
DTEND:20260115T071000Z
LOCATION:003 San Siro
CONTACT:Lucas 
SUMMARY:Summer Strikers VS. The Avengers 
DESCRIPTION:League Name: SUMMER LEAGUES 25/26 Thursday U7s\nGame Type: Regu
 lar\nGame Status: Complete\nHome Team: Summer Strikers\nAway Team: The Ave
 ngers \nHome Score: 14\nAway Score: 4
END:VEVENT
BEGIN:VEVENT
UID:16794558@ezleagues.ezfacility.com
DTSTAMP:20260423T192642Z
CREATED:20260423T192642Z
DTSTART:20260122T054500Z
DTEND:20260122T062500Z
LOCATION:006 Estadio do Dragao
CONTACT:Will
SUMMARY:Goal diggers VS. The Avengers 
DESCRIPTION:League Name: SUMMER LEAGUES 25/26 Thursday U7s\nGame Type: Regu
 lar\nGame Status: Complete\nHome Team: Goal diggers\nAway Team: The Avenge
 rs \nHome Score: 6\nAway Score: 4
END:VEVENT
BEGIN:VEVENT
UID:16794536@ezleagues.ezfacility.com
DTSTAMP:20260423T192642Z
CREATED:20260423T192642Z
DTSTART:20260129T054500Z
DTEND:20260129T062500Z
LOCATION:003 San Siro
CONTACT:Tate
SUMMARY:The Avengers  VS. Super Shooters
DESCRIPTION:League Name: SUMMER LEAGUES 25/26 Thursday U7s\nGame Type: Regu
 lar\nGame Status: Complete\nHome Team: The Avengers \nAway Team: Super Sho
 oters\nHome Score: 10\nAway Score: 3
END:VEVENT
BEGIN:VEVENT
UID:16794542@ezleagues.ezfacility.com
DTSTAMP:20260423T192642Z
CREATED:20260423T192642Z
DTSTART:20260205T054500Z
DTEND:20260205T062500Z
LOCATION:003 San Siro
CONTACT:Roman
SUMMARY:The Net Ninjas VS. The Avengers 
DESCRIPTION:League Name: SUMMER LEAGUES 25/26 Thursday U7s\nGame Type: Regu
 lar\nGame Status: Complete\nHome Team: The Net Ninjas\nAway Team: The Aven
 gers \nHome Score: 1\nAway Score: 11
END:VEVENT
BEGIN:VEVENT
UID:16996327@ezleagues.ezfacility.com
DTSTAMP:20260423T192642Z
CREATED:20260423T192642Z
DTSTART:20260212T054500Z
DTEND:20260212T062500Z
LOCATION:004 La Bombonera
CONTACT:Jesse
SUMMARY:The Avengers  VS. GDFC
DESCRIPTION:League Name: SUMMER LEAGUES 25/26 Thursday U7s\nGame Type: Post
 season\nGame Status: Complete\nHome Team: The Avengers \nAway Team: GDFC\n
 Home Score: 12\nAway Score: 3
END:VEVENT
BEGIN:VEVENT
UID:16996348@ezleagues.ezfacility.com
DTSTAMP:20260423T192642Z
CREATED:20260423T192642Z
DTSTART:20260219T054500Z
DTEND:20260219T062500Z
LOCATION:006 Estadio do Dragao
CONTACT:Sam
SUMMARY:Super Shooters VS. The Avengers 
DESCRIPTION:League Name: SUMMER LEAGUES 25/26 Thursday U7s\nGame Type: Post
 season\nGame Status: Complete\nHome Team: Super Shooters\nAway Team: The A
 vengers \nHome Score: 8\nAway Score: 7
END:VEVENT
END:VCALENDAR
