BEGIN:VCALENDAR
VERSION:2.0
PRODID:-//EZFacility.com, Inc.//EZL 2.5.5.28621
BEGIN:VEVENT
UID:16798556@ezleagues.ezfacility.com
DTSTAMP:20260424T000249Z
CREATED:20260424T000249Z
DTSTART:20251023T015000Z
DTEND:20251023T024000Z
LOCATION:Field 2
CONTACT:
SUMMARY:Cross United FC VS. Johnson’s  Long Balls FC
DESCRIPTION:League Name: Adult Soccer Session 3-A League\nGame Type: Regula
 r\nGame Status: Complete\nHome Team: Cross United FC\nAway Team: Johnson’
 s  Long Balls FC\nHome Score: 1\nAway Score: 2
END:VEVENT
BEGIN:VEVENT
UID:16798559@ezleagues.ezfacility.com
DTSTAMP:20260424T000249Z
CREATED:20260424T000249Z
DTSTART:20251030T024000Z
DTEND:20251030T033000Z
LOCATION:Field 2
CONTACT:
SUMMARY:Johnson’s  Long Balls FC VS. Blazers
DESCRIPTION:League Name: Adult Soccer Session 3-A League\nGame Type: Regula
 r\nGame Status: Complete\nHome Team: Johnson’s  Long Balls FC\nAway Team
 : Blazers\nHome Score: 5\nAway Score: 7
END:VEVENT
BEGIN:VEVENT
UID:16798564@ezleagues.ezfacility.com
DTSTAMP:20260424T000249Z
CREATED:20260424T000249Z
DTSTART:20251106T020000Z
DTEND:20251106T025000Z
LOCATION:Field 2
CONTACT:
SUMMARY:Johnson’s  Long Balls FC VS. Palistino
DESCRIPTION:League Name: Adult Soccer Session 3-A League\nGame Type: Regula
 r\nGame Status: Complete\nHome Team: Johnson’s  Long Balls FC\nAway Team
 : Palistino\nHome Score: 10\nAway Score: 6
END:VEVENT
BEGIN:VEVENT
UID:16798569@ezleagues.ezfacility.com
DTSTAMP:20260424T000249Z
CREATED:20260424T000249Z
DTSTART:20251113T043000Z
DTEND:20251113T052000Z
LOCATION:Field 2
CONTACT:
SUMMARY:Johnson’s  Long Balls FC VS. Jarlaths
DESCRIPTION:League Name: Adult Soccer Session 3-A League\nGame Type: Regula
 r\nGame Status: Complete\nHome Team: Johnson’s  Long Balls FC\nAway Team
 : Jarlaths\nHome Score: 7\nAway Score: 3
END:VEVENT
BEGIN:VEVENT
UID:16798574@ezleagues.ezfacility.com
DTSTAMP:20260424T000249Z
CREATED:20260424T000249Z
DTSTART:20251120T025000Z
DTEND:20251120T034000Z
LOCATION:Field 2
CONTACT:
SUMMARY:Johnson’s  Long Balls FC VS. Valencia
DESCRIPTION:League Name: Adult Soccer Session 3-A League\nGame Type: Regula
 r\nGame Status: Complete\nHome Team: Johnson’s  Long Balls FC\nAway Team
 : Valencia\nHome Score: 10\nAway Score: 4
END:VEVENT
BEGIN:VEVENT
UID:16798581@ezleagues.ezfacility.com
DTSTAMP:20260424T000249Z
CREATED:20260424T000249Z
DTSTART:20251204T020000Z
DTEND:20251204T025000Z
LOCATION:Field 2
CONTACT:
SUMMARY:Lewis Men’s Soccer VS. Johnson’s  Long Balls FC
DESCRIPTION:League Name: Adult Soccer Session 3-A League\nGame Type: Regula
 r\nGame Status: Complete\nHome Team: Lewis Men’s Soccer\nAway Team: John
 son’s  Long Balls FC\nHome Score: 7\nAway Score: 11
END:VEVENT
BEGIN:VEVENT
UID:16798578@ezleagues.ezfacility.com
DTSTAMP:20260424T000249Z
CREATED:20260424T000249Z
DTSTART:20251211T025000Z
DTEND:20251211T034000Z
LOCATION:Field 2
CONTACT:
SUMMARY:Milan FC VS. Johnson’s  Long Balls FC
DESCRIPTION:League Name: Adult Soccer Session 3-A League\nGame Type: Regula
 r\nGame Status: Complete\nHome Team: Milan FC\nAway Team: Johnson’s  Lon
 g Balls FC\nHome Score: 2\nAway Score: 3
END:VEVENT
BEGIN:VEVENT
UID:16798585@ezleagues.ezfacility.com
DTSTAMP:20260424T000249Z
CREATED:20260424T000249Z
DTSTART:20251218T025000Z
DTEND:20251218T034000Z
LOCATION:Field 2
CONTACT:
SUMMARY:Johnson’s  Long Balls FC VS. Blazers
DESCRIPTION:League Name: Adult Soccer Session 3-A League\nGame Type: Postse
 ason\nGame Status: Complete\nHome Team: Johnson’s  Long Balls FC\nAway T
 eam: Blazers\nHome Score: 6\nAway Score: 5
END:VEVENT
BEGIN:VEVENT
UID:16798587@ezleagues.ezfacility.com
DTSTAMP:20260424T000249Z
CREATED:20260424T000249Z
DTSTART:20251219T035000Z
DTEND:20251219T044000Z
LOCATION:Field 2
CONTACT:
SUMMARY:Johnson’s  Long Balls FC VS. Palistino
DESCRIPTION:League Name: Adult Soccer Session 3-A League\nGame Type: Postse
 ason\nGame Status: Complete\nHome Team: Johnson’s  Long Balls FC\nAway T
 eam: Palistino\nHome Score: 3\nAway Score: 4
END:VEVENT
END:VCALENDAR
