BEGIN:VCALENDAR
VERSION:2.0
PRODID:-//EZFacility.com, Inc.//EZL 2.5.5.28621
BEGIN:VEVENT
UID:16800775@ezleagues.ezfacility.com
DTSTAMP:20260422T183140Z
CREATED:20260422T183140Z
DTSTART:20251030T080000Z
DTEND:20251030T084000Z
LOCATION:006 Estadio do Dragao
CONTACT:Kian
SUMMARY:The Terriers VS. Raging Reddies
DESCRIPTION:League Name: SUMMER LEAGUES 25/26 Thursday U12s\nGame Type: Reg
 ular\nGame Status: Complete\nHome Team: The Terriers\nAway Team: Raging Re
 ddies\nHome Score: 5\nAway Score: 3
END:VEVENT
BEGIN:VEVENT
UID:16800779@ezleagues.ezfacility.com
DTSTAMP:20260422T183140Z
CREATED:20260422T183140Z
DTSTART:20251106T080000Z
DTEND:20251106T084000Z
LOCATION:006 Estadio do Dragao
CONTACT:Sam
SUMMARY:Raging Reddies VS. KVT United
DESCRIPTION:League Name: SUMMER LEAGUES 25/26 Thursday U12s\nGame Type: Reg
 ular\nGame Status: Complete\nHome Team: Raging Reddies\nAway Team: KVT Uni
 ted\nHome Score: 2\nAway Score: 12
END:VEVENT
BEGIN:VEVENT
UID:16800782@ezleagues.ezfacility.com
DTSTAMP:20260422T183140Z
CREATED:20260422T183140Z
DTSTART:20251113T080000Z
DTEND:20251113T084000Z
LOCATION:005 Nou Camp
CONTACT:Sam
SUMMARY:Raging Reddies VS. Demon Hunters
DESCRIPTION:League Name: SUMMER LEAGUES 25/26 Thursday U12s\nGame Type: Reg
 ular\nGame Status: Complete\nHome Team: Raging Reddies\nAway Team: Demon H
 unters\nHome Score: 1\nAway Score: 10
END:VEVENT
BEGIN:VEVENT
UID:16800785@ezleagues.ezfacility.com
DTSTAMP:20260422T183140Z
CREATED:20260422T183140Z
DTSTART:20251120T080000Z
DTEND:20251120T084000Z
LOCATION:003 San Siro
CONTACT:Seth
SUMMARY:Raging Reddies VS. The Fraggers
DESCRIPTION:League Name: SUMMER LEAGUES 25/26 Thursday U12s\nGame Type: Reg
 ular\nGame Status: Complete\nHome Team: Raging Reddies\nAway Team: The Fra
 ggers\nHome Score: 3\nAway Score: 13
END:VEVENT
BEGIN:VEVENT
UID:16800788@ezleagues.ezfacility.com
DTSTAMP:20260422T183140Z
CREATED:20260422T183140Z
DTSTART:20251127T080000Z
DTEND:20251127T084000Z
LOCATION:004 La Bombonera
CONTACT:Adrian
SUMMARY:Ben’s Army VS. Raging Reddies
DESCRIPTION:League Name: SUMMER LEAGUES 25/26 Thursday U12s\nGame Type: Reg
 ular\nGame Status: Complete\nHome Team: Ben’s Army\nAway Team: Raging Re
 ddies\nHome Score: 9\nAway Score: 3
END:VEVENT
BEGIN:VEVENT
UID:16800793@ezleagues.ezfacility.com
DTSTAMP:20260422T183140Z
CREATED:20260422T183140Z
DTSTART:20251204T080000Z
DTEND:20251204T084000Z
LOCATION:005 Nou Camp
CONTACT:Lucas 
SUMMARY:City VS. Raging Reddies
DESCRIPTION:League Name: SUMMER LEAGUES 25/26 Thursday U12s\nGame Type: Reg
 ular\nGame Status: Complete\nHome Team: City\nAway Team: Raging Reddies\nH
 ome Score: 10\nAway Score: 0
END:VEVENT
BEGIN:VEVENT
UID:16800798@ezleagues.ezfacility.com
DTSTAMP:20260422T183140Z
CREATED:20260422T183140Z
DTSTART:20251211T080000Z
DTEND:20251211T084000Z
LOCATION:003 San Siro
CONTACT:Finnley
SUMMARY:Raging Reddies VS. Minions United
DESCRIPTION:League Name: SUMMER LEAGUES 25/26 Thursday U12s\nGame Type: Reg
 ular\nGame Status: Complete\nHome Team: Raging Reddies\nAway Team: Minions
  United\nHome Score: 4\nAway Score: 14
END:VEVENT
BEGIN:VEVENT
UID:16800803@ezleagues.ezfacility.com
DTSTAMP:20260422T183140Z
CREATED:20260422T183140Z
DTSTART:20251218T080000Z
DTEND:20251218T084000Z
LOCATION:004 La Bombonera
CONTACT:Jesse
SUMMARY:Raging Reddies VS. The Terriers
DESCRIPTION:League Name: SUMMER LEAGUES 25/26 Thursday U12s\nGame Type: Reg
 ular\nGame Status: Complete\nHome Team: Raging Reddies\nAway Team: The Ter
 riers\nHome Score: 6\nAway Score: 15
END:VEVENT
BEGIN:VEVENT
UID:16800813@ezleagues.ezfacility.com
DTSTAMP:20260422T183140Z
CREATED:20260422T183140Z
DTSTART:20260108T080000Z
DTEND:20260108T084000Z
LOCATION:005 Nou Camp
CONTACT:Louis
SUMMARY:The Fraggers VS. Raging Reddies
DESCRIPTION:League Name: SUMMER LEAGUES 25/26 Thursday U12s\nGame Type: Reg
 ular\nGame Status: Complete\nHome Team: The Fraggers\nAway Team: Raging Re
 ddies\nHome Score: 12\nAway Score: 4
END:VEVENT
BEGIN:VEVENT
UID:16800821@ezleagues.ezfacility.com
DTSTAMP:20260422T183140Z
CREATED:20260422T183140Z
DTSTART:20260122T080000Z
DTEND:20260122T084000Z
LOCATION:003 San Siro
CONTACT:Myles
SUMMARY:Raging Reddies VS. City
DESCRIPTION:League Name: SUMMER LEAGUES 25/26 Thursday U12s\nGame Type: Reg
 ular\nGame Status: Complete\nHome Team: Raging Reddies\nAway Team: City\nH
 ome Score: 1\nAway Score: 11
END:VEVENT
BEGIN:VEVENT
UID:16800807@ezleagues.ezfacility.com
DTSTAMP:20260422T183140Z
CREATED:20260422T183140Z
DTSTART:20260129T084500Z
DTEND:20260129T092500Z
LOCATION:004 La Bombonera
CONTACT:Connor
SUMMARY:KVT United VS. Raging Reddies
DESCRIPTION:League Name: SUMMER LEAGUES 25/26 Thursday U12s\nGame Type: Reg
 ular\nGame Status: Complete\nHome Team: KVT United\nAway Team: Raging Redd
 ies\nHome Score: 12\nAway Score: 2
END:VEVENT
BEGIN:VEVENT
UID:16800810@ezleagues.ezfacility.com
DTSTAMP:20260422T183140Z
CREATED:20260422T183140Z
DTSTART:20260205T080000Z
DTEND:20260205T084000Z
LOCATION:007 Celtic Park
CONTACT:Adrian
SUMMARY:Demon Hunters VS. Raging Reddies
DESCRIPTION:League Name: SUMMER LEAGUES 25/26 Thursday U12s\nGame Type: Reg
 ular\nGame Status: Complete\nHome Team: Demon Hunters\nAway Team: Raging R
 eddies\nHome Score: 11\nAway Score: 1
END:VEVENT
BEGIN:VEVENT
UID:16800816@ezleagues.ezfacility.com
DTSTAMP:20260422T183140Z
CREATED:20260422T183140Z
DTSTART:20260212T080000Z
DTEND:20260212T084000Z
LOCATION:003 San Siro
CONTACT:Lucas 
SUMMARY:Raging Reddies VS. Ben’s Army
DESCRIPTION:League Name: SUMMER LEAGUES 25/26 Thursday U12s\nGame Type: Reg
 ular\nGame Status: Complete\nHome Team: Raging Reddies\nAway Team: Ben’s
  Army\nHome Score: 10\nAway Score: 0
END:VEVENT
BEGIN:VEVENT
UID:16996363@ezleagues.ezfacility.com
DTSTAMP:20260422T183140Z
CREATED:20260422T183140Z
DTSTART:20260219T071500Z
DTEND:20260219T075500Z
LOCATION:007 Celtic Park
CONTACT:Lucas 
SUMMARY:KVT United VS. Raging Reddies
DESCRIPTION:League Name: SUMMER LEAGUES 25/26 Thursday U12s\nGame Type: Pos
 tseason\nGame Status: Complete\nHome Team: KVT United\nAway Team: Raging R
 eddies\nHome Score: 12\nAway Score: 2
END:VEVENT
END:VCALENDAR
