BEGIN:VCALENDAR
VERSION:2.0
PRODID:-//EZFacility.com, Inc.//EZL 2.5.5.28621
BEGIN:VEVENT
UID:16801845@ezleagues.ezfacility.com
DTSTAMP:20260424T044409Z
CREATED:20260424T044409Z
DTSTART:20251027T093000Z
DTEND:20251027T101000Z
LOCATION:008 Ibrox
CONTACT:Kirby
SUMMARY:Unathletic Avengers VS. Shin Kickers
DESCRIPTION:League Name: SUMMER LEAGUES 25/26 Monday Men's 5s Pool B\nGame 
 Type: Regular\nGame Status: Complete\nHome Team: Unathletic Avengers\nAway
  Team: Shin Kickers\nHome Score: 12\nAway Score: 15
END:VEVENT
BEGIN:VEVENT
UID:16801851@ezleagues.ezfacility.com
DTSTAMP:20260424T044409Z
CREATED:20260424T044409Z
DTSTART:20251103T080000Z
DTEND:20251103T084000Z
LOCATION:005 Nou Camp
CONTACT:Reef
SUMMARY:Shin Kickers VS. Pelican misfits
DESCRIPTION:League Name: SUMMER LEAGUES 25/26 Monday Men's 5s Pool B\nGame 
 Type: Regular\nGame Status: Complete\nHome Team: Shin Kickers\nAway Team: 
 Pelican misfits\nHome Score: 29\nAway Score: 7
END:VEVENT
BEGIN:VEVENT
UID:16801856@ezleagues.ezfacility.com
DTSTAMP:20260424T044409Z
CREATED:20260424T044409Z
DTSTART:20251110T093000Z
DTEND:20251110T101000Z
LOCATION:004 La Bombonera
CONTACT:Reef
SUMMARY:Diamonds in the rough VS. Shin Kickers
DESCRIPTION:League Name: SUMMER LEAGUES 25/26 Monday Men's 5s Pool B\nGame 
 Type: Regular\nGame Status: Complete\nHome Team: Diamonds in the rough\nAw
 ay Team: Shin Kickers\nHome Score: 8\nAway Score: 20
END:VEVENT
BEGIN:VEVENT
UID:16801861@ezleagues.ezfacility.com
DTSTAMP:20260424T044409Z
CREATED:20260424T044409Z
DTSTART:20251117T071500Z
DTEND:20251117T075500Z
LOCATION:003 San Siro
CONTACT:Reef
SUMMARY:Custard Knees VS. Shin Kickers
DESCRIPTION:League Name: SUMMER LEAGUES 25/26 Monday Men's 5s Pool B\nGame 
 Type: Regular\nGame Status: Complete\nHome Team: Custard Knees\nAway Team:
  Shin Kickers\nHome Score: 10\nAway Score: 3
END:VEVENT
BEGIN:VEVENT
UID:16801866@ezleagues.ezfacility.com
DTSTAMP:20260424T044409Z
CREATED:20260424T044409Z
DTSTART:20251124T093000Z
DTEND:20251124T101000Z
LOCATION:004 La Bombonera
CONTACT:Matt
SUMMARY:Pannekoek-A-Cola FC VS. Shin Kickers
DESCRIPTION:League Name: SUMMER LEAGUES 25/26 Monday Men's 5s Pool B\nGame 
 Type: Regular\nGame Status: Complete\nHome Team: Pannekoek-A-Cola FC\nAway
  Team: Shin Kickers\nHome Score: 6\nAway Score: 19
END:VEVENT
BEGIN:VEVENT
UID:16801871@ezleagues.ezfacility.com
DTSTAMP:20260424T044409Z
CREATED:20260424T044409Z
DTSTART:20251201T093000Z
DTEND:20251201T101000Z
LOCATION:005 Nou Camp
CONTACT:Ash
SUMMARY:Teenage Mutant Ninja Skrtels VS. Shin Kickers
DESCRIPTION:League Name: SUMMER LEAGUES 25/26 Monday Men's 5s Pool B\nGame 
 Type: Regular\nGame Status: Complete\nHome Team: Teenage Mutant Ninja Skrt
 els\nAway Team: Shin Kickers\nHome Score: 4\nAway Score: 18
END:VEVENT
BEGIN:VEVENT
UID:16801876@ezleagues.ezfacility.com
DTSTAMP:20260424T044409Z
CREATED:20260424T044409Z
DTSTART:20251208T084500Z
DTEND:20251208T092500Z
LOCATION:004 La Bombonera
CONTACT:Ash
SUMMARY:Argo FC VS. Shin Kickers
DESCRIPTION:League Name: SUMMER LEAGUES 25/26 Monday Men's 5s Pool B\nGame 
 Type: Regular\nGame Status: Complete\nHome Team: Argo FC\nAway Team: Shin 
 Kickers\nHome Score: 3\nAway Score: 18
END:VEVENT
BEGIN:VEVENT
UID:16801883@ezleagues.ezfacility.com
DTSTAMP:20260424T044409Z
CREATED:20260424T044409Z
DTSTART:20251215T093000Z
DTEND:20251215T101000Z
LOCATION:003 San Siro
CONTACT:Matt
SUMMARY:Shin Kickers VS. Moogachino
DESCRIPTION:League Name: SUMMER LEAGUES 25/26 Monday Men's 5s Pool B\nGame 
 Type: Regular\nGame Status: Complete\nHome Team: Shin Kickers\nAway Team: 
 Moogachino\nHome Score: 35\nAway Score: 2
END:VEVENT
BEGIN:VEVENT
UID:16801904@ezleagues.ezfacility.com
DTSTAMP:20260424T044409Z
CREATED:20260424T044409Z
DTSTART:20260105T093000Z
DTEND:20260105T101000Z
LOCATION:010 Deepdale
CONTACT:Connor
SUMMARY:Shin Kickers VS. Rapid Viagra FC
DESCRIPTION:League Name: SUMMER LEAGUES 25/26 Monday Men's 5s Pool B\nGame 
 Type: Regular\nGame Status: Complete\nHome Team: Shin Kickers\nAway Team: 
 Rapid Viagra FC\nHome Score: 36\nAway Score: 1
END:VEVENT
BEGIN:VEVENT
UID:16801911@ezleagues.ezfacility.com
DTSTAMP:20260424T044409Z
CREATED:20260424T044409Z
DTSTART:20260112T080000Z
DTEND:20260112T084000Z
LOCATION:003 San Siro
CONTACT:Oliver 
SUMMARY:Shin Kickers VS. Unathletic Avengers
DESCRIPTION:League Name: SUMMER LEAGUES 25/26 Monday Men's 5s Pool B\nGame 
 Type: Regular\nGame Status: Complete\nHome Team: Shin Kickers\nAway Team: 
 Unathletic Avengers\nHome Score: 22\nAway Score: 5
END:VEVENT
BEGIN:VEVENT
UID:16801917@ezleagues.ezfacility.com
DTSTAMP:20260424T044409Z
CREATED:20260424T044409Z
DTSTART:20260119T084500Z
DTEND:20260119T092500Z
LOCATION: 002 Maracana
CONTACT:
SUMMARY:eshay elite VS. Shin Kickers
DESCRIPTION:League Name: SUMMER LEAGUES 25/26 Monday Men's 5s Pool B\nGame 
 Type: Regular\nGame Status: Complete\nHome Team: eshay elite\nAway Team: S
 hin Kickers\nHome Score: 0\nAway Score: 10
END:VEVENT
BEGIN:VEVENT
UID:16801890@ezleagues.ezfacility.com
DTSTAMP:20260424T044409Z
CREATED:20260424T044409Z
DTSTART:20260202T071500Z
DTEND:20260202T075500Z
LOCATION:003 San Siro
CONTACT:Kirby
SUMMARY:Shin Kickers VS. Bubba’s Boys
DESCRIPTION:League Name: SUMMER LEAGUES 25/26 Monday Men's 5s Pool B\nGame 
 Type: Regular\nGame Status: Complete\nHome Team: Shin Kickers\nAway Team: 
 Bubba’s Boys\nHome Score: 26\nAway Score: 3
END:VEVENT
BEGIN:VEVENT
UID:16801897@ezleagues.ezfacility.com
DTSTAMP:20260424T044409Z
CREATED:20260424T044409Z
DTSTART:20260209T080000Z
DTEND:20260209T084000Z
LOCATION:003 San Siro
CONTACT:Cody
SUMMARY:Shin Kickers VS. DRAGONS FOREVER
DESCRIPTION:League Name: SUMMER LEAGUES 25/26 Monday Men's 5s Pool B\nGame 
 Type: Regular\nGame Status: Complete\nHome Team: Shin Kickers\nAway Team: 
 DRAGONS FOREVER\nHome Score: 26\nAway Score: 6
END:VEVENT
END:VCALENDAR
