BEGIN:VCALENDAR
VERSION:2.0
PRODID:-//EZFacility.com, Inc.//EZL 2.5.5.28621
BEGIN:VEVENT
UID:16823260@ezleagues.ezfacility.com
DTSTAMP:20260423T115636Z
CREATED:20260423T115636Z
DTSTART:20251108T160000Z
DTEND:20251108T165000Z
LOCATION:Field 3
CONTACT:
SUMMARY:(14G/C) PFC (JB) VS. (U14G/C) Hot Cheetos (JK)
DESCRIPTION:League Name: (+) Hampshire Dome Under 14 Girls/Coed Youth Socce
 r league (Nov/Dec 2025)\nGame Type: Regular\nGame Status: Complete\nHome T
 eam: (14G/C) PFC (JB)\nAway Team: (U14G/C) Hot Cheetos (JK)\nHome Score: 0
 \nAway Score: 2
END:VEVENT
BEGIN:VEVENT
UID:16829480@ezleagues.ezfacility.com
DTSTAMP:20260423T115636Z
CREATED:20260423T115636Z
DTSTART:20251115T014500Z
DTEND:20251115T023500Z
LOCATION:Field 1
CONTACT:
SUMMARY:(14G/C) PFC (JB) VS. (U14G/C) Goal Diggers (BB)
DESCRIPTION:League Name: (+) Hampshire Dome Under 14 Girls/Coed Youth Socce
 r league (Nov/Dec 2025)\nGame Type: Regular\nGame Status: Complete\nHome T
 eam: (14G/C) PFC (JB)\nAway Team: (U14G/C) Goal Diggers (BB)\nHome Score: 
 0\nAway Score: 3
END:VEVENT
BEGIN:VEVENT
UID:16829487@ezleagues.ezfacility.com
DTSTAMP:20260423T115636Z
CREATED:20260423T115636Z
DTSTART:20251122T210000Z
DTEND:20251122T215000Z
LOCATION:Field 3
CONTACT:
SUMMARY:(14G/C) PFC (JB) VS. (U14G/C) Hammerheads (PC)
DESCRIPTION:League Name: (+) Hampshire Dome Under 14 Girls/Coed Youth Socce
 r league (Nov/Dec 2025)\nGame Type: Regular\nGame Status: Complete\nHome T
 eam: (14G/C) PFC (JB)\nAway Team: (U14G/C) Hammerheads (PC)\nHome Score: 4
 \nAway Score: 6
END:VEVENT
BEGIN:VEVENT
UID:16823312@ezleagues.ezfacility.com
DTSTAMP:20260423T115636Z
CREATED:20260423T115636Z
DTSTART:20251128T220000Z
DTEND:20251128T225000Z
LOCATION:Field 3
CONTACT:
SUMMARY:(U14G/C) Salsa FC (SM) VS. (14G/C) PFC (JB)
DESCRIPTION:League Name: (+) Hampshire Dome Under 14 Girls/Coed Youth Socce
 r league (Nov/Dec 2025)\nGame Type: Regular\nGame Status: Complete\nHome T
 eam: (U14G/C) Salsa FC (SM)\nAway Team: (14G/C) PFC (JB)\nHome Score: 3\nA
 way Score: 1
END:VEVENT
BEGIN:VEVENT
UID:16829499@ezleagues.ezfacility.com
DTSTAMP:20260423T115636Z
CREATED:20260423T115636Z
DTSTART:20251206T005000Z
DTEND:20251206T014000Z
LOCATION:Field 3
CONTACT:
SUMMARY:(U14G/C) Knights (LP) VS. (14G/C) PFC (JB)
DESCRIPTION:League Name: (+) Hampshire Dome Under 14 Girls/Coed Youth Socce
 r league (Nov/Dec 2025)\nGame Type: Regular\nGame Status: Complete\nHome T
 eam: (U14G/C) Knights (LP)\nAway Team: (14G/C) PFC (JB)\nHome Score: 8\nAw
 ay Score: 2
END:VEVENT
BEGIN:VEVENT
UID:16829493@ezleagues.ezfacility.com
DTSTAMP:20260423T115636Z
CREATED:20260423T115636Z
DTSTART:20251207T170000Z
DTEND:20251207T175000Z
LOCATION:Field 3
CONTACT:
SUMMARY:(U14G/C) Goal Diggers (BB) VS. (14G/C) PFC (JB)
DESCRIPTION:League Name: (+) Hampshire Dome Under 14 Girls/Coed Youth Socce
 r league (Nov/Dec 2025)\nGame Type: Regular\nGame Status: Complete\nHome T
 eam: (U14G/C) Goal Diggers (BB)\nAway Team: (14G/C) PFC (JB)\nHome Score: 
 2\nAway Score: 0
END:VEVENT
BEGIN:VEVENT
UID:16829503@ezleagues.ezfacility.com
DTSTAMP:20260423T115636Z
CREATED:20260423T115636Z
DTSTART:20251213T014500Z
DTEND:20251213T023500Z
LOCATION:Field 1
CONTACT:
SUMMARY:(U14G/C) Hot Cheetos (JK) VS. (14G/C) PFC (JB)
DESCRIPTION:League Name: (+) Hampshire Dome Under 14 Girls/Coed Youth Socce
 r league (Nov/Dec 2025)\nGame Type: Regular\nGame Status: Complete\nHome T
 eam: (U14G/C) Hot Cheetos (JK)\nAway Team: (14G/C) PFC (JB)\nHome Score: 0
 \nAway Score: 1
END:VEVENT
END:VCALENDAR
