BEGIN:VCALENDAR
VERSION:2.0
PRODID:-//EZFacility.com, Inc.//EZL 2.5.5.28621
BEGIN:VEVENT
UID:16817296@ezleagues.ezfacility.com
DTSTAMP:20260425T211446Z
CREATED:20260425T211446Z
DTSTART:20251031T064500Z
DTEND:20251031T072500Z
LOCATION:006 Estadio do Dragao
CONTACT:Louis
SUMMARY:To be advised VS. Man Utd
DESCRIPTION:League Name: SUMMER LEAGUES 25/26 Friday U10s\nGame Type: Regul
 ar\nGame Status: Complete\nHome Team: To be advised\nAway Team: Man Utd\nH
 ome Score: 5\nAway Score: 7
END:VEVENT
BEGIN:VEVENT
UID:16817304@ezleagues.ezfacility.com
DTSTAMP:20260425T211446Z
CREATED:20260425T211446Z
DTSTART:20251107T073000Z
DTEND:20251107T081000Z
LOCATION:008 Ibrox
CONTACT:Ethan
SUMMARY:To be advised VS. Man City
DESCRIPTION:League Name: SUMMER LEAGUES 25/26 Friday U10s\nGame Type: Regul
 ar\nGame Status: Complete\nHome Team: To be advised\nAway Team: Man City\n
 Home Score: 7\nAway Score: 11
END:VEVENT
BEGIN:VEVENT
UID:16817311@ezleagues.ezfacility.com
DTSTAMP:20260425T211446Z
CREATED:20260425T211446Z
DTSTART:20251114T073000Z
DTEND:20251114T081000Z
LOCATION:003 San Siro
CONTACT:Roman
SUMMARY:The Wildcats VS. To be advised
DESCRIPTION:League Name: SUMMER LEAGUES 25/26 Friday U10s\nGame Type: Regul
 ar\nGame Status: Complete\nHome Team: The Wildcats\nAway Team: To be advis
 ed\nHome Score: 9\nAway Score: 9
END:VEVENT
BEGIN:VEVENT
UID:16817317@ezleagues.ezfacility.com
DTSTAMP:20260425T211446Z
CREATED:20260425T211446Z
DTSTART:20251121T064500Z
DTEND:20251121T072500Z
LOCATION:007 Celtic Park
CONTACT:Roman
SUMMARY:It’s about to get Messi VS. To be advised
DESCRIPTION:League Name: SUMMER LEAGUES 25/26 Friday U10s\nGame Type: Regul
 ar\nGame Status: Complete\nHome Team: It’s about to get Messi\nAway Team
 : To be advised\nHome Score: 10\nAway Score: 0
END:VEVENT
BEGIN:VEVENT
UID:16817323@ezleagues.ezfacility.com
DTSTAMP:20260425T211446Z
CREATED:20260425T211446Z
DTSTART:20251128T064500Z
DTEND:20251128T072500Z
LOCATION:008 Ibrox
CONTACT:Wilson
SUMMARY:Lewandowski's VS. To be advised
DESCRIPTION:League Name: SUMMER LEAGUES 25/26 Friday U10s\nGame Type: Regul
 ar\nGame Status: Complete\nHome Team: Lewandowski's\nAway Team: To be advi
 sed\nHome Score: 7\nAway Score: 6
END:VEVENT
BEGIN:VEVENT
UID:16817363@ezleagues.ezfacility.com
DTSTAMP:20260425T211446Z
CREATED:20260425T211446Z
DTSTART:20260109T073000Z
DTEND:20260109T081000Z
LOCATION:004 La Bombonera
CONTACT:Lucas 
SUMMARY:To be advised VS. Goal Getters
DESCRIPTION:League Name: SUMMER LEAGUES 25/26 Friday U10s\nGame Type: Regul
 ar\nGame Status: Complete\nHome Team: To be advised\nAway Team: Goal Gette
 rs\nHome Score: 10\nAway Score: 1
END:VEVENT
BEGIN:VEVENT
UID:16817371@ezleagues.ezfacility.com
DTSTAMP:20260425T211446Z
CREATED:20260425T211446Z
DTSTART:20260116T073000Z
DTEND:20260116T081000Z
LOCATION:004 La Bombonera
CONTACT:Lucas 
SUMMARY:To be advised VS. Kanwal FC
DESCRIPTION:League Name: SUMMER LEAGUES 25/26 Friday U10s\nGame Type: Regul
 ar\nGame Status: Complete\nHome Team: To be advised\nAway Team: Kanwal FC\
 nHome Score: 1\nAway Score: 10
END:VEVENT
BEGIN:VEVENT
UID:16817379@ezleagues.ezfacility.com
DTSTAMP:20260425T211446Z
CREATED:20260425T211446Z
DTSTART:20260123T064500Z
DTEND:20260123T072500Z
LOCATION:008 Ibrox
CONTACT:Ethan
SUMMARY:To be advised VS. Speed Demons
DESCRIPTION:League Name: SUMMER LEAGUES 25/26 Friday U10s\nGame Type: Regul
 ar\nGame Status: Complete\nHome Team: To be advised\nAway Team: Speed Demo
 ns\nHome Score: 1\nAway Score: 8
END:VEVENT
BEGIN:VEVENT
UID:16817347@ezleagues.ezfacility.com
DTSTAMP:20260425T211446Z
CREATED:20260425T211446Z
DTSTART:20260130T064500Z
DTEND:20260130T072500Z
LOCATION:007 Celtic Park
CONTACT:Lucas 
SUMMARY:To be advised VS. Flaming Red's
DESCRIPTION:League Name: SUMMER LEAGUES 25/26 Friday U10s\nGame Type: Regul
 ar\nGame Status: Complete\nHome Team: To be advised\nAway Team: Flaming Re
 d's\nHome Score: 8\nAway Score: 7
END:VEVENT
BEGIN:VEVENT
UID:16817355@ezleagues.ezfacility.com
DTSTAMP:20260425T211446Z
CREATED:20260425T211446Z
DTSTART:20260206T064500Z
DTEND:20260206T072500Z
LOCATION:010 Deepdale
CONTACT:Liam
SUMMARY:To be advised VS. Legends
DESCRIPTION:League Name: SUMMER LEAGUES 25/26 Friday U10s\nGame Type: Regul
 ar\nGame Status: Complete\nHome Team: To be advised\nAway Team: Legends\nH
 ome Score: 2\nAway Score: 8
END:VEVENT
BEGIN:VEVENT
UID:16817341@ezleagues.ezfacility.com
DTSTAMP:20260425T211446Z
CREATED:20260425T211446Z
DTSTART:20260213T073000Z
DTEND:20260213T081000Z
LOCATION:007 Celtic Park
CONTACT:Seth
SUMMARY:Mini Mbappes VS. To be advised
DESCRIPTION:League Name: SUMMER LEAGUES 25/26 Friday U10s\nGame Type: Regul
 ar\nGame Status: Complete\nHome Team: Mini Mbappes\nAway Team: To be advis
 ed\nHome Score: 7\nAway Score: 2
END:VEVENT
BEGIN:VEVENT
UID:16817329@ezleagues.ezfacility.com
DTSTAMP:20260425T211446Z
CREATED:20260425T211446Z
DTSTART:20260220T081500Z
DTEND:20260220T085500Z
LOCATION:007 Celtic Park
CONTACT:Matt
SUMMARY:Lions VS. To be advised
DESCRIPTION:League Name: SUMMER LEAGUES 25/26 Friday U10s\nGame Type: Regul
 ar\nGame Status: Complete\nHome Team: Lions\nAway Team: To be advised\nHom
 e Score: 4\nAway Score: 3
END:VEVENT
BEGIN:VEVENT
UID:16997615@ezleagues.ezfacility.com
DTSTAMP:20260425T211446Z
CREATED:20260425T211446Z
DTSTART:20260306T021500Z
DTEND:20260306T025500Z
LOCATION:004 La Bombonera
CONTACT:
SUMMARY:To be advised VS. Team TBC#1
DESCRIPTION:League Name: SUMMER LEAGUES 25/26 Friday U10s\nGame Type: Posts
 eason\nGame Status: Pending\nHome Team: To be advised\nAway Team: Team TBC
 #1\n
END:VEVENT
END:VCALENDAR
