BEGIN:VCALENDAR
VERSION:2.0
PRODID:-//EZFacility.com, Inc.//EZL 2.5.5.28621
BEGIN:VEVENT
UID:16817383@ezleagues.ezfacility.com
DTSTAMP:20260424T043223Z
CREATED:20260424T043223Z
DTSTART:20251031T081500Z
DTEND:20251031T085500Z
LOCATION:005 Nou Camp
CONTACT:Ethan
SUMMARY:Fireballs VS. Killarney Roos White
DESCRIPTION:League Name: SUMMER LEAGUES 25/26 Friday U11s\nGame Type: Regul
 ar\nGame Status: Complete\nHome Team: Fireballs\nAway Team: Killarney Roos
  White\nHome Score: 4\nAway Score: 9
END:VEVENT
BEGIN:VEVENT
UID:16817392@ezleagues.ezfacility.com
DTSTAMP:20260424T043223Z
CREATED:20260424T043223Z
DTSTART:20251107T081500Z
DTEND:20251107T085500Z
LOCATION:010 Deepdale
CONTACT:Louis
SUMMARY:Fireballs VS. Lewandowski's
DESCRIPTION:League Name: SUMMER LEAGUES 25/26 Friday U11s\nGame Type: Regul
 ar\nGame Status: Complete\nHome Team: Fireballs\nAway Team: Lewandowski's\
 nHome Score: 10\nAway Score: 0
END:VEVENT
BEGIN:VEVENT
UID:16817401@ezleagues.ezfacility.com
DTSTAMP:20260424T043223Z
CREATED:20260424T043223Z
DTSTART:20251114T064500Z
DTEND:20251114T072500Z
LOCATION:010 Deepdale
CONTACT:Louis
SUMMARY:Fireballs VS. Newcastle United
DESCRIPTION:League Name: SUMMER LEAGUES 25/26 Friday U11s\nGame Type: Regul
 ar\nGame Status: Complete\nHome Team: Fireballs\nAway Team: Newcastle Unit
 ed\nHome Score: 1\nAway Score: 11
END:VEVENT
BEGIN:VEVENT
UID:16817410@ezleagues.ezfacility.com
DTSTAMP:20260424T043223Z
CREATED:20260424T043223Z
DTSTART:20251121T073000Z
DTEND:20251121T081000Z
LOCATION:008 Ibrox
CONTACT:
SUMMARY:Fireballs VS. The Golden Kane
DESCRIPTION:League Name: SUMMER LEAGUES 25/26 Friday U11s\nGame Type: Regul
 ar\nGame Status: Complete\nHome Team: Fireballs\nAway Team: The Golden Kan
 e\nHome Score: 11\nAway Score: 5
END:VEVENT
BEGIN:VEVENT
UID:16817419@ezleagues.ezfacility.com
DTSTAMP:20260424T043223Z
CREATED:20260424T043223Z
DTSTART:20251128T073000Z
DTEND:20251128T081000Z
LOCATION:008 Ibrox
CONTACT:Wilson
SUMMARY:Fireballs VS. Nugg's Nuggets
DESCRIPTION:League Name: SUMMER LEAGUES 25/26 Friday U11s\nGame Type: Regul
 ar\nGame Status: Complete\nHome Team: Fireballs\nAway Team: Nugg's Nuggets
 \nHome Score: 10\nAway Score: 0
END:VEVENT
BEGIN:VEVENT
UID:16817437@ezleagues.ezfacility.com
DTSTAMP:20260424T043223Z
CREATED:20260424T043223Z
DTSTART:20251212T081500Z
DTEND:20251212T085500Z
LOCATION:009 Anfield
CONTACT:Eli
SUMMARY:Fireballs VS. Killarney Roos Black
DESCRIPTION:League Name: SUMMER LEAGUES 25/26 Friday U11s\nGame Type: Regul
 ar\nGame Status: Complete\nHome Team: Fireballs\nAway Team: Killarney Roos
  Black\nHome Score: 4\nAway Score: 14
END:VEVENT
BEGIN:VEVENT
UID:16817466@ezleagues.ezfacility.com
DTSTAMP:20260424T043223Z
CREATED:20260424T043223Z
DTSTART:20260109T064500Z
DTEND:20260109T072500Z
LOCATION:009 Anfield
CONTACT:Mitch
SUMMARY:Spurs VS. Fireballs
DESCRIPTION:League Name: SUMMER LEAGUES 25/26 Friday U11s\nGame Type: Regul
 ar\nGame Status: Complete\nHome Team: Spurs\nAway Team: Fireballs\nHome Sc
 ore: 11\nAway Score: 1
END:VEVENT
BEGIN:VEVENT
UID:16817473@ezleagues.ezfacility.com
DTSTAMP:20260424T043223Z
CREATED:20260424T043223Z
DTSTART:20260116T081500Z
DTEND:20260116T085500Z
LOCATION:007 Celtic Park
CONTACT:Ethan
SUMMARY:PSG VS. Fireballs
DESCRIPTION:League Name: SUMMER LEAGUES 25/26 Friday U11s\nGame Type: Regul
 ar\nGame Status: Complete\nHome Team: PSG\nAway Team: Fireballs\nHome Scor
 e: 11\nAway Score: 1
END:VEVENT
BEGIN:VEVENT
UID:16817480@ezleagues.ezfacility.com
DTSTAMP:20260424T043223Z
CREATED:20260424T043223Z
DTSTART:20260123T081500Z
DTEND:20260123T085500Z
LOCATION:003 San Siro
CONTACT:Alex
SUMMARY:UNDERDOGS VS. Fireballs
DESCRIPTION:League Name: SUMMER LEAGUES 25/26 Friday U11s\nGame Type: Regul
 ar\nGame Status: Complete\nHome Team: UNDERDOGS\nAway Team: Fireballs\nHom
 e Score: 7\nAway Score: 2
END:VEVENT
BEGIN:VEVENT
UID:16817452@ezleagues.ezfacility.com
DTSTAMP:20260424T043223Z
CREATED:20260424T043223Z
DTSTART:20260130T073000Z
DTEND:20260130T081000Z
LOCATION:006 Estadio do Dragao
CONTACT:Alex
SUMMARY:OTID VS. Fireballs
DESCRIPTION:League Name: SUMMER LEAGUES 25/26 Friday U11s\nGame Type: Regul
 ar\nGame Status: Complete\nHome Team: OTID\nAway Team: Fireballs\nHome Sco
 re: 9\nAway Score: 5
END:VEVENT
BEGIN:VEVENT
UID:16817459@ezleagues.ezfacility.com
DTSTAMP:20260424T043223Z
CREATED:20260424T043223Z
DTSTART:20260206T073000Z
DTEND:20260206T081000Z
LOCATION:010 Deepdale
CONTACT:Liam
SUMMARY:Inter Milan VS. Fireballs
DESCRIPTION:League Name: SUMMER LEAGUES 25/26 Friday U11s\nGame Type: Regul
 ar\nGame Status: Complete\nHome Team: Inter Milan\nAway Team: Fireballs\nH
 ome Score: 11\nAway Score: 1
END:VEVENT
BEGIN:VEVENT
UID:16817445@ezleagues.ezfacility.com
DTSTAMP:20260424T043223Z
CREATED:20260424T043223Z
DTSTART:20260213T081500Z
DTEND:20260213T085500Z
LOCATION:009 Anfield
CONTACT:Will
SUMMARY:Goal Getters VS. Fireballs
DESCRIPTION:League Name: SUMMER LEAGUES 25/26 Friday U11s\nGame Type: Regul
 ar\nGame Status: Complete\nHome Team: Goal Getters\nAway Team: Fireballs\n
 Home Score: 15\nAway Score: 5
END:VEVENT
BEGIN:VEVENT
UID:16817428@ezleagues.ezfacility.com
DTSTAMP:20260424T043223Z
CREATED:20260424T043223Z
DTSTART:20260220T090000Z
DTEND:20260220T094000Z
LOCATION:007 Celtic Park
CONTACT:Matt
SUMMARY:Fireballs VS. Strikers
DESCRIPTION:League Name: SUMMER LEAGUES 25/26 Friday U11s\nGame Type: Regul
 ar\nGame Status: Complete\nHome Team: Fireballs\nAway Team: Strikers\nHome
  Score: 1\nAway Score: 11
END:VEVENT
BEGIN:VEVENT
UID:16997609@ezleagues.ezfacility.com
DTSTAMP:20260424T043223Z
CREATED:20260424T043223Z
DTSTART:20260306T081500Z
DTEND:20260306T085500Z
LOCATION:004 La Bombonera
CONTACT:Jack
SUMMARY:Goal Getters VS. Fireballs
DESCRIPTION:League Name: SUMMER LEAGUES 25/26 Friday U11s\nGame Type: Posts
 eason\nGame Status: Complete\nHome Team: Goal Getters\nAway Team: Fireball
 s\nHome Score: 12\nAway Score: 2
END:VEVENT
END:VCALENDAR
