BEGIN:VCALENDAR
VERSION:2.0
PRODID:-//EZFacility.com, Inc.//EZL 2.5.5.28621
BEGIN:VEVENT
UID:16815514@ezleagues.ezfacility.com
DTSTAMP:20260426T002225Z
CREATED:20260426T002225Z
DTSTART:20251101T190000Z
DTEND:20251101T200000Z
LOCATION:Large Field 2
CONTACT:
SUMMARY:Waterville FC VS. MVSC Thunder
DESCRIPTION:League Name: 2025 Elevate CNY Indoor Fall Soccer Session U10 Bo
 ys (2016-2017)\nGame Type: Regular\nGame Status: Complete\nHome Team: Wate
 rville FC\nAway Team: MVSC Thunder\nHome Score: 0\nAway Score: 6
END:VEVENT
BEGIN:VEVENT
UID:16815519@ezleagues.ezfacility.com
DTSTAMP:20260426T002225Z
CREATED:20260426T002225Z
DTSTART:20251108T200000Z
DTEND:20251108T210000Z
LOCATION:Large Field 2
CONTACT:
SUMMARY:Future Stars Krajisnik SC 2016 VS. MVSC Thunder
DESCRIPTION:League Name: 2025 Elevate CNY Indoor Fall Soccer Session U10 Bo
 ys (2016-2017)\nGame Type: Regular\nGame Status: Complete\nHome Team: Futu
 re Stars Krajisnik SC 2016\nAway Team: MVSC Thunder\nHome Score: 13\nAway 
 Score: 0
END:VEVENT
BEGIN:VEVENT
UID:16815523@ezleagues.ezfacility.com
DTSTAMP:20260426T002225Z
CREATED:20260426T002225Z
DTSTART:20251115T160000Z
DTEND:20251115T170000Z
LOCATION:Large Field 2
CONTACT:
SUMMARY:Coliseum Dynamo Gold VS. MVSC Thunder
DESCRIPTION:League Name: 2025 Elevate CNY Indoor Fall Soccer Session U10 Bo
 ys (2016-2017)\nGame Type: Regular\nGame Status: Pending\nHome Team: Colis
 eum Dynamo Gold\nAway Team: MVSC Thunder\n
END:VEVENT
BEGIN:VEVENT
UID:16815527@ezleagues.ezfacility.com
DTSTAMP:20260426T002225Z
CREATED:20260426T002225Z
DTSTART:20251122T190000Z
DTEND:20251122T200000Z
LOCATION:Large Field 2
CONTACT:
SUMMARY:Future Stars Krajisnik SC 2017 VS. MVSC Thunder
DESCRIPTION:League Name: 2025 Elevate CNY Indoor Fall Soccer Session U10 Bo
 ys (2016-2017)\nGame Type: Regular\nGame Status: Complete\nHome Team: Futu
 re Stars Krajisnik SC 2017\nAway Team: MVSC Thunder\nHome Score: 2\nAway S
 core: 1
END:VEVENT
BEGIN:VEVENT
UID:16815531@ezleagues.ezfacility.com
DTSTAMP:20260426T002225Z
CREATED:20260426T002225Z
DTSTART:20251129T180000Z
DTEND:20251129T190000Z
LOCATION:Large Field 2
CONTACT:
SUMMARY:United Elite Krajisnik FC VS. MVSC Thunder
DESCRIPTION:League Name: 2025 Elevate CNY Indoor Fall Soccer Session U10 Bo
 ys (2016-2017)\nGame Type: Regular\nGame Status: Complete\nHome Team: Unit
 ed Elite Krajisnik FC\nAway Team: MVSC Thunder\nHome Score: 6\nAway Score:
  1
END:VEVENT
BEGIN:VEVENT
UID:16815535@ezleagues.ezfacility.com
DTSTAMP:20260426T002225Z
CREATED:20260426T002225Z
DTSTART:20251206T160000Z
DTEND:20251206T170000Z
LOCATION:Large Field 2
CONTACT:
SUMMARY:MVSC Thunder VS. CNYFC Select
DESCRIPTION:League Name: 2025 Elevate CNY Indoor Fall Soccer Session U10 Bo
 ys (2016-2017)\nGame Type: Regular\nGame Status: Complete\nHome Team: MVSC
  Thunder\nAway Team: CNYFC Select\nHome Score: 0\nAway Score: 14
END:VEVENT
BEGIN:VEVENT
UID:16815541@ezleagues.ezfacility.com
DTSTAMP:20260426T002225Z
CREATED:20260426T002225Z
DTSTART:20251213T170000Z
DTEND:20251213T180000Z
LOCATION:Large Field 2
CONTACT:
SUMMARY:MVSC Thunder VS. Coliseum Fire White
DESCRIPTION:League Name: 2025 Elevate CNY Indoor Fall Soccer Session U10 Bo
 ys (2016-2017)\nGame Type: Regular\nGame Status: Complete\nHome Team: MVSC
  Thunder\nAway Team: Coliseum Fire White\nHome Score: 2\nAway Score: 0
END:VEVENT
BEGIN:VEVENT
UID:16815547@ezleagues.ezfacility.com
DTSTAMP:20260426T002225Z
CREATED:20260426T002225Z
DTSTART:20251220T170000Z
DTEND:20251220T180000Z
LOCATION:Large Field 2
CONTACT:
SUMMARY:MVSC Thunder VS. Coliseum Fire
DESCRIPTION:League Name: 2025 Elevate CNY Indoor Fall Soccer Session U10 Bo
 ys (2016-2017)\nGame Type: Regular\nGame Status: Complete\nHome Team: MVSC
  Thunder\nAway Team: Coliseum Fire\nHome Score: 1\nAway Score: 7
END:VEVENT
BEGIN:VEVENT
UID:16815553@ezleagues.ezfacility.com
DTSTAMP:20260426T002225Z
CREATED:20260426T002225Z
DTSTART:20251227T180000Z
DTEND:20251227T190000Z
LOCATION:Large Field 2
CONTACT:
SUMMARY:MVSC Thunder VS. MVSC Blizzard
DESCRIPTION:League Name: 2025 Elevate CNY Indoor Fall Soccer Session U10 Bo
 ys (2016-2017)\nGame Type: Regular\nGame Status: Complete\nHome Team: MVSC
  Thunder\nAway Team: MVSC Blizzard\nHome Score: 3\nAway Score: 6
END:VEVENT
BEGIN:VEVENT
UID:16815559@ezleagues.ezfacility.com
DTSTAMP:20260426T002225Z
CREATED:20260426T002225Z
DTSTART:20260103T170000Z
DTEND:20260103T180000Z
LOCATION:Large Field 2
CONTACT:
SUMMARY:MVSC Thunder VS. Waterville FC
DESCRIPTION:League Name: 2025 Elevate CNY Indoor Fall Soccer Session U10 Bo
 ys (2016-2017)\nGame Type: Regular\nGame Status: Complete\nHome Team: MVSC
  Thunder\nAway Team: Waterville FC\nHome Score: 7\nAway Score: 3
END:VEVENT
END:VCALENDAR
