BEGIN:VCALENDAR
VERSION:2.0
PRODID:-//EZFacility.com, Inc.//EZL 2.5.5.28621
BEGIN:VEVENT
UID:16815465@ezleagues.ezfacility.com
DTSTAMP:20260423T053724Z
CREATED:20260423T053724Z
DTSTART:20251101T130000Z
DTEND:20251101T140000Z
LOCATION:Large Field 2
CONTACT:
SUMMARY:United Elite Krajisnik FC VS. Manta Rays
DESCRIPTION:League Name: 2025 Elevate CNY Indoor Fall Soccer Session U10 Gi
 rls (2016-2017)\nGame Type: Regular\nGame Status: Complete\nHome Team: Uni
 ted Elite Krajisnik FC\nAway Team: Manta Rays\nHome Score: 12\nAway Score:
  0
END:VEVENT
BEGIN:VEVENT
UID:16815469@ezleagues.ezfacility.com
DTSTAMP:20260423T053724Z
CREATED:20260423T053724Z
DTSTART:20251108T130000Z
DTEND:20251108T140000Z
LOCATION:Large Field 2
CONTACT:
SUMMARY:Spartans VS. Manta Rays
DESCRIPTION:League Name: 2025 Elevate CNY Indoor Fall Soccer Session U10 Gi
 rls (2016-2017)\nGame Type: Regular\nGame Status: Complete\nHome Team: Spa
 rtans\nAway Team: Manta Rays\nHome Score: 4\nAway Score: 5
END:VEVENT
BEGIN:VEVENT
UID:16815472@ezleagues.ezfacility.com
DTSTAMP:20260423T053724Z
CREATED:20260423T053724Z
DTSTART:20251115T150000Z
DTEND:20251115T160000Z
LOCATION:Large Field 2
CONTACT:
SUMMARY:Manta Rays VS. MVSC Reign
DESCRIPTION:League Name: 2025 Elevate CNY Indoor Fall Soccer Session U10 Gi
 rls (2016-2017)\nGame Type: Regular\nGame Status: Complete\nHome Team: Man
 ta Rays\nAway Team: MVSC Reign\nHome Score: 5\nAway Score: 1
END:VEVENT
BEGIN:VEVENT
UID:16815474@ezleagues.ezfacility.com
DTSTAMP:20260423T053724Z
CREATED:20260423T053724Z
DTSTART:20251122T130000Z
DTEND:20251122T140000Z
LOCATION:Large Field 2
CONTACT:
SUMMARY:Manta Rays VS. Waterville FC
DESCRIPTION:League Name: 2025 Elevate CNY Indoor Fall Soccer Session U10 Gi
 rls (2016-2017)\nGame Type: Regular\nGame Status: Complete\nHome Team: Man
 ta Rays\nAway Team: Waterville FC\nHome Score: 2\nAway Score: 4
END:VEVENT
BEGIN:VEVENT
UID:16815476@ezleagues.ezfacility.com
DTSTAMP:20260423T053724Z
CREATED:20260423T053724Z
DTSTART:20251129T140000Z
DTEND:20251129T150000Z
LOCATION:Large Field 2
CONTACT:
SUMMARY:CNYFC U10G VS. Manta Rays
DESCRIPTION:League Name: 2025 Elevate CNY Indoor Fall Soccer Session U10 Gi
 rls (2016-2017)\nGame Type: Regular\nGame Status: Complete\nHome Team: CNY
 FC U10G\nAway Team: Manta Rays\nHome Score: 6\nAway Score: 0
END:VEVENT
BEGIN:VEVENT
UID:16815480@ezleagues.ezfacility.com
DTSTAMP:20260423T053724Z
CREATED:20260423T053724Z
DTSTART:20251206T130000Z
DTEND:20251206T140000Z
LOCATION:Large Field 2
CONTACT:
SUMMARY:Manta Rays VS. United Elite Krajisnik FC
DESCRIPTION:League Name: 2025 Elevate CNY Indoor Fall Soccer Session U10 Gi
 rls (2016-2017)\nGame Type: Regular\nGame Status: Complete\nHome Team: Man
 ta Rays\nAway Team: United Elite Krajisnik FC\nHome Score: 0\nAway Score: 
 8
END:VEVENT
BEGIN:VEVENT
UID:16815484@ezleagues.ezfacility.com
DTSTAMP:20260423T053724Z
CREATED:20260423T053724Z
DTSTART:20251213T150000Z
DTEND:20251213T160000Z
LOCATION:Large Field 2
CONTACT:
SUMMARY:Manta Rays VS. Spartans
DESCRIPTION:League Name: 2025 Elevate CNY Indoor Fall Soccer Session U10 Gi
 rls (2016-2017)\nGame Type: Regular\nGame Status: Complete\nHome Team: Man
 ta Rays\nAway Team: Spartans\nHome Score: 3\nAway Score: 4
END:VEVENT
BEGIN:VEVENT
UID:16815487@ezleagues.ezfacility.com
DTSTAMP:20260423T053724Z
CREATED:20260423T053724Z
DTSTART:20251220T140000Z
DTEND:20251220T150000Z
LOCATION:Large Field 2
CONTACT:
SUMMARY:MVSC Reign VS. Manta Rays
DESCRIPTION:League Name: 2025 Elevate CNY Indoor Fall Soccer Session U10 Gi
 rls (2016-2017)\nGame Type: Regular\nGame Status: Complete\nHome Team: MVS
 C Reign\nAway Team: Manta Rays\nHome Score: 1\nAway Score: 1
END:VEVENT
BEGIN:VEVENT
UID:16815489@ezleagues.ezfacility.com
DTSTAMP:20260423T053724Z
CREATED:20260423T053724Z
DTSTART:20251227T130000Z
DTEND:20251227T140000Z
LOCATION:Large Field 2
CONTACT:
SUMMARY:Waterville FC VS. Manta Rays
DESCRIPTION:League Name: 2025 Elevate CNY Indoor Fall Soccer Session U10 Gi
 rls (2016-2017)\nGame Type: Regular\nGame Status: Complete\nHome Team: Wat
 erville FC\nAway Team: Manta Rays\nHome Score: 1\nAway Score: 1
END:VEVENT
BEGIN:VEVENT
UID:16815491@ezleagues.ezfacility.com
DTSTAMP:20260423T053724Z
CREATED:20260423T053724Z
DTSTART:20260103T150000Z
DTEND:20260103T160000Z
LOCATION:Large Field 2
CONTACT:
SUMMARY:Manta Rays VS. CNYFC U10G
DESCRIPTION:League Name: 2025 Elevate CNY Indoor Fall Soccer Session U10 Gi
 rls (2016-2017)\nGame Type: Regular\nGame Status: Complete\nHome Team: Man
 ta Rays\nAway Team: CNYFC U10G\nHome Score: 0\nAway Score: 8
END:VEVENT
END:VCALENDAR
