BEGIN:VCALENDAR
VERSION:2.0
PRODID:-//EZFacility.com, Inc.//EZL 2.5.5.28621
BEGIN:VEVENT
UID:16815464@ezleagues.ezfacility.com
DTSTAMP:20260424T043146Z
CREATED:20260424T043146Z
DTSTART:20251101T140000Z
DTEND:20251101T150000Z
LOCATION:Large Field 2
CONTACT:
SUMMARY:CNYFC U10G VS. MVSC Reign
DESCRIPTION:League Name: 2025 Elevate CNY Indoor Fall Soccer Session U10 Gi
 rls (2016-2017)\nGame Type: Regular\nGame Status: Complete\nHome Team: CNY
 FC U10G\nAway Team: MVSC Reign\nHome Score: 7\nAway Score: 0
END:VEVENT
BEGIN:VEVENT
UID:16815468@ezleagues.ezfacility.com
DTSTAMP:20260424T043146Z
CREATED:20260424T043146Z
DTSTART:20251108T140000Z
DTEND:20251108T150000Z
LOCATION:Large Field 2
CONTACT:
SUMMARY:Waterville FC VS. MVSC Reign
DESCRIPTION:League Name: 2025 Elevate CNY Indoor Fall Soccer Session U10 Gi
 rls (2016-2017)\nGame Type: Regular\nGame Status: Complete\nHome Team: Wat
 erville FC\nAway Team: MVSC Reign\nHome Score: 5\nAway Score: 0
END:VEVENT
BEGIN:VEVENT
UID:16815472@ezleagues.ezfacility.com
DTSTAMP:20260424T043146Z
CREATED:20260424T043146Z
DTSTART:20251115T150000Z
DTEND:20251115T160000Z
LOCATION:Large Field 2
CONTACT:
SUMMARY:Manta Rays VS. MVSC Reign
DESCRIPTION:League Name: 2025 Elevate CNY Indoor Fall Soccer Session U10 Gi
 rls (2016-2017)\nGame Type: Regular\nGame Status: Complete\nHome Team: Man
 ta Rays\nAway Team: MVSC Reign\nHome Score: 5\nAway Score: 1
END:VEVENT
BEGIN:VEVENT
UID:16815475@ezleagues.ezfacility.com
DTSTAMP:20260424T043146Z
CREATED:20260424T043146Z
DTSTART:20251122T150000Z
DTEND:20251122T160000Z
LOCATION:Large Field 2
CONTACT:
SUMMARY:MVSC Reign VS. United Elite Krajisnik FC
DESCRIPTION:League Name: 2025 Elevate CNY Indoor Fall Soccer Session U10 Gi
 rls (2016-2017)\nGame Type: Regular\nGame Status: Complete\nHome Team: MVS
 C Reign\nAway Team: United Elite Krajisnik FC\nHome Score: 0\nAway Score: 
 16
END:VEVENT
BEGIN:VEVENT
UID:16815477@ezleagues.ezfacility.com
DTSTAMP:20260424T043146Z
CREATED:20260424T043146Z
DTSTART:20251129T130000Z
DTEND:20251129T140000Z
LOCATION:Large Field 2
CONTACT:
SUMMARY:MVSC Reign VS. Spartans
DESCRIPTION:League Name: 2025 Elevate CNY Indoor Fall Soccer Session U10 Gi
 rls (2016-2017)\nGame Type: Regular\nGame Status: Complete\nHome Team: MVS
 C Reign\nAway Team: Spartans\nHome Score: 2\nAway Score: 4
END:VEVENT
BEGIN:VEVENT
UID:16815479@ezleagues.ezfacility.com
DTSTAMP:20260424T043146Z
CREATED:20260424T043146Z
DTSTART:20251206T140000Z
DTEND:20251206T150000Z
LOCATION:Large Field 2
CONTACT:
SUMMARY:MVSC Reign VS. CNYFC U10G
DESCRIPTION:League Name: 2025 Elevate CNY Indoor Fall Soccer Session U10 Gi
 rls (2016-2017)\nGame Type: Regular\nGame Status: Complete\nHome Team: MVS
 C Reign\nAway Team: CNYFC U10G\nHome Score: 0\nAway Score: 10
END:VEVENT
BEGIN:VEVENT
UID:16815483@ezleagues.ezfacility.com
DTSTAMP:20260424T043146Z
CREATED:20260424T043146Z
DTSTART:20251213T140000Z
DTEND:20251213T150000Z
LOCATION:Large Field 2
CONTACT:
SUMMARY:MVSC Reign VS. Waterville FC
DESCRIPTION:League Name: 2025 Elevate CNY Indoor Fall Soccer Session U10 Gi
 rls (2016-2017)\nGame Type: Regular\nGame Status: Complete\nHome Team: MVS
 C Reign\nAway Team: Waterville FC\nHome Score: 1\nAway Score: 2
END:VEVENT
BEGIN:VEVENT
UID:16815487@ezleagues.ezfacility.com
DTSTAMP:20260424T043146Z
CREATED:20260424T043146Z
DTSTART:20251220T140000Z
DTEND:20251220T150000Z
LOCATION:Large Field 2
CONTACT:
SUMMARY:MVSC Reign VS. Manta Rays
DESCRIPTION:League Name: 2025 Elevate CNY Indoor Fall Soccer Session U10 Gi
 rls (2016-2017)\nGame Type: Regular\nGame Status: Complete\nHome Team: MVS
 C Reign\nAway Team: Manta Rays\nHome Score: 1\nAway Score: 1
END:VEVENT
BEGIN:VEVENT
UID:16815490@ezleagues.ezfacility.com
DTSTAMP:20260424T043146Z
CREATED:20260424T043146Z
DTSTART:20251227T150000Z
DTEND:20251227T160000Z
LOCATION:Large Field 2
CONTACT:
SUMMARY:United Elite Krajisnik FC VS. MVSC Reign
DESCRIPTION:League Name: 2025 Elevate CNY Indoor Fall Soccer Session U10 Gi
 rls (2016-2017)\nGame Type: Regular\nGame Status: Complete\nHome Team: Uni
 ted Elite Krajisnik FC\nAway Team: MVSC Reign\nHome Score: 11\nAway Score:
  0
END:VEVENT
BEGIN:VEVENT
UID:16815492@ezleagues.ezfacility.com
DTSTAMP:20260424T043146Z
CREATED:20260424T043146Z
DTSTART:20260103T130000Z
DTEND:20260103T140000Z
LOCATION:Large Field 2
CONTACT:
SUMMARY:Spartans VS. MVSC Reign
DESCRIPTION:League Name: 2025 Elevate CNY Indoor Fall Soccer Session U10 Gi
 rls (2016-2017)\nGame Type: Regular\nGame Status: Complete\nHome Team: Spa
 rtans\nAway Team: MVSC Reign\nHome Score: 2\nAway Score: 3
END:VEVENT
END:VCALENDAR
