BEGIN:VCALENDAR
VERSION:2.0
PRODID:-//EZFacility.com, Inc.//EZL 2.5.5.28621
BEGIN:VEVENT
UID:16816514@ezleagues.ezfacility.com
DTSTAMP:20260425T211414Z
CREATED:20260425T211414Z
DTSTART:20251029T020000Z
DTEND:20251029T030000Z
LOCATION:East Field
CONTACT:
SUMMARY:Ginyu Force VS. The Closers
DESCRIPTION:League Name: Winter 2025 Tuesday Men's PBR Division\nGame Type:
  Regular\nGame Status: Complete\nHome Team: Ginyu Force\nAway Team: The Cl
 osers\nHome Score: 8\nAway Score: 2
END:VEVENT
BEGIN:VEVENT
UID:16816502@ezleagues.ezfacility.com
DTSTAMP:20260425T211414Z
CREATED:20260425T211414Z
DTSTART:20251105T020000Z
DTEND:20251105T030000Z
LOCATION:East Field
CONTACT:Long
SUMMARY:Dotte County Boys VS. The Closers
DESCRIPTION:League Name: Winter 2025 Tuesday Men's PBR Division\nGame Type:
  Regular\nGame Status: Complete\nHome Team: Dotte County Boys\nAway Team: 
 The Closers\nHome Score: 12\nAway Score: 6
END:VEVENT
BEGIN:VEVENT
UID:16816489@ezleagues.ezfacility.com
DTSTAMP:20260425T211414Z
CREATED:20260425T211414Z
DTSTART:20251112T000000Z
DTEND:20251112T010000Z
LOCATION:East Field
CONTACT:Cuenca
SUMMARY:The Closers VS. Off Constantly
DESCRIPTION:League Name: Winter 2025 Tuesday Men's PBR Division\nGame Type:
  Regular\nGame Status: Complete\nHome Team: The Closers\nAway Team: Off Co
 nstantly\nHome Score: 9\nAway Score: 8
END:VEVENT
BEGIN:VEVENT
UID:16816525@ezleagues.ezfacility.com
DTSTAMP:20260425T211414Z
CREATED:20260425T211414Z
DTSTART:20251119T000000Z
DTEND:20251119T010000Z
LOCATION:East Field
CONTACT:Long
SUMMARY:The Closers VS. Diablos
DESCRIPTION:League Name: Winter 2025 Tuesday Men's PBR Division\nGame Type:
  Regular\nGame Status: Complete\nHome Team: The Closers\nAway Team: Diablo
 s\nHome Score: 4\nAway Score: 5
END:VEVENT
BEGIN:VEVENT
UID:16816547@ezleagues.ezfacility.com
DTSTAMP:20260425T211414Z
CREATED:20260425T211414Z
DTSTART:20251203T040000Z
DTEND:20251203T050000Z
LOCATION:East Field
CONTACT:
SUMMARY:Shootbuds VS. The Closers
DESCRIPTION:League Name: Winter 2025 Tuesday Men's PBR Division\nGame Type:
  Regular\nGame Status: Complete\nHome Team: Shootbuds\nAway Team: The Clos
 ers\nHome Score: 10\nAway Score: 0
END:VEVENT
BEGIN:VEVENT
UID:16816560@ezleagues.ezfacility.com
DTSTAMP:20260425T211414Z
CREATED:20260425T211414Z
DTSTART:20251210T040000Z
DTEND:20251210T050000Z
LOCATION:East Field
CONTACT:Long
SUMMARY:The Closers VS. Traitors
DESCRIPTION:League Name: Winter 2025 Tuesday Men's PBR Division\nGame Type:
  Regular\nGame Status: Complete\nHome Team: The Closers\nAway Team: Traito
 rs\nHome Score: 1\nAway Score: 11
END:VEVENT
END:VCALENDAR
