BEGIN:VCALENDAR
VERSION:2.0
PRODID:-//EZFacility.com, Inc.//EZL 2.5.5.28621
BEGIN:VEVENT
UID:16815590@ezleagues.ezfacility.com
DTSTAMP:20260423T041817Z
CREATED:20260423T041817Z
DTSTART:20251101T180000Z
DTEND:20251101T190000Z
LOCATION:Large Field 1
CONTACT:
SUMMARY:Future Stars Krajisnik SC 2015 VS. Eagles
DESCRIPTION:League Name: 2025 Elevate CNY Indoor Fall Soccer Session U12 Bo
 ys (2014-2015)\nGame Type: Regular\nGame Status: Complete\nHome Team: Futu
 re Stars Krajisnik SC 2015\nAway Team: Eagles\nHome Score: 14\nAway Score:
  2
END:VEVENT
BEGIN:VEVENT
UID:16815596@ezleagues.ezfacility.com
DTSTAMP:20260423T041817Z
CREATED:20260423T041817Z
DTSTART:20251108T180000Z
DTEND:20251108T190000Z
LOCATION:Large Field 1
CONTACT:
SUMMARY:Eagles VS. United Elite Krajisnik FC Villa
DESCRIPTION:League Name: 2025 Elevate CNY Indoor Fall Soccer Session U12 Bo
 ys (2014-2015)\nGame Type: Regular\nGame Status: Complete\nHome Team: Eagl
 es\nAway Team: United Elite Krajisnik FC Villa\nHome Score: 2\nAway Score:
  4
END:VEVENT
BEGIN:VEVENT
UID:16815602@ezleagues.ezfacility.com
DTSTAMP:20260423T041817Z
CREATED:20260423T041817Z
DTSTART:20251115T180000Z
DTEND:20251115T190000Z
LOCATION:Large Field 1
CONTACT:
SUMMARY:Eagles VS. RS Spartans SC
DESCRIPTION:League Name: 2025 Elevate CNY Indoor Fall Soccer Session U12 Bo
 ys (2014-2015)\nGame Type: Regular\nGame Status: Complete\nHome Team: Eagl
 es\nAway Team: RS Spartans SC\nHome Score: 1\nAway Score: 8
END:VEVENT
BEGIN:VEVENT
UID:16815608@ezleagues.ezfacility.com
DTSTAMP:20260423T041817Z
CREATED:20260423T041817Z
DTSTART:20251122T220000Z
DTEND:20251122T230000Z
LOCATION:Large Field 1
CONTACT:
SUMMARY:Eagles VS. Future Stars Krajisnik SC 2014
DESCRIPTION:League Name: 2025 Elevate CNY Indoor Fall Soccer Session U12 Bo
 ys (2014-2015)\nGame Type: Regular\nGame Status: Complete\nHome Team: Eagl
 es\nAway Team: Future Stars Krajisnik SC 2014\nHome Score: 0\nAway Score: 
 6
END:VEVENT
BEGIN:VEVENT
UID:16815613@ezleagues.ezfacility.com
DTSTAMP:20260423T041817Z
CREATED:20260423T041817Z
DTSTART:20251129T220000Z
DTEND:20251129T230000Z
LOCATION:Large Field 1
CONTACT:
SUMMARY:Future F.C VS. Eagles
DESCRIPTION:League Name: 2025 Elevate CNY Indoor Fall Soccer Session U12 Bo
 ys (2014-2015)\nGame Type: Regular\nGame Status: Complete\nHome Team: Futu
 re F.C\nAway Team: Eagles\nHome Score: 14\nAway Score: 2
END:VEVENT
BEGIN:VEVENT
UID:16815617@ezleagues.ezfacility.com
DTSTAMP:20260423T041817Z
CREATED:20260423T041817Z
DTSTART:20251206T210000Z
DTEND:20251206T220000Z
LOCATION:Large Field 1
CONTACT:
SUMMARY:MVSC Lightning VS. Eagles
DESCRIPTION:League Name: 2025 Elevate CNY Indoor Fall Soccer Session U12 Bo
 ys (2014-2015)\nGame Type: Regular\nGame Status: Complete\nHome Team: MVSC
  Lightning\nAway Team: Eagles\nHome Score: 2\nAway Score: 2
END:VEVENT
BEGIN:VEVENT
UID:16815621@ezleagues.ezfacility.com
DTSTAMP:20260423T041817Z
CREATED:20260423T041817Z
DTSTART:20251213T200000Z
DTEND:20251213T210000Z
LOCATION:Large Field 1
CONTACT:
SUMMARY:United Krajisnik FC 2015 VS. Eagles
DESCRIPTION:League Name: 2025 Elevate CNY Indoor Fall Soccer Session U12 Bo
 ys (2014-2015)\nGame Type: Regular\nGame Status: Complete\nHome Team: Unit
 ed Krajisnik FC 2015\nAway Team: Eagles\nHome Score: 3\nAway Score: 1
END:VEVENT
BEGIN:VEVENT
UID:16815625@ezleagues.ezfacility.com
DTSTAMP:20260423T041817Z
CREATED:20260423T041817Z
DTSTART:20251220T200000Z
DTEND:20251220T210000Z
LOCATION:Large Field 1
CONTACT:
SUMMARY:HHH FC VS. Eagles
DESCRIPTION:League Name: 2025 Elevate CNY Indoor Fall Soccer Session U12 Bo
 ys (2014-2015)\nGame Type: Regular\nGame Status: Complete\nHome Team: HHH 
 FC\nAway Team: Eagles\nHome Score: 1\nAway Score: 2
END:VEVENT
BEGIN:VEVENT
UID:16815629@ezleagues.ezfacility.com
DTSTAMP:20260423T041817Z
CREATED:20260423T041817Z
DTSTART:20251227T210000Z
DTEND:20251227T220000Z
LOCATION:Large Field 1
CONTACT:
SUMMARY:Eagles VS. CNYFC U12
DESCRIPTION:League Name: 2025 Elevate CNY Indoor Fall Soccer Session U12 Bo
 ys (2014-2015)\nGame Type: Regular\nGame Status: Complete\nHome Team: Eagl
 es\nAway Team: CNYFC U12\nHome Score: 3\nAway Score: 6
END:VEVENT
BEGIN:VEVENT
UID:16815635@ezleagues.ezfacility.com
DTSTAMP:20260423T041817Z
CREATED:20260423T041817Z
DTSTART:20260103T180000Z
DTEND:20260103T190000Z
LOCATION:Large Field 1
CONTACT:
SUMMARY:Eagles VS. Future Stars Krajisnik SC 2015
DESCRIPTION:League Name: 2025 Elevate CNY Indoor Fall Soccer Session U12 Bo
 ys (2014-2015)\nGame Type: Regular\nGame Status: Complete\nHome Team: Eagl
 es\nAway Team: Future Stars Krajisnik SC 2015\nHome Score: 2\nAway Score: 
 9
END:VEVENT
END:VCALENDAR
