BEGIN:VCALENDAR
VERSION:2.0
PRODID:-//EZFacility.com, Inc.//EZL 2.5.5.28621
BEGIN:VEVENT
UID:16815590@ezleagues.ezfacility.com
DTSTAMP:20260426T033729Z
CREATED:20260426T033729Z
DTSTART:20251101T180000Z
DTEND:20251101T190000Z
LOCATION:Large Field 1
CONTACT:
SUMMARY:Future Stars Krajisnik SC 2015 VS. Eagles
DESCRIPTION:League Name: 2025 Elevate CNY Indoor Fall Soccer Session U12 Bo
 ys (2014-2015)\nGame Type: Regular\nGame Status: Complete\nHome Team: Futu
 re Stars Krajisnik SC 2015\nAway Team: Eagles\nHome Score: 14\nAway Score:
  2
END:VEVENT
BEGIN:VEVENT
UID:16815594@ezleagues.ezfacility.com
DTSTAMP:20260426T033729Z
CREATED:20260426T033729Z
DTSTART:20251108T200000Z
DTEND:20251108T210000Z
LOCATION:Large Field 1
CONTACT:
SUMMARY:CNYFC U12 VS. Future Stars Krajisnik SC 2015
DESCRIPTION:League Name: 2025 Elevate CNY Indoor Fall Soccer Session U12 Bo
 ys (2014-2015)\nGame Type: Regular\nGame Status: Complete\nHome Team: CNYF
 C U12\nAway Team: Future Stars Krajisnik SC 2015\nHome Score: 5\nAway Scor
 e: 11
END:VEVENT
BEGIN:VEVENT
UID:16815600@ezleagues.ezfacility.com
DTSTAMP:20260426T033729Z
CREATED:20260426T033729Z
DTSTART:20251115T220000Z
DTEND:20251115T230000Z
LOCATION:Large Field 1
CONTACT:
SUMMARY:Future Stars Krajisnik SC 2015 VS. United Elite Krajisnik FC Villa
DESCRIPTION:League Name: 2025 Elevate CNY Indoor Fall Soccer Session U12 Bo
 ys (2014-2015)\nGame Type: Regular\nGame Status: Complete\nHome Team: Futu
 re Stars Krajisnik SC 2015\nAway Team: United Elite Krajisnik FC Villa\nHo
 me Score: 4\nAway Score: 5
END:VEVENT
BEGIN:VEVENT
UID:16815606@ezleagues.ezfacility.com
DTSTAMP:20260426T033729Z
CREATED:20260426T033729Z
DTSTART:20251122T210000Z
DTEND:20251122T220000Z
LOCATION:Large Field 1
CONTACT:
SUMMARY:Future Stars Krajisnik SC 2015 VS. RS Spartans SC
DESCRIPTION:League Name: 2025 Elevate CNY Indoor Fall Soccer Session U12 Bo
 ys (2014-2015)\nGame Type: Regular\nGame Status: Complete\nHome Team: Futu
 re Stars Krajisnik SC 2015\nAway Team: RS Spartans SC\nHome Score: 6\nAway
  Score: 6
END:VEVENT
BEGIN:VEVENT
UID:16815612@ezleagues.ezfacility.com
DTSTAMP:20260426T033729Z
CREATED:20260426T033729Z
DTSTART:20251129T210000Z
DTEND:20251129T220000Z
LOCATION:Large Field 1
CONTACT:
SUMMARY:Future Stars Krajisnik SC 2015 VS. Future Stars Krajisnik SC 2014
DESCRIPTION:League Name: 2025 Elevate CNY Indoor Fall Soccer Session U12 Bo
 ys (2014-2015)\nGame Type: Regular\nGame Status: Complete\nHome Team: Futu
 re Stars Krajisnik SC 2015\nAway Team: Future Stars Krajisnik SC 2014\nHom
 e Score: 1\nAway Score: 1
END:VEVENT
BEGIN:VEVENT
UID:16815618@ezleagues.ezfacility.com
DTSTAMP:20260426T033729Z
CREATED:20260426T033729Z
DTSTART:20251206T220000Z
DTEND:20251206T230000Z
LOCATION:Large Field 1
CONTACT:
SUMMARY:Future Stars Krajisnik SC 2015 VS. Future F.C
DESCRIPTION:League Name: 2025 Elevate CNY Indoor Fall Soccer Session U12 Bo
 ys (2014-2015)\nGame Type: Regular\nGame Status: Complete\nHome Team: Futu
 re Stars Krajisnik SC 2015\nAway Team: Future F.C\nHome Score: 2\nAway Sco
 re: 9
END:VEVENT
BEGIN:VEVENT
UID:16815623@ezleagues.ezfacility.com
DTSTAMP:20260426T033729Z
CREATED:20260426T033729Z
DTSTART:20251213T180000Z
DTEND:20251213T190000Z
LOCATION:Large Field 1
CONTACT:
SUMMARY:MVSC Lightning VS. Future Stars Krajisnik SC 2015
DESCRIPTION:League Name: 2025 Elevate CNY Indoor Fall Soccer Session U12 Bo
 ys (2014-2015)\nGame Type: Regular\nGame Status: Complete\nHome Team: MVSC
  Lightning\nAway Team: Future Stars Krajisnik SC 2015\nHome Score: 1\nAway
  Score: 10
END:VEVENT
BEGIN:VEVENT
UID:16815627@ezleagues.ezfacility.com
DTSTAMP:20260426T033729Z
CREATED:20260426T033729Z
DTSTART:20251220T220000Z
DTEND:20251220T230000Z
LOCATION:Large Field 1
CONTACT:
SUMMARY:United Krajisnik FC 2015 VS. Future Stars Krajisnik SC 2015
DESCRIPTION:League Name: 2025 Elevate CNY Indoor Fall Soccer Session U12 Bo
 ys (2014-2015)\nGame Type: Regular\nGame Status: Complete\nHome Team: Unit
 ed Krajisnik FC 2015\nAway Team: Future Stars Krajisnik SC 2015\nHome Scor
 e: 6\nAway Score: 3
END:VEVENT
BEGIN:VEVENT
UID:16815631@ezleagues.ezfacility.com
DTSTAMP:20260426T033729Z
CREATED:20260426T033729Z
DTSTART:20251227T190000Z
DTEND:20251227T200000Z
LOCATION:Large Field 1
CONTACT:
SUMMARY:HHH FC VS. Future Stars Krajisnik SC 2015
DESCRIPTION:League Name: 2025 Elevate CNY Indoor Fall Soccer Session U12 Bo
 ys (2014-2015)\nGame Type: Regular\nGame Status: Complete\nHome Team: HHH 
 FC\nAway Team: Future Stars Krajisnik SC 2015\nHome Score: 1\nAway Score: 
 8
END:VEVENT
BEGIN:VEVENT
UID:16815635@ezleagues.ezfacility.com
DTSTAMP:20260426T033729Z
CREATED:20260426T033729Z
DTSTART:20260103T180000Z
DTEND:20260103T190000Z
LOCATION:Large Field 1
CONTACT:
SUMMARY:Eagles VS. Future Stars Krajisnik SC 2015
DESCRIPTION:League Name: 2025 Elevate CNY Indoor Fall Soccer Session U12 Bo
 ys (2014-2015)\nGame Type: Regular\nGame Status: Complete\nHome Team: Eagl
 es\nAway Team: Future Stars Krajisnik SC 2015\nHome Score: 2\nAway Score: 
 9
END:VEVENT
END:VCALENDAR
