BEGIN:VCALENDAR
VERSION:2.0
PRODID:-//EZFacility.com, Inc.//EZL 2.5.5.28621
BEGIN:VEVENT
UID:16815640@ezleagues.ezfacility.com
DTSTAMP:20260426T033749Z
CREATED:20260426T033749Z
DTSTART:20251101T210000Z
DTEND:20251101T220000Z
LOCATION:Large Field 2
CONTACT:
SUMMARY:MVSC Blaze VS. Coliseum Wolves
DESCRIPTION:League Name: 2025 Elevate CNY Indoor Fall Soccer Session U12 Gi
 rls (2014-2015)\nGame Type: Regular\nGame Status: Complete\nHome Team: MVS
 C Blaze\nAway Team: Coliseum Wolves\nHome Score: 5\nAway Score: 2
END:VEVENT
BEGIN:VEVENT
UID:16815645@ezleagues.ezfacility.com
DTSTAMP:20260426T033749Z
CREATED:20260426T033749Z
DTSTART:20251108T210000Z
DTEND:20251108T220000Z
LOCATION:Large Field 2
CONTACT:
SUMMARY:Coliseum Wolves VS. Waterville FC
DESCRIPTION:League Name: 2025 Elevate CNY Indoor Fall Soccer Session U12 Gi
 rls (2014-2015)\nGame Type: Regular\nGame Status: Complete\nHome Team: Col
 iseum Wolves\nAway Team: Waterville FC\nHome Score: 10\nAway Score: 0
END:VEVENT
BEGIN:VEVENT
UID:16815650@ezleagues.ezfacility.com
DTSTAMP:20260426T033749Z
CREATED:20260426T033749Z
DTSTART:20251115T220000Z
DTEND:20251115T230000Z
LOCATION:Large Field 2
CONTACT:
SUMMARY:Manta Rays VS. Coliseum Wolves
DESCRIPTION:League Name: 2025 Elevate CNY Indoor Fall Soccer Session U12 Gi
 rls (2014-2015)\nGame Type: Regular\nGame Status: Complete\nHome Team: Man
 ta Rays\nAway Team: Coliseum Wolves\nHome Score: 0\nAway Score: 5
END:VEVENT
BEGIN:VEVENT
UID:16815654@ezleagues.ezfacility.com
DTSTAMP:20260426T033749Z
CREATED:20260426T033749Z
DTSTART:20251122T230000Z
DTEND:20251123T000000Z
LOCATION:Large Field 2
CONTACT:
SUMMARY:Coliseum Wolves White VS. Coliseum Wolves
DESCRIPTION:League Name: 2025 Elevate CNY Indoor Fall Soccer Session U12 Gi
 rls (2014-2015)\nGame Type: Regular\nGame Status: Complete\nHome Team: Col
 iseum Wolves White\nAway Team: Coliseum Wolves\nHome Score: 4\nAway Score:
  5
END:VEVENT
BEGIN:VEVENT
UID:16815657@ezleagues.ezfacility.com
DTSTAMP:20260426T033749Z
CREATED:20260426T033749Z
DTSTART:20251130T000000Z
DTEND:20251130T010000Z
LOCATION:Large Field 2
CONTACT:
SUMMARY:United Elite Krajisnik FC 2015 VS. Coliseum Wolves
DESCRIPTION:League Name: 2025 Elevate CNY Indoor Fall Soccer Session U12 Gi
 rls (2014-2015)\nGame Type: Regular\nGame Status: Complete\nHome Team: Uni
 ted Elite Krajisnik FC 2015\nAway Team: Coliseum Wolves\nHome Score: 6\nAw
 ay Score: 3
END:VEVENT
BEGIN:VEVENT
UID:16815660@ezleagues.ezfacility.com
DTSTAMP:20260426T033749Z
CREATED:20260426T033749Z
DTSTART:20251206T000000Z
DTEND:20251206T010000Z
LOCATION:Large Field 2
CONTACT:
SUMMARY:Rising Stars SC VS. Coliseum Wolves
DESCRIPTION:League Name: 2025 Elevate CNY Indoor Fall Soccer Session U12 Gi
 rls (2014-2015)\nGame Type: Regular\nGame Status: Complete\nHome Team: Ris
 ing Stars SC\nAway Team: Coliseum Wolves\nHome Score: 5\nAway Score: 6
END:VEVENT
BEGIN:VEVENT
UID:16815663@ezleagues.ezfacility.com
DTSTAMP:20260426T033749Z
CREATED:20260426T033749Z
DTSTART:20251214T000000Z
DTEND:20251214T010000Z
LOCATION:Large Field 2
CONTACT:
SUMMARY:Coliseum Wolves VS. Coliseum Knights
DESCRIPTION:League Name: 2025 Elevate CNY Indoor Fall Soccer Session U12 Gi
 rls (2014-2015)\nGame Type: Regular\nGame Status: Complete\nHome Team: Col
 iseum Wolves\nAway Team: Coliseum Knights\nHome Score: 5\nAway Score: 2
END:VEVENT
BEGIN:VEVENT
UID:16815668@ezleagues.ezfacility.com
DTSTAMP:20260426T033749Z
CREATED:20260426T033749Z
DTSTART:20251221T000000Z
DTEND:20251221T010000Z
LOCATION:Large Field 2
CONTACT:
SUMMARY:Coliseum Wolves VS. MVSC Blaze
DESCRIPTION:League Name: 2025 Elevate CNY Indoor Fall Soccer Session U12 Gi
 rls (2014-2015)\nGame Type: Regular\nGame Status: Complete\nHome Team: Col
 iseum Wolves\nAway Team: MVSC Blaze\nHome Score: 2\nAway Score: 6
END:VEVENT
BEGIN:VEVENT
UID:16815673@ezleagues.ezfacility.com
DTSTAMP:20260426T033749Z
CREATED:20260426T033749Z
DTSTART:20251227T210000Z
DTEND:20251227T220000Z
LOCATION:Large Field 2
CONTACT:
SUMMARY:Coliseum Wolves VS. Waterville FC
DESCRIPTION:League Name: 2025 Elevate CNY Indoor Fall Soccer Session U12 Gi
 rls (2014-2015)\nGame Type: Regular\nGame Status: Complete\nHome Team: Col
 iseum Wolves\nAway Team: Waterville FC\nHome Score: 4\nAway Score: 0
END:VEVENT
BEGIN:VEVENT
UID:16815678@ezleagues.ezfacility.com
DTSTAMP:20260426T033749Z
CREATED:20260426T033749Z
DTSTART:20260103T230000Z
DTEND:20260104T000000Z
LOCATION:Large Field 2
CONTACT:
SUMMARY:Coliseum Wolves VS. Manta Rays
DESCRIPTION:League Name: 2025 Elevate CNY Indoor Fall Soccer Session U12 Gi
 rls (2014-2015)\nGame Type: Regular\nGame Status: Complete\nHome Team: Col
 iseum Wolves\nAway Team: Manta Rays\nHome Score: 8\nAway Score: 4
END:VEVENT
END:VCALENDAR
