BEGIN:VCALENDAR
VERSION:2.0
PRODID:-//EZFacility.com, Inc.//EZL 2.5.5.28621
BEGIN:VEVENT
UID:16818236@ezleagues.ezfacility.com
DTSTAMP:20260424T043224Z
CREATED:20260424T043224Z
DTSTART:20251027T021500Z
DTEND:20251027T030000Z
LOCATION:Main Field Tampa St.
CONTACT:
SUMMARY:Brujos VS. Bro-Migas
DESCRIPTION:League Name: Sunday Coed 4B- Winter\nGame Type: Regular\nGame S
 tatus: Pending\nHome Team: Brujos\nAway Team: Bro-Migas\n
END:VEVENT
BEGIN:VEVENT
UID:16818245@ezleagues.ezfacility.com
DTSTAMP:20260424T043224Z
CREATED:20260424T043224Z
DTSTART:20251103T023000Z
DTEND:20251103T031500Z
LOCATION:Main Field Tampa St.
CONTACT:
SUMMARY:Minor Threat VS. Bro-Migas
DESCRIPTION:League Name: Sunday Coed 4B- Winter\nGame Type: Regular\nGame S
 tatus: Pending\nHome Team: Minor Threat\nAway Team: Bro-Migas\n
END:VEVENT
BEGIN:VEVENT
UID:16818254@ezleagues.ezfacility.com
DTSTAMP:20260424T043224Z
CREATED:20260424T043224Z
DTSTART:20251110T053000Z
DTEND:20251110T061500Z
LOCATION:Boarded Field South Meadows
CONTACT:
SUMMARY:Tsunami VS. Bro-Migas
DESCRIPTION:League Name: Sunday Coed 4B- Winter\nGame Type: Regular\nGame S
 tatus: Pending\nHome Team: Tsunami\nAway Team: Bro-Migas\n
END:VEVENT
BEGIN:VEVENT
UID:16818265@ezleagues.ezfacility.com
DTSTAMP:20260424T043224Z
CREATED:20260424T043224Z
DTSTART:20251117T053000Z
DTEND:20251117T061500Z
LOCATION:Boarded Field South Meadows
CONTACT:
SUMMARY:Bro-Migas VS. Balls and Dolls
DESCRIPTION:League Name: Sunday Coed 4B- Winter\nGame Type: Regular\nGame S
 tatus: Pending\nHome Team: Bro-Migas\nAway Team: Balls and Dolls\n
END:VEVENT
BEGIN:VEVENT
UID:16818276@ezleagues.ezfacility.com
DTSTAMP:20260424T043224Z
CREATED:20260424T043224Z
DTSTART:20251124T044500Z
DTEND:20251124T053000Z
LOCATION:Main Field Tampa St.
CONTACT:
SUMMARY:Bro-Migas VS. Pumas FC
DESCRIPTION:League Name: Sunday Coed 4B- Winter\nGame Type: Regular\nGame S
 tatus: Pending\nHome Team: Bro-Migas\nAway Team: Pumas FC\n
END:VEVENT
BEGIN:VEVENT
UID:16818287@ezleagues.ezfacility.com
DTSTAMP:20260424T043224Z
CREATED:20260424T043224Z
DTSTART:20251201T040000Z
DTEND:20251201T044500Z
LOCATION:Main Field Tampa St.
CONTACT:
SUMMARY:Bro-Migas VS. Chaka FC
DESCRIPTION:League Name: Sunday Coed 4B- Winter\nGame Type: Regular\nGame S
 tatus: Pending\nHome Team: Bro-Migas\nAway Team: Chaka FC\n
END:VEVENT
END:VCALENDAR
