BEGIN:VCALENDAR
VERSION:2.0
PRODID:-//EZFacility.com, Inc.//EZL 2.5.5.28621
BEGIN:VEVENT
UID:16818290@ezleagues.ezfacility.com
DTSTAMP:20260423T143639Z
CREATED:20260423T143639Z
DTSTART:20251029T041500Z
DTEND:20251029T051500Z
LOCATION:West Rink
CONTACT:
SUMMARY:Mark It Zero VS. Bleed Hockey
DESCRIPTION:League Name: Weeknight C (start date 10/27/25)\nGame Type: Regu
 lar\nGame Status: Complete\nHome Team: Mark It Zero\nAway Team: Bleed Hock
 ey\nHome Score: 8\nAway Score: 4
END:VEVENT
BEGIN:VEVENT
UID:16818295@ezleagues.ezfacility.com
DTSTAMP:20260423T143639Z
CREATED:20260423T143639Z
DTSTART:20251105T051500Z
DTEND:20251105T061500Z
LOCATION:West Rink
CONTACT:
SUMMARY:Mark It Zero VS. Kraken White
DESCRIPTION:League Name: Weeknight C (start date 10/27/25)\nGame Type: Regu
 lar\nGame Status: Complete\nHome Team: Mark It Zero\nAway Team: Kraken Whi
 te\nHome Score: 1\nAway Score: 5
END:VEVENT
BEGIN:VEVENT
UID:16818300@ezleagues.ezfacility.com
DTSTAMP:20260423T143639Z
CREATED:20260423T143639Z
DTSTART:20251112T051500Z
DTEND:20251112T061500Z
LOCATION:West Rink
CONTACT:
SUMMARY:Mark It Zero VS. The Point Bar Brawlers
DESCRIPTION:League Name: Weeknight C (start date 10/27/25)\nGame Type: Regu
 lar\nGame Status: Complete\nHome Team: Mark It Zero\nAway Team: The Point 
 Bar Brawlers\nHome Score: 2\nAway Score: 2
END:VEVENT
BEGIN:VEVENT
UID:16818305@ezleagues.ezfacility.com
DTSTAMP:20260423T143639Z
CREATED:20260423T143639Z
DTSTART:20251119T051500Z
DTEND:20251119T061500Z
LOCATION:West Rink
CONTACT:
SUMMARY:Mark It Zero VS. Platinum Group
DESCRIPTION:League Name: Weeknight C (start date 10/27/25)\nGame Type: Regu
 lar\nGame Status: Complete\nHome Team: Mark It Zero\nAway Team: Platinum G
 roup\nHome Score: 9\nAway Score: 0
END:VEVENT
BEGIN:VEVENT
UID:16818310@ezleagues.ezfacility.com
DTSTAMP:20260423T143639Z
CREATED:20260423T143639Z
DTSTART:20251126T044500Z
DTEND:20251126T054500Z
LOCATION:East Rink
CONTACT:
SUMMARY:Mark It Zero VS. Kings
DESCRIPTION:League Name: Weeknight C (start date 10/27/25)\nGame Type: Regu
 lar\nGame Status: Complete\nHome Team: Mark It Zero\nAway Team: Kings\nHom
 e Score: 6\nAway Score: 7
END:VEVENT
BEGIN:VEVENT
UID:16818315@ezleagues.ezfacility.com
DTSTAMP:20260423T143639Z
CREATED:20260423T143639Z
DTSTART:20251203T051500Z
DTEND:20251203T061500Z
LOCATION:West Rink
CONTACT:
SUMMARY:Mark It Zero VS. Llamakaze
DESCRIPTION:League Name: Weeknight C (start date 10/27/25)\nGame Type: Regu
 lar\nGame Status: Complete\nHome Team: Mark It Zero\nAway Team: Llamakaze\
 nHome Score: 2\nAway Score: 5
END:VEVENT
BEGIN:VEVENT
UID:16818320@ezleagues.ezfacility.com
DTSTAMP:20260423T143639Z
CREATED:20260423T143639Z
DTSTART:20251210T051500Z
DTEND:20251210T061500Z
LOCATION:West Rink
CONTACT:
SUMMARY:Mark It Zero VS. Hooligans
DESCRIPTION:League Name: Weeknight C (start date 10/27/25)\nGame Type: Regu
 lar\nGame Status: Complete\nHome Team: Mark It Zero\nAway Team: Hooligans\
 nHome Score: 7\nAway Score: 5
END:VEVENT
BEGIN:VEVENT
UID:16818325@ezleagues.ezfacility.com
DTSTAMP:20260423T143639Z
CREATED:20260423T143639Z
DTSTART:20251217T051500Z
DTEND:20251217T061500Z
LOCATION:West Rink
CONTACT:
SUMMARY:Mark It Zero VS. Wraparound
DESCRIPTION:League Name: Weeknight C (start date 10/27/25)\nGame Type: Regu
 lar\nGame Status: Complete\nHome Team: Mark It Zero\nAway Team: Wraparound
 \nHome Score: 9\nAway Score: 4
END:VEVENT
BEGIN:VEVENT
UID:16818331@ezleagues.ezfacility.com
DTSTAMP:20260423T143639Z
CREATED:20260423T143639Z
DTSTART:20251224T033000Z
DTEND:20251224T043000Z
LOCATION:West Rink
CONTACT:
SUMMARY:Bleed Hockey VS. Mark It Zero
DESCRIPTION:League Name: Weeknight C (start date 10/27/25)\nGame Type: Regu
 lar\nGame Status: Complete\nHome Team: Bleed Hockey\nAway Team: Mark It Ze
 ro\nHome Score: 4\nAway Score: 7
END:VEVENT
BEGIN:VEVENT
UID:16920821@ezleagues.ezfacility.com
DTSTAMP:20260423T143639Z
CREATED:20260423T143639Z
DTSTART:20251231T044500Z
DTEND:20251231T054500Z
LOCATION:East Rink
CONTACT:
SUMMARY:Mark It Zero VS. Puck Uglies
DESCRIPTION:League Name: Weeknight C (start date 10/27/25)\nGame Type: Regu
 lar\nGame Status: Complete\nHome Team: Mark It Zero\nAway Team: Puck Uglie
 s\nHome Score: 6\nAway Score: 2
END:VEVENT
BEGIN:VEVENT
UID:16818340@ezleagues.ezfacility.com
DTSTAMP:20260423T143639Z
CREATED:20260423T143639Z
DTSTART:20260107T051500Z
DTEND:20260107T061500Z
LOCATION:West Rink
CONTACT:
SUMMARY:Kraken White VS. Mark It Zero
DESCRIPTION:League Name: Weeknight C (start date 10/27/25)\nGame Type: Regu
 lar\nGame Status: Complete\nHome Team: Kraken White\nAway Team: Mark It Ze
 ro\nHome Score: 8\nAway Score: 5
END:VEVENT
BEGIN:VEVENT
UID:16818345@ezleagues.ezfacility.com
DTSTAMP:20260423T143639Z
CREATED:20260423T143639Z
DTSTART:20260114T051500Z
DTEND:20260114T061500Z
LOCATION:West Rink
CONTACT:
SUMMARY:The Point Bar Brawlers VS. Mark It Zero
DESCRIPTION:League Name: Weeknight C (start date 10/27/25)\nGame Type: Regu
 lar\nGame Status: Complete\nHome Team: The Point Bar Brawlers\nAway Team: 
 Mark It Zero\nHome Score: 9\nAway Score: 2
END:VEVENT
BEGIN:VEVENT
UID:16818350@ezleagues.ezfacility.com
DTSTAMP:20260423T143639Z
CREATED:20260423T143639Z
DTSTART:20260121T051500Z
DTEND:20260121T061500Z
LOCATION:West Rink
CONTACT:
SUMMARY:Plan B VS. Mark It Zero
DESCRIPTION:League Name: Weeknight C (start date 10/27/25)\nGame Type: Regu
 lar\nGame Status: Pending\nHome Team: Plan B\nAway Team: Mark It Zero\n
END:VEVENT
BEGIN:VEVENT
UID:16818355@ezleagues.ezfacility.com
DTSTAMP:20260423T143639Z
CREATED:20260423T143639Z
DTSTART:20260128T051500Z
DTEND:20260128T061500Z
LOCATION:West Rink
CONTACT:
SUMMARY:Kings VS. Mark It Zero
DESCRIPTION:League Name: Weeknight C (start date 10/27/25)\nGame Type: Regu
 lar\nGame Status: Complete\nHome Team: Kings\nAway Team: Mark It Zero\nHom
 e Score: 7\nAway Score: 3
END:VEVENT
BEGIN:VEVENT
UID:16972612@ezleagues.ezfacility.com
DTSTAMP:20260423T143639Z
CREATED:20260423T143639Z
DTSTART:20260204T051500Z
DTEND:20260204T061500Z
LOCATION:West Rink
CONTACT:
SUMMARY:Mark It Zero VS. Hooligans
DESCRIPTION:League Name: Weeknight C (start date 10/27/25)\nGame Type: Regu
 lar\nGame Status: Complete\nHome Team: Mark It Zero\nAway Team: Hooligans\
 nHome Score: 7\nAway Score: 3
END:VEVENT
BEGIN:VEVENT
UID:16984254@ezleagues.ezfacility.com
DTSTAMP:20260423T143639Z
CREATED:20260423T143639Z
DTSTART:20260211T051500Z
DTEND:20260211T061500Z
LOCATION:West Rink
CONTACT:
SUMMARY:Bleed Hockey VS. Mark It Zero
DESCRIPTION:League Name: Weeknight C (start date 10/27/25)\nGame Type: Regu
 lar\nGame Status: Complete\nHome Team: Bleed Hockey\nAway Team: Mark It Ze
 ro\nHome Score: 6\nAway Score: 2
END:VEVENT
BEGIN:VEVENT
UID:16818370@ezleagues.ezfacility.com
DTSTAMP:20260423T143639Z
CREATED:20260423T143639Z
DTSTART:20260218T044500Z
DTEND:20260218T054500Z
LOCATION:West Rink
CONTACT:
SUMMARY:Platinum Group VS. Mark It Zero
DESCRIPTION:League Name: Weeknight C (start date 10/27/25)\nGame Type: Regu
 lar\nGame Status: Complete\nHome Team: Platinum Group\nAway Team: Mark It 
 Zero\nHome Score: 8\nAway Score: 5
END:VEVENT
BEGIN:VEVENT
UID:17029596@ezleagues.ezfacility.com
DTSTAMP:20260423T143639Z
CREATED:20260423T143639Z
DTSTART:20260225T044500Z
DTEND:20260225T054500Z
LOCATION:East Rink
CONTACT:
SUMMARY:Llamakaze VS. Mark It Zero
DESCRIPTION:League Name: Weeknight C (start date 10/27/25)\nGame Type: Regu
 lar\nGame Status: Complete\nHome Team: Llamakaze\nAway Team: Mark It Zero\
 nHome Score: 6\nAway Score: 2
END:VEVENT
BEGIN:VEVENT
UID:17041154@ezleagues.ezfacility.com
DTSTAMP:20260423T143639Z
CREATED:20260423T143639Z
DTSTART:20260304T044500Z
DTEND:20260304T054500Z
LOCATION:West Rink
CONTACT:
SUMMARY:Mark It Zero VS. Kings
DESCRIPTION:League Name: Weeknight C (start date 10/27/25)\nGame Type: Regu
 lar\nGame Status: Complete\nHome Team: Mark It Zero\nAway Team: Kings\nHom
 e Score: 8\nAway Score: 7
END:VEVENT
BEGIN:VEVENT
UID:17041176@ezleagues.ezfacility.com
DTSTAMP:20260423T143639Z
CREATED:20260423T143639Z
DTSTART:20260311T034500Z
DTEND:20260311T044500Z
LOCATION:East Rink
CONTACT:
SUMMARY:The Point Bar Brawlers VS. Mark It Zero
DESCRIPTION:League Name: Weeknight C (start date 10/27/25)\nGame Type: Regu
 lar\nGame Status: Complete\nHome Team: The Point Bar Brawlers\nAway Team: 
 Mark It Zero\nHome Score: 4\nAway Score: 3
END:VEVENT
BEGIN:VEVENT
UID:17059908@ezleagues.ezfacility.com
DTSTAMP:20260423T143639Z
CREATED:20260423T143639Z
DTSTART:20260318T034500Z
DTEND:20260318T044500Z
LOCATION:East Rink
CONTACT:
SUMMARY:Bleed Hockey VS. Mark It Zero
DESCRIPTION:League Name: Weeknight C (start date 10/27/25)\nGame Type: Regu
 lar\nGame Status: Complete\nHome Team: Bleed Hockey\nAway Team: Mark It Ze
 ro\nHome Score: 8\nAway Score: 7
END:VEVENT
BEGIN:VEVENT
UID:17068255@ezleagues.ezfacility.com
DTSTAMP:20260423T143639Z
CREATED:20260423T143639Z
DTSTART:20260325T034500Z
DTEND:20260325T044500Z
LOCATION:West Rink
CONTACT:
SUMMARY:Mark It Zero VS. Kraken White
DESCRIPTION:League Name: Weeknight C (start date 10/27/25)\nGame Type: Regu
 lar\nGame Status: Complete\nHome Team: Mark It Zero\nAway Team: Kraken Whi
 te\nHome Score: 5\nAway Score: 9
END:VEVENT
END:VCALENDAR
