BEGIN:VCALENDAR
VERSION:2.0
PRODID:-//EZFacility.com, Inc.//EZL 2.5.5.28621
BEGIN:VEVENT
UID:16819786@ezleagues.ezfacility.com
DTSTAMP:20260420T053733Z
CREATED:20260420T053733Z
DTSTART:20251108T211500Z
DTEND:20251108T220500Z
LOCATION:Field 2
CONTACT:
SUMMARY:Limon VS. Los Gallitos
DESCRIPTION:League Name: Under 14 Boys Comp F-25 (2012 oldest player)\nGame
  Type: Regular\nGame Status: Complete\nHome Team: Limon\nAway Team: Los Ga
 llitos\nHome Score: 3\nAway Score: 9
END:VEVENT
BEGIN:VEVENT
UID:16819754@ezleagues.ezfacility.com
DTSTAMP:20260420T053733Z
CREATED:20260420T053733Z
DTSTART:20251116T031000Z
DTEND:20251116T040000Z
LOCATION:Field 2
CONTACT:
SUMMARY:CR United  VS. Limon
DESCRIPTION:League Name: Under 14 Boys Comp F-25 (2012 oldest player)\nGame
  Type: Regular\nGame Status: Complete\nHome Team: CR United \nAway Team: L
 imon\nHome Score: 6\nAway Score: 5
END:VEVENT
BEGIN:VEVENT
UID:16819748@ezleagues.ezfacility.com
DTSTAMP:20260420T053733Z
CREATED:20260420T053733Z
DTSTART:20251123T200500Z
DTEND:20251123T205500Z
LOCATION:Field 1
CONTACT:
SUMMARY:Ceres Rush VS. Limon
DESCRIPTION:League Name: Under 14 Boys Comp F-25 (2012 oldest player)\nGame
  Type: Regular\nGame Status: Complete\nHome Team: Ceres Rush\nAway Team: L
 imon\nHome Score: 14\nAway Score: 0
END:VEVENT
BEGIN:VEVENT
UID:16819778@ezleagues.ezfacility.com
DTSTAMP:20260420T053733Z
CREATED:20260420T053733Z
DTSTART:20251207T220000Z
DTEND:20251207T225000Z
LOCATION:Field 2
CONTACT:
SUMMARY:Limon VS. Los Things
DESCRIPTION:League Name: Under 14 Boys Comp F-25 (2012 oldest player)\nGame
  Type: Regular\nGame Status: Complete\nHome Team: Limon\nAway Team: Los Th
 ings\nHome Score: 4\nAway Score: 12
END:VEVENT
BEGIN:VEVENT
UID:16819802@ezleagues.ezfacility.com
DTSTAMP:20260420T053733Z
CREATED:20260420T053733Z
DTSTART:20251214T220000Z
DTEND:20251214T225000Z
LOCATION:Field 2
CONTACT:
SUMMARY:Limon VS. Mega Knights
DESCRIPTION:League Name: Under 14 Boys Comp F-25 (2012 oldest player)\nGame
  Type: Regular\nGame Status: Complete\nHome Team: Limon\nAway Team: Mega K
 nights\nHome Score: 1\nAway Score: 7
END:VEVENT
BEGIN:VEVENT
UID:16819809@ezleagues.ezfacility.com
DTSTAMP:20260420T053733Z
CREATED:20260420T053733Z
DTSTART:20260104T220000Z
DTEND:20260104T225000Z
LOCATION:Field 2
CONTACT:
SUMMARY:Limitless FC VS. Limon
DESCRIPTION:League Name: Under 14 Boys Comp F-25 (2012 oldest player)\nGame
  Type: Regular\nGame Status: Complete\nHome Team: Limitless FC\nAway Team:
  Limon\nHome Score: 1\nAway Score: 11
END:VEVENT
BEGIN:VEVENT
UID:16819770@ezleagues.ezfacility.com
DTSTAMP:20260420T053733Z
CREATED:20260420T053733Z
DTSTART:20260111T200500Z
DTEND:20260111T205500Z
LOCATION:Field 1
CONTACT:
SUMMARY:Academica VS. Limon
DESCRIPTION:League Name: Under 14 Boys Comp F-25 (2012 oldest player)\nGame
  Type: Regular\nGame Status: Complete\nHome Team: Academica\nAway Team: Li
 mon\nHome Score: 3\nAway Score: 5
END:VEVENT
BEGIN:VEVENT
UID:16819794@ezleagues.ezfacility.com
DTSTAMP:20260420T053733Z
CREATED:20260420T053733Z
DTSTART:20260118T031000Z
DTEND:20260118T040000Z
LOCATION:Field 2
CONTACT:
SUMMARY:Limon VS. Extreme
DESCRIPTION:League Name: Under 14 Boys Comp F-25 (2012 oldest player)\nGame
  Type: Regular\nGame Status: Complete\nHome Team: Limon\nAway Team: Extrem
 e\nHome Score: 5\nAway Score: 7
END:VEVENT
END:VCALENDAR
