BEGIN:VCALENDAR
VERSION:2.0
PRODID:-//EZFacility.com, Inc.//EZL 2.5.5.28621
BEGIN:VEVENT
UID:16826468@ezleagues.ezfacility.com
DTSTAMP:20260421T223645Z
CREATED:20260421T223645Z
DTSTART:20251207T161500Z
DTEND:20251207T171500Z
LOCATION:8v8 Field 3
CONTACT:
SUMMARY:Reign 16G VS. Blackhawks 16G Silver
DESCRIPTION:League Name: Winter 2025/26 - Travel Non-Boarded - U10G (2016)\
 nGame Type: Regular\nGame Status: Complete\nHome Team: Reign 16G\nAway Tea
 m: Blackhawks 16G Silver\nHome Score: 2\nAway Score: 1
END:VEVENT
BEGIN:VEVENT
UID:16826478@ezleagues.ezfacility.com
DTSTAMP:20260421T223645Z
CREATED:20260421T223645Z
DTSTART:20251220T141500Z
DTEND:20251220T151500Z
LOCATION:8v8 Field 3
CONTACT:
SUMMARY:Blackhawks 16G Silver VS. Blackhawks 16G Gold
DESCRIPTION:League Name: Winter 2025/26 - Travel Non-Boarded - U10G (2016)\
 nGame Type: Regular\nGame Status: Complete\nHome Team: Blackhawks 16G Silv
 er\nAway Team: Blackhawks 16G Gold\nHome Score: 1\nAway Score: 1
END:VEVENT
BEGIN:VEVENT
UID:16826496@ezleagues.ezfacility.com
DTSTAMP:20260421T223645Z
CREATED:20260421T223645Z
DTSTART:20260104T161500Z
DTEND:20260104T171500Z
LOCATION:8v8 Field 3
CONTACT:
SUMMARY:Blackhawks 16G Silver VS. Reign 16G
DESCRIPTION:League Name: Winter 2025/26 - Travel Non-Boarded - U10G (2016)\
 nGame Type: Regular\nGame Status: Complete\nHome Team: Blackhawks 16G Silv
 er\nAway Team: Reign 16G\nHome Score: 1\nAway Score: 3
END:VEVENT
BEGIN:VEVENT
UID:16826488@ezleagues.ezfacility.com
DTSTAMP:20260421T223645Z
CREATED:20260421T223645Z
DTSTART:20260118T161500Z
DTEND:20260118T171500Z
LOCATION:8v8 Field 3
CONTACT:
SUMMARY:DCFC 16G Rouge VS. Blackhawks 16G Silver
DESCRIPTION:League Name: Winter 2025/26 - Travel Non-Boarded - U10G (2016)\
 nGame Type: Regular\nGame Status: Complete\nHome Team: DCFC 16G Rouge\nAwa
 y Team: Blackhawks 16G Silver\nHome Score: 0\nAway Score: 3
END:VEVENT
BEGIN:VEVENT
UID:16826482@ezleagues.ezfacility.com
DTSTAMP:20260421T223645Z
CREATED:20260421T223645Z
DTSTART:20260124T171500Z
DTEND:20260124T181500Z
LOCATION:8v8 Field 3
CONTACT:
SUMMARY:Magic U10G VS. Blackhawks 16G Silver
DESCRIPTION:League Name: Winter 2025/26 - Travel Non-Boarded - U10G (2016)\
 nGame Type: Regular\nGame Status: Complete\nHome Team: Magic U10G\nAway Te
 am: Blackhawks 16G Silver\nHome Score: 0\nAway Score: 3
END:VEVENT
BEGIN:VEVENT
UID:16826506@ezleagues.ezfacility.com
DTSTAMP:20260421T223645Z
CREATED:20260421T223645Z
DTSTART:20260214T221500Z
DTEND:20260214T231500Z
LOCATION:8v8 Field 3
CONTACT:
SUMMARY:DCFC 16G Rouge VS. Blackhawks 16G Silver
DESCRIPTION:League Name: Winter 2025/26 - Travel Non-Boarded - U10G (2016)\
 nGame Type: Regular\nGame Status: Complete\nHome Team: DCFC 16G Rouge\nAwa
 y Team: Blackhawks 16G Silver\nHome Score: 0\nAway Score: 2
END:VEVENT
BEGIN:VEVENT
UID:16826501@ezleagues.ezfacility.com
DTSTAMP:20260421T223645Z
CREATED:20260421T223645Z
DTSTART:20260314T141500Z
DTEND:20260314T151500Z
LOCATION:8v8 Field 3
CONTACT:
SUMMARY:Blackhawks 16G Silver VS. Stars-Macomb 16/17 Pre GAA
DESCRIPTION:League Name: Winter 2025/26 - Travel Non-Boarded - U10G (2016)\
 nGame Type: Regular\nGame Status: Complete\nHome Team: Blackhawks 16G Silv
 er\nAway Team: Stars-Macomb 16/17 Pre GAA\nHome Score: 0\nAway Score: 2
END:VEVENT
BEGIN:VEVENT
UID:16889870@ezleagues.ezfacility.com
DTSTAMP:20260421T223645Z
CREATED:20260421T223645Z
DTSTART:20260321T181500Z
DTEND:20260321T191500Z
LOCATION:8v8 Field 3
CONTACT:
SUMMARY:Blackhawks 16G Silver VS. Magic U10G
DESCRIPTION:League Name: Winter 2025/26 - Travel Non-Boarded - U10G (2016)\
 nGame Type: Regular\nGame Status: Complete\nHome Team: Blackhawks 16G Silv
 er\nAway Team: Magic U10G\nHome Score: 1\nAway Score: 0
END:VEVENT
BEGIN:VEVENT
UID:16826473@ezleagues.ezfacility.com
DTSTAMP:20260421T223645Z
CREATED:20260421T223645Z
DTSTART:20260322T131500Z
DTEND:20260322T141500Z
LOCATION:8v8 Field 3
CONTACT:
SUMMARY:Stars-Macomb 16/17 Pre GAA VS. Blackhawks 16G Silver
DESCRIPTION:League Name: Winter 2025/26 - Travel Non-Boarded - U10G (2016)\
 nGame Type: Regular\nGame Status: Complete\nHome Team: Stars-Macomb 16/17 
 Pre GAA\nAway Team: Blackhawks 16G Silver\nHome Score: 2\nAway Score: 0
END:VEVENT
BEGIN:VEVENT
UID:16889872@ezleagues.ezfacility.com
DTSTAMP:20260421T223645Z
CREATED:20260421T223645Z
DTSTART:20260328T111500Z
DTEND:20260328T121500Z
LOCATION:8v8 Field 3
CONTACT:
SUMMARY:Blackhawks 16G Silver VS. Burn 17G Black
DESCRIPTION:League Name: Winter 2025/26 - Travel Non-Boarded - U10G (2016)\
 nGame Type: Regular\nGame Status: Complete\nHome Team: Blackhawks 16G Silv
 er\nAway Team: Burn 17G Black\nHome Score: 0\nAway Score: 4
END:VEVENT
END:VCALENDAR
