BEGIN:VCALENDAR
VERSION:2.0
PRODID:-//EZFacility.com, Inc.//EZL 2.5.5.28621
BEGIN:VEVENT
UID:16826476@ezleagues.ezfacility.com
DTSTAMP:20260426T035100Z
CREATED:20260426T035100Z
DTSTART:20251115T161500Z
DTEND:20251115T171500Z
LOCATION:8v8 Field 3
CONTACT:
SUMMARY:Reign 16G VS. Stars-Macomb 16/17 Pre GAA
DESCRIPTION:League Name: Winter 2025/26 - Travel Non-Boarded - U10G (2016)\
 nGame Type: Regular\nGame Status: Complete\nHome Team: Reign 16G\nAway Tea
 m: Stars-Macomb 16/17 Pre GAA\nHome Score: 0\nAway Score: 3
END:VEVENT
BEGIN:VEVENT
UID:16826481@ezleagues.ezfacility.com
DTSTAMP:20260426T035100Z
CREATED:20260426T035100Z
DTSTART:20251122T121500Z
DTEND:20251122T131500Z
LOCATION:8v8 Field 3
CONTACT:
SUMMARY:Reign 16G VS. Blackhawks 16G Gold
DESCRIPTION:League Name: Winter 2025/26 - Travel Non-Boarded - U10G (2016)\
 nGame Type: Regular\nGame Status: Complete\nHome Team: Reign 16G\nAway Tea
 m: Blackhawks 16G Gold\nHome Score: 0\nAway Score: 1
END:VEVENT
BEGIN:VEVENT
UID:16826483@ezleagues.ezfacility.com
DTSTAMP:20260426T035100Z
CREATED:20260426T035100Z
DTSTART:20251207T141500Z
DTEND:20251207T151500Z
LOCATION:8v8 Field 3
CONTACT:
SUMMARY:DCFC 16G Rouge VS. Reign 16G
DESCRIPTION:League Name: Winter 2025/26 - Travel Non-Boarded - U10G (2016)\
 nGame Type: Regular\nGame Status: Complete\nHome Team: DCFC 16G Rouge\nAwa
 y Team: Reign 16G\nHome Score: 0\nAway Score: 5
END:VEVENT
BEGIN:VEVENT
UID:16826468@ezleagues.ezfacility.com
DTSTAMP:20260426T035100Z
CREATED:20260426T035100Z
DTSTART:20251207T161500Z
DTEND:20251207T171500Z
LOCATION:8v8 Field 3
CONTACT:
SUMMARY:Reign 16G VS. Blackhawks 16G Silver
DESCRIPTION:League Name: Winter 2025/26 - Travel Non-Boarded - U10G (2016)\
 nGame Type: Regular\nGame Status: Complete\nHome Team: Reign 16G\nAway Tea
 m: Blackhawks 16G Silver\nHome Score: 2\nAway Score: 1
END:VEVENT
BEGIN:VEVENT
UID:16826479@ezleagues.ezfacility.com
DTSTAMP:20260426T035100Z
CREATED:20260426T035100Z
DTSTART:20251221T131500Z
DTEND:20251221T141500Z
LOCATION:8v8 Field 3
CONTACT:
SUMMARY:Reign 16G VS. Stars-Macomb 16/17 Pre GAA
DESCRIPTION:League Name: Winter 2025/26 - Travel Non-Boarded - U10G (2016)\
 nGame Type: Regular\nGame Status: Complete\nHome Team: Reign 16G\nAway Tea
 m: Stars-Macomb 16/17 Pre GAA\nHome Score: 1\nAway Score: 1
END:VEVENT
BEGIN:VEVENT
UID:16826496@ezleagues.ezfacility.com
DTSTAMP:20260426T035100Z
CREATED:20260426T035100Z
DTSTART:20260104T161500Z
DTEND:20260104T171500Z
LOCATION:8v8 Field 3
CONTACT:
SUMMARY:Blackhawks 16G Silver VS. Reign 16G
DESCRIPTION:League Name: Winter 2025/26 - Travel Non-Boarded - U10G (2016)\
 nGame Type: Regular\nGame Status: Complete\nHome Team: Blackhawks 16G Silv
 er\nAway Team: Reign 16G\nHome Score: 1\nAway Score: 3
END:VEVENT
BEGIN:VEVENT
UID:16826465@ezleagues.ezfacility.com
DTSTAMP:20260426T035100Z
CREATED:20260426T035100Z
DTSTART:20260208T151500Z
DTEND:20260208T161500Z
LOCATION:8v8 Field 3
CONTACT:
SUMMARY:Reign 16G VS. DCFC 16G Rouge
DESCRIPTION:League Name: Winter 2025/26 - Travel Non-Boarded - U10G (2016)\
 nGame Type: Regular\nGame Status: Complete\nHome Team: Reign 16G\nAway Tea
 m: DCFC 16G Rouge\nHome Score: 4\nAway Score: 1
END:VEVENT
BEGIN:VEVENT
UID:16826486@ezleagues.ezfacility.com
DTSTAMP:20260426T035100Z
CREATED:20260426T035100Z
DTSTART:20260228T191500Z
DTEND:20260228T201500Z
LOCATION:8v8 Field 3
CONTACT:
SUMMARY:Reign 16G VS. Magic U10G
DESCRIPTION:League Name: Winter 2025/26 - Travel Non-Boarded - U10G (2016)\
 nGame Type: Regular\nGame Status: Complete\nHome Team: Reign 16G\nAway Tea
 m: Magic U10G\nHome Score: 0\nAway Score: 2
END:VEVENT
BEGIN:VEVENT
UID:16826493@ezleagues.ezfacility.com
DTSTAMP:20260426T035100Z
CREATED:20260426T035100Z
DTSTART:20260308T121500Z
DTEND:20260308T131500Z
LOCATION:8v8 Field 3
CONTACT:
SUMMARY:DCFC 16G Rouge VS. Reign 16G
DESCRIPTION:League Name: Winter 2025/26 - Travel Non-Boarded - U10G (2016)\
 nGame Type: Regular\nGame Status: Complete\nHome Team: DCFC 16G Rouge\nAwa
 y Team: Reign 16G\nHome Score: 0\nAway Score: 0
END:VEVENT
BEGIN:VEVENT
UID:16889871@ezleagues.ezfacility.com
DTSTAMP:20260426T035100Z
CREATED:20260426T035100Z
DTSTART:20260316T211500Z
DTEND:20260316T221500Z
LOCATION:8v8 Field 3
CONTACT:
SUMMARY:Blackhawks 16G Gold VS. Reign 16G
DESCRIPTION:League Name: Winter 2025/26 - Travel Non-Boarded - U10G (2016)\
 nGame Type: Regular\nGame Status: Complete\nHome Team: Blackhawks 16G Gold
 \nAway Team: Reign 16G\nHome Score: 1\nAway Score: 0
END:VEVENT
BEGIN:VEVENT
UID:16826505@ezleagues.ezfacility.com
DTSTAMP:20260426T035100Z
CREATED:20260426T035100Z
DTSTART:20260321T161500Z
DTEND:20260321T171500Z
LOCATION:8v8 Field 3
CONTACT:
SUMMARY:Blackhawks 16G Gold VS. Reign 16G
DESCRIPTION:League Name: Winter 2025/26 - Travel Non-Boarded - U10G (2016)\
 nGame Type: Regular\nGame Status: Complete\nHome Team: Blackhawks 16G Gold
 \nAway Team: Reign 16G\nHome Score: 2\nAway Score: 3
END:VEVENT
BEGIN:VEVENT
UID:16826470@ezleagues.ezfacility.com
DTSTAMP:20260426T035100Z
CREATED:20260426T035100Z
DTSTART:20260408T221500Z
DTEND:20260408T231500Z
LOCATION:8v8 Field 3
CONTACT:
SUMMARY:Stars-Macomb 16/17 Pre GAA VS. Reign 16G
DESCRIPTION:League Name: Winter 2025/26 - Travel Non-Boarded - U10G (2016)\
 nGame Type: Regular\nGame Status: Complete\nHome Team: Stars-Macomb 16/17 
 Pre GAA\nAway Team: Reign 16G\nHome Score: 5\nAway Score: 1
END:VEVENT
END:VCALENDAR
