BEGIN:VCALENDAR
VERSION:2.0
PRODID:-//EZFacility.com, Inc.//EZL 2.5.5.28621
BEGIN:VEVENT
UID:16821187@ezleagues.ezfacility.com
DTSTAMP:20260424T060539Z
CREATED:20260424T060539Z
DTSTART:20251109T155000Z
DTEND:20251109T164000Z
LOCATION:Full Indoor Field
CONTACT:
SUMMARY:Don’t Hang On That VS. Shadowhawks
DESCRIPTION:League Name: 25-26 Indoor 1-U12 Mittelliga\nGame Type: Regular\
 nGame Status: Complete\nHome Team: Don’t Hang On That\nAway Team: Shadow
 hawks\nHome Score: 6\nAway Score: 0
END:VEVENT
BEGIN:VEVENT
UID:16821191@ezleagues.ezfacility.com
DTSTAMP:20260424T060539Z
CREATED:20260424T060539Z
DTSTART:20251116T155000Z
DTEND:20251116T164000Z
LOCATION:Full Indoor Field
CONTACT:
SUMMARY:Slay Queens FC VS. Don’t Hang On That
DESCRIPTION:League Name: 25-26 Indoor 1-U12 Mittelliga\nGame Type: Regular\
 nGame Status: Complete\nHome Team: Slay Queens FC\nAway Team: Don’t Hang
  On That\nHome Score: 0\nAway Score: 13
END:VEVENT
BEGIN:VEVENT
UID:16821194@ezleagues.ezfacility.com
DTSTAMP:20260424T060539Z
CREATED:20260424T060539Z
DTSTART:20251123T155000Z
DTEND:20251123T164000Z
LOCATION:Full Indoor Field
CONTACT:
SUMMARY:Kickers Blue VS. Don’t Hang On That
DESCRIPTION:League Name: 25-26 Indoor 1-U12 Mittelliga\nGame Type: Regular\
 nGame Status: Complete\nHome Team: Kickers Blue\nAway Team: Don’t Hang O
 n That\nHome Score: 2\nAway Score: 8
END:VEVENT
BEGIN:VEVENT
UID:16821198@ezleagues.ezfacility.com
DTSTAMP:20260424T060539Z
CREATED:20260424T060539Z
DTSTART:20251207T150000Z
DTEND:20251207T155000Z
LOCATION:Full Indoor Field
CONTACT:
SUMMARY:Don’t Hang On That VS. 6-7 Baddies
DESCRIPTION:League Name: 25-26 Indoor 1-U12 Mittelliga\nGame Type: Regular\
 nGame Status: Complete\nHome Team: Don’t Hang On That\nAway Team: 6-7 Ba
 ddies\nHome Score: 8\nAway Score: 0
END:VEVENT
BEGIN:VEVENT
UID:16821202@ezleagues.ezfacility.com
DTSTAMP:20260424T060539Z
CREATED:20260424T060539Z
DTSTART:20251214T150000Z
DTEND:20251214T155000Z
LOCATION:Full Indoor Field
CONTACT:
SUMMARY:Shadowhawks VS. Don’t Hang On That
DESCRIPTION:League Name: 25-26 Indoor 1-U12 Mittelliga\nGame Type: Regular\
 nGame Status: Complete\nHome Team: Shadowhawks\nAway Team: Don’t Hang On
  That\nHome Score: 0\nAway Score: 9
END:VEVENT
BEGIN:VEVENT
UID:16821206@ezleagues.ezfacility.com
DTSTAMP:20260424T060539Z
CREATED:20260424T060539Z
DTSTART:20251221T150000Z
DTEND:20251221T155000Z
LOCATION:Full Indoor Field
CONTACT:
SUMMARY:Don’t Hang On That VS. Slay Queens FC
DESCRIPTION:League Name: 25-26 Indoor 1-U12 Mittelliga\nGame Type: Regular\
 nGame Status: Complete\nHome Team: Don’t Hang On That\nAway Team: Slay Q
 ueens FC\nHome Score: 8\nAway Score: 1
END:VEVENT
BEGIN:VEVENT
UID:16821209@ezleagues.ezfacility.com
DTSTAMP:20260424T060539Z
CREATED:20260424T060539Z
DTSTART:20260104T150000Z
DTEND:20260104T155000Z
LOCATION:Full Indoor Field
CONTACT:
SUMMARY:Don’t Hang On That VS. Kickers Blue
DESCRIPTION:League Name: 25-26 Indoor 1-U12 Mittelliga\nGame Type: Regular\
 nGame Status: Complete\nHome Team: Don’t Hang On That\nAway Team: Kicker
 s Blue\nHome Score: 4\nAway Score: 5
END:VEVENT
BEGIN:VEVENT
UID:16821213@ezleagues.ezfacility.com
DTSTAMP:20260424T060539Z
CREATED:20260424T060539Z
DTSTART:20260118T150000Z
DTEND:20260118T155000Z
LOCATION:Full Indoor Field
CONTACT:
SUMMARY:6-7 Baddies VS. Don’t Hang On That
DESCRIPTION:League Name: 25-26 Indoor 1-U12 Mittelliga\nGame Type: Regular\
 nGame Status: Complete\nHome Team: 6-7 Baddies\nAway Team: Don’t Hang On
  That\nHome Score: 1\nAway Score: 3
END:VEVENT
END:VCALENDAR
