BEGIN:VCALENDAR
VERSION:2.0
PRODID:-//EZFacility.com, Inc.//EZL 2.5.5.28621
BEGIN:VEVENT
UID:16821609@ezleagues.ezfacility.com
DTSTAMP:20260424T041516Z
CREATED:20260424T041516Z
DTSTART:20251107T225000Z
DTEND:20251107T234000Z
LOCATION:Full Indoor Field
CONTACT:
SUMMARY:Buchanan MS  VS. Coral Crusaders (SJ)
DESCRIPTION:League Name: 25-26 Indoor 1-MS Mittelliga - Weiss\nGame Type: R
 egular\nGame Status: Complete\nHome Team: Buchanan MS \nAway Team: Coral C
 rusaders (SJ)\nHome Score: 5\nAway Score: 4
END:VEVENT
BEGIN:VEVENT
UID:16821611@ezleagues.ezfacility.com
DTSTAMP:20260424T041516Z
CREATED:20260424T041516Z
DTSTART:20251115T003000Z
DTEND:20251115T012000Z
LOCATION:Full Indoor Field
CONTACT:
SUMMARY:New Prairie Cougars VS. Buchanan MS 
DESCRIPTION:League Name: 25-26 Indoor 1-MS Mittelliga - Weiss\nGame Type: R
 egular\nGame Status: Complete\nHome Team: New Prairie Cougars\nAway Team: 
 Buchanan MS \nHome Score: 11\nAway Score: 1
END:VEVENT
BEGIN:VEVENT
UID:16821617@ezleagues.ezfacility.com
DTSTAMP:20260424T041516Z
CREATED:20260424T041516Z
DTSTART:20251121T225000Z
DTEND:20251121T234000Z
LOCATION:Full Indoor Field
CONTACT:
SUMMARY:SWM '14 Blue (Boyd) VS. Buchanan MS 
DESCRIPTION:League Name: 25-26 Indoor 1-MS Mittelliga - Weiss\nGame Type: R
 egular\nGame Status: Complete\nHome Team: SWM '14 Blue (Boyd)\nAway Team: 
 Buchanan MS \nHome Score: 6\nAway Score: 3
END:VEVENT
BEGIN:VEVENT
UID:16821693@ezleagues.ezfacility.com
DTSTAMP:20260424T041516Z
CREATED:20260424T041516Z
DTSTART:20251202T233000Z
DTEND:20251203T002000Z
LOCATION:Full Indoor Field
CONTACT:
SUMMARY:Buchanan MS  VS. Berrien Springs MS 
DESCRIPTION:League Name: 25-26 Indoor 1-MS Mittelliga - Weiss\nGame Type: R
 egular\nGame Status: Complete\nHome Team: Buchanan MS \nAway Team: Berrien
  Springs MS \nHome Score: 1\nAway Score: 4
END:VEVENT
BEGIN:VEVENT
UID:16821625@ezleagues.ezfacility.com
DTSTAMP:20260424T041516Z
CREATED:20260424T041516Z
DTSTART:20251205T225000Z
DTEND:20251205T234000Z
LOCATION:Full Indoor Field
CONTACT:
SUMMARY:SWM '13 Blue (Torres) VS. Buchanan MS 
DESCRIPTION:League Name: 25-26 Indoor 1-MS Mittelliga - Weiss\nGame Type: R
 egular\nGame Status: Complete\nHome Team: SWM '13 Blue (Torres)\nAway Team
 : Buchanan MS \nHome Score: 5\nAway Score: 3
END:VEVENT
BEGIN:VEVENT
UID:16821627@ezleagues.ezfacility.com
DTSTAMP:20260424T041516Z
CREATED:20260424T041516Z
DTSTART:20251212T234000Z
DTEND:20251213T003000Z
LOCATION:Full Indoor Field
CONTACT:
SUMMARY:Buchanan MS  VS. Edwardsburg FC
DESCRIPTION:League Name: 25-26 Indoor 1-MS Mittelliga - Weiss\nGame Type: R
 egular\nGame Status: Complete\nHome Team: Buchanan MS \nAway Team: Edwards
 burg FC\nHome Score: 2\nAway Score: 3
END:VEVENT
BEGIN:VEVENT
UID:16821633@ezleagues.ezfacility.com
DTSTAMP:20260424T041516Z
CREATED:20260424T041516Z
DTSTART:20251219T225000Z
DTEND:20251219T234000Z
LOCATION:Full Indoor Field
CONTACT:
SUMMARY:Buchanan MS  VS. Carpet Burners (SJ)
DESCRIPTION:League Name: 25-26 Indoor 1-MS Mittelliga - Weiss\nGame Type: R
 egular\nGame Status: Complete\nHome Team: Buchanan MS \nAway Team: Carpet 
 Burners (SJ)\nHome Score: 2\nAway Score: 1
END:VEVENT
BEGIN:VEVENT
UID:16821620@ezleagues.ezfacility.com
DTSTAMP:20260424T041516Z
CREATED:20260424T041516Z
DTSTART:20260109T225000Z
DTEND:20260109T234000Z
LOCATION:Full Indoor Field
CONTACT:
SUMMARY:SWM '14 White (Crow) VS. Buchanan MS 
DESCRIPTION:League Name: 25-26 Indoor 1-MS Mittelliga - Weiss\nGame Type: R
 egular\nGame Status: Complete\nHome Team: SWM '14 White (Crow)\nAway Team:
  Buchanan MS \nHome Score: 2\nAway Score: 3
END:VEVENT
END:VCALENDAR
