BEGIN:VCALENDAR
VERSION:2.0
PRODID:-//EZFacility.com, Inc.//EZL 2.5.5.28621
BEGIN:VEVENT
UID:16838017@ezleagues.ezfacility.com
DTSTAMP:20260423T221458Z
CREATED:20260423T221458Z
DTSTART:20251109T180000Z
DTEND:20251109T190000Z
LOCATION:Snow Hill High School
CONTACT:
SUMMARY:Shore Unlimited VS. United
DESCRIPTION:League Name: The Eastern Shore's Ultimate Futsal League Session
  I 2025-U9 Boys Division\nGame Type: Regular\nGame Status: Complete\nHome 
 Team: Shore Unlimited\nAway Team: United\nHome Score: 8\nAway Score: 5
END:VEVENT
BEGIN:VEVENT
UID:16851222@ezleagues.ezfacility.com
DTSTAMP:20260423T221458Z
CREATED:20260423T221458Z
DTSTART:20251116T220000Z
DTEND:20251116T230000Z
LOCATION:Old Washington High School
CONTACT:
SUMMARY:United VS. Roberts Sporting SC
DESCRIPTION:League Name: The Eastern Shore's Ultimate Futsal League Session
  I 2025-U9 Boys Division\nGame Type: Regular\nGame Status: Complete\nHome 
 Team: United\nAway Team: Roberts Sporting SC\nHome Score: 11\nAway Score: 
 1
END:VEVENT
BEGIN:VEVENT
UID:16865551@ezleagues.ezfacility.com
DTSTAMP:20260423T221458Z
CREATED:20260423T221458Z
DTSTART:20251123T190000Z
DTEND:20251123T200000Z
LOCATION:The Salvation Army Oak Street 
CONTACT:
SUMMARY:Arsenal  VS. United
DESCRIPTION:League Name: The Eastern Shore's Ultimate Futsal League Session
  I 2025-U9 Boys Division\nGame Type: Regular\nGame Status: Complete\nHome 
 Team: Arsenal \nAway Team: United\nHome Score: 0\nAway Score: 9
END:VEVENT
BEGIN:VEVENT
UID:16866132@ezleagues.ezfacility.com
DTSTAMP:20260423T221458Z
CREATED:20260423T221458Z
DTSTART:20251207T160000Z
DTEND:20251207T170000Z
LOCATION:Current Washington High School
CONTACT:
SUMMARY:United VS. Tigers
DESCRIPTION:League Name: The Eastern Shore's Ultimate Futsal League Session
  I 2025-U9 Boys Division\nGame Type: Regular\nGame Status: Complete\nHome 
 Team: United\nAway Team: Tigers\nHome Score: 12\nAway Score: 2
END:VEVENT
BEGIN:VEVENT
UID:16866261@ezleagues.ezfacility.com
DTSTAMP:20260423T221458Z
CREATED:20260423T221458Z
DTSTART:20251207T230000Z
DTEND:20251208T000000Z
LOCATION:Snow Hill High School
CONTACT:
SUMMARY:United VS. Shore Unlimited
DESCRIPTION:League Name: The Eastern Shore's Ultimate Futsal League Session
  I 2025-U9 Boys Division\nGame Type: Regular\nGame Status: Complete\nHome 
 Team: United\nAway Team: Shore Unlimited\nHome Score: 5\nAway Score: 7
END:VEVENT
END:VCALENDAR
