BEGIN:VCALENDAR
VERSION:2.0
PRODID:-//EZFacility.com, Inc.//EZL 2.5.5.28621
BEGIN:VEVENT
UID:16825758@ezleagues.ezfacility.com
DTSTAMP:20260424T120147Z
CREATED:20260424T120147Z
DTSTART:20251107T010000Z
DTEND:20251107T015000Z
LOCATION:Expo Indoor 2
CONTACT:Clark
SUMMARY:KY Elite 2011/12 VS. West Bluegrass Soccer Club - Fillies (Pink)
DESCRIPTION:League Name: Middle School Girls 7v7 Indoor\nGame Type: Regular
 \nGame Status: Rescheduled\nHome Team: KY Elite 2011/12\nAway Team: West B
 luegrass Soccer Club - Fillies (Pink)\n
END:VEVENT
BEGIN:VEVENT
UID:16825762@ezleagues.ezfacility.com
DTSTAMP:20260424T120147Z
CREATED:20260424T120147Z
DTSTART:20251115T173000Z
DTEND:20251115T182000Z
LOCATION:Expo Indoor 2
CONTACT:
SUMMARY:West Bluegrass Soccer Club - Fillies VS. KY Elite 2011/12
DESCRIPTION:League Name: Middle School Girls 7v7 Indoor\nGame Type: Regular
 \nGame Status: Complete\nHome Team: West Bluegrass Soccer Club - Fillies\n
 Away Team: KY Elite 2011/12\nHome Score: 0\nAway Score: 10
END:VEVENT
BEGIN:VEVENT
UID:16825765@ezleagues.ezfacility.com
DTSTAMP:20260424T120147Z
CREATED:20260424T120147Z
DTSTART:20251122T205000Z
DTEND:20251122T214000Z
LOCATION:Expo Indoor 2
CONTACT:
SUMMARY:Mayfield VS. KY Elite 2011/12
DESCRIPTION:League Name: Middle School Girls 7v7 Indoor\nGame Type: Regular
 \nGame Status: Complete\nHome Team: Mayfield\nAway Team: KY Elite 2011/12\
 nHome Score: 0\nAway Score: 10
END:VEVENT
BEGIN:VEVENT
UID:16825851@ezleagues.ezfacility.com
DTSTAMP:20260424T120147Z
CREATED:20260424T120147Z
DTSTART:20251125T001000Z
DTEND:20251125T010000Z
LOCATION:Expo Indoor 2
CONTACT:Clark
SUMMARY:Dynamo Blue VS. KY Elite 2011/12
DESCRIPTION:League Name: Middle School Girls 7v7 Indoor\nGame Type: Regular
 \nGame Status: Complete\nHome Team: Dynamo Blue\nAway Team: KY Elite 2011/
 12\nHome Score: 5\nAway Score: 7
END:VEVENT
BEGIN:VEVENT
UID:16825769@ezleagues.ezfacility.com
DTSTAMP:20260424T120147Z
CREATED:20260424T120147Z
DTSTART:20251205T010000Z
DTEND:20251205T015000Z
LOCATION:Expo Indoor 2
CONTACT:Dimarco
SUMMARY:KY Elite 2011/12 VS. Dynamo Blue
DESCRIPTION:League Name: Middle School Girls 7v7 Indoor\nGame Type: Regular
 \nGame Status: Complete\nHome Team: KY Elite 2011/12\nAway Team: Dynamo Bl
 ue\nHome Score: 5\nAway Score: 7
END:VEVENT
BEGIN:VEVENT
UID:16862055@ezleagues.ezfacility.com
DTSTAMP:20260424T120147Z
CREATED:20260424T120147Z
DTSTART:20251210T015000Z
DTEND:20251210T024000Z
LOCATION:Expo Indoor 2
CONTACT:Clark
SUMMARY:KY Elite 2011/12 VS. West Bluegrass Soccer Club - Fillies (Pink)
DESCRIPTION:League Name: Middle School Girls 7v7 Indoor\nGame Type: Regular
 \nGame Status: Complete\nHome Team: KY Elite 2011/12\nAway Team: West Blue
 grass Soccer Club - Fillies (Pink)\nHome Score: 6\nAway Score: 0
END:VEVENT
BEGIN:VEVENT
UID:16825895@ezleagues.ezfacility.com
DTSTAMP:20260424T120147Z
CREATED:20260424T120147Z
DTSTART:20251213T182000Z
DTEND:20251213T191000Z
LOCATION:Expo Indoor 2
CONTACT:
SUMMARY:Mayfield VS. KY Elite 2011/12
DESCRIPTION:League Name: Middle School Girls 7v7 Indoor\nGame Type: Regular
 \nGame Status: Complete\nHome Team: Mayfield\nAway Team: KY Elite 2011/12\
 nHome Score: 10\nAway Score: 0
END:VEVENT
BEGIN:VEVENT
UID:16825773@ezleagues.ezfacility.com
DTSTAMP:20260424T120147Z
CREATED:20260424T120147Z
DTSTART:20251216T010000Z
DTEND:20251216T015000Z
LOCATION:Expo Indoor 2
CONTACT:Dimarco
SUMMARY:West Bluegrass Soccer Club - Fillies (Pink) VS. KY Elite 2011/12
DESCRIPTION:League Name: Middle School Girls 7v7 Indoor\nGame Type: Regular
 \nGame Status: Complete\nHome Team: West Bluegrass Soccer Club - Fillies (
 Pink)\nAway Team: KY Elite 2011/12\nHome Score: 0\nAway Score: 10
END:VEVENT
BEGIN:VEVENT
UID:16911747@ezleagues.ezfacility.com
DTSTAMP:20260424T120147Z
CREATED:20260424T120147Z
DTSTART:20251219T010000Z
DTEND:20251219T015000Z
LOCATION:Expo Indoor 2
CONTACT:
SUMMARY:Dynamo Blue VS. KY Elite 2011/12
DESCRIPTION:League Name: Middle School Girls 7v7 Indoor\nGame Type: Friendl
 y\nGame Status: Complete\nHome Team: Dynamo Blue\nAway Team: KY Elite 2011
 /12\nHome Score: 4\nAway Score: 7
END:VEVENT
BEGIN:VEVENT
UID:16825776@ezleagues.ezfacility.com
DTSTAMP:20260424T120147Z
CREATED:20260424T120147Z
DTSTART:20251220T232000Z
DTEND:20251221T001000Z
LOCATION:Expo Indoor 2
CONTACT:Clark\, Dimarco
SUMMARY:KY Elite 2011/12 VS. West Bluegrass Soccer Club - Fillies
DESCRIPTION:League Name: Middle School Girls 7v7 Indoor\nGame Type: Regular
 \nGame Status: Complete\nHome Team: KY Elite 2011/12\nAway Team: West Blue
 grass Soccer Club - Fillies\nHome Score: 12\nAway Score: 2
END:VEVENT
BEGIN:VEVENT
UID:16913492@ezleagues.ezfacility.com
DTSTAMP:20260424T120147Z
CREATED:20260424T120147Z
DTSTART:20251223T232000Z
DTEND:20251224T001000Z
LOCATION:Expo Indoor 2
CONTACT:Clark\, Dimarco
SUMMARY:Dynamo Blue VS. KY Elite 2011/12
DESCRIPTION:League Name: Middle School Girls 7v7 Indoor\nGame Type: Postsea
 son\nGame Status: Complete\nHome Team: Dynamo Blue\nAway Team: KY Elite 20
 11/12\nHome Score: 5\nAway Score: 0
END:VEVENT
END:VCALENDAR
