BEGIN:VCALENDAR
VERSION:2.0
PRODID:-//EZFacility.com, Inc.//EZL 2.5.5.28621
BEGIN:VEVENT
UID:16865472@ezleagues.ezfacility.com
DTSTAMP:20260424T153848Z
CREATED:20260424T153848Z
DTSTART:20251121T230500Z
DTEND:20251122T000000Z
LOCATION:Accelerate Inside 9v9
CONTACT:
SUMMARY:Coliseum 08  VS. MVSC Scrappers
DESCRIPTION:League Name: 2025 - Winter Session 1 - HS Girls (Silver)\nGame 
 Type: Regular\nGame Status: Complete\nHome Team: Coliseum 08 \nAway Team: 
 MVSC Scrappers\nHome Score: 9\nAway Score: 0
END:VEVENT
BEGIN:VEVENT
UID:16865474@ezleagues.ezfacility.com
DTSTAMP:20260424T153848Z
CREATED:20260424T153848Z
DTSTART:20251122T015000Z
DTEND:20251122T024500Z
LOCATION:Accelerate Inside 9v9
CONTACT:
SUMMARY:Coliseum 08  VS. Coliseum 09 Voltz
DESCRIPTION:League Name: 2025 - Winter Session 1 - HS Girls (Silver)\nGame 
 Type: Regular\nGame Status: Complete\nHome Team: Coliseum 08 \nAway Team: 
 Coliseum 09 Voltz\nHome Score: 5\nAway Score: 0
END:VEVENT
BEGIN:VEVENT
UID:16865476@ezleagues.ezfacility.com
DTSTAMP:20260424T153848Z
CREATED:20260424T153848Z
DTSTART:20251205T230500Z
DTEND:20251206T000000Z
LOCATION:Accelerate Inside 9v9
CONTACT:
SUMMARY:MVSC Hurricanes VS. Coliseum 08 
DESCRIPTION:League Name: 2025 - Winter Session 1 - HS Girls (Silver)\nGame 
 Type: Regular\nGame Status: Complete\nHome Team: MVSC Hurricanes\nAway Tea
 m: Coliseum 08 \nHome Score: 0\nAway Score: 4
END:VEVENT
BEGIN:VEVENT
UID:16865479@ezleagues.ezfacility.com
DTSTAMP:20260424T153848Z
CREATED:20260424T153848Z
DTSTART:20251213T005500Z
DTEND:20251213T015000Z
LOCATION:Accelerate Inside 9v9
CONTACT:
SUMMARY:Coliseum 08  VS. Coliseum 09
DESCRIPTION:League Name: 2025 - Winter Session 1 - HS Girls (Silver)\nGame 
 Type: Regular\nGame Status: Complete\nHome Team: Coliseum 08 \nAway Team: 
 Coliseum 09\nHome Score: 7\nAway Score: 0
END:VEVENT
BEGIN:VEVENT
UID:16865480@ezleagues.ezfacility.com
DTSTAMP:20260424T153848Z
CREATED:20260424T153848Z
DTSTART:20251220T005500Z
DTEND:20251220T015000Z
LOCATION:Accelerate Inside 9v9
CONTACT:
SUMMARY:Coliseum 08  VS. Syracuse Rush 
DESCRIPTION:League Name: 2025 - Winter Session 1 - HS Girls (Silver)\nGame 
 Type: Regular\nGame Status: Complete\nHome Team: Coliseum 08 \nAway Team: 
 Syracuse Rush \nHome Score: 5\nAway Score: 0
END:VEVENT
BEGIN:VEVENT
UID:16865484@ezleagues.ezfacility.com
DTSTAMP:20260424T153848Z
CREATED:20260424T153848Z
DTSTART:20260110T034000Z
DTEND:20260110T044000Z
LOCATION:Accelerate Inside 9v9
CONTACT:
SUMMARY:Coliseum 08  VS. MVSC Hurricanes
DESCRIPTION:League Name: 2025 - Winter Session 1 - HS Girls (Silver)\nGame 
 Type: Regular\nGame Status: Complete\nHome Team: Coliseum 08 \nAway Team: 
 MVSC Hurricanes\nHome Score: 6\nAway Score: 0
END:VEVENT
BEGIN:VEVENT
UID:16865485@ezleagues.ezfacility.com
DTSTAMP:20260424T153848Z
CREATED:20260424T153848Z
DTSTART:20260117T024500Z
DTEND:20260117T034000Z
LOCATION:Accelerate Inside 9v9
CONTACT:
SUMMARY:Coliseum 08  VS. Coliseum 2010
DESCRIPTION:League Name: 2025 - Winter Session 1 - HS Girls (Silver)\nGame 
 Type: Regular\nGame Status: Complete\nHome Team: Coliseum 08 \nAway Team: 
 Coliseum 2010\nHome Score: 8\nAway Score: 0
END:VEVENT
END:VCALENDAR
