BEGIN:VCALENDAR
VERSION:2.0
PRODID:-//EZFacility.com, Inc.//EZL 2.5.5.28621
BEGIN:VEVENT
UID:16828592@ezleagues.ezfacility.com
DTSTAMP:20260426T021727Z
CREATED:20260426T021727Z
DTSTART:20251123T000000Z
DTEND:20251123T010000Z
LOCATION:Main
CONTACT:
SUMMARY:Great Lakes Alliance VS. Reign FC 15
DESCRIPTION:League Name: 2015-14 Boys 1st Session\nGame Type: Regular\nGame
  Status: Complete\nHome Team: Great Lakes Alliance\nAway Team: Reign FC 15
 \nHome Score: 8\nAway Score: 1
END:VEVENT
BEGIN:VEVENT
UID:16828593@ezleagues.ezfacility.com
DTSTAMP:20260426T021727Z
CREATED:20260426T021727Z
DTSTART:20251123T010000Z
DTEND:20251123T020000Z
LOCATION:Main
CONTACT:
SUMMARY:Great Lakes Alliance VS. SCS Bulldogs
DESCRIPTION:League Name: 2015-14 Boys 1st Session\nGame Type: Regular\nGame
  Status: Complete\nHome Team: Great Lakes Alliance\nAway Team: SCS Bulldog
 s\nHome Score: 6\nAway Score: 0
END:VEVENT
BEGIN:VEVENT
UID:16828598@ezleagues.ezfacility.com
DTSTAMP:20260426T021727Z
CREATED:20260426T021727Z
DTSTART:20251214T010000Z
DTEND:20251214T020000Z
LOCATION:Main
CONTACT:
SUMMARY:Reign FC 15 VS. Great Lakes Alliance
DESCRIPTION:League Name: 2015-14 Boys 1st Session\nGame Type: Regular\nGame
  Status: Pending\nHome Team: Reign FC 15\nAway Team: Great Lakes Alliance\
 n
END:VEVENT
END:VCALENDAR
