BEGIN:VCALENDAR
VERSION:2.0
PRODID:-//EZFacility.com, Inc.//EZL 2.5.5.28621
BEGIN:VEVENT
UID:16829592@ezleagues.ezfacility.com
DTSTAMP:20260423T031645Z
CREATED:20260423T031645Z
DTSTART:20251108T184000Z
DTEND:20251108T192000Z
LOCATION:Field A
CONTACT:
SUMMARY:Sting WTX G18 Alvarado VS. FC Rainbows
DESCRIPTION:League Name: Winter Youth 2025-26 -I)   U-9 Girls 2017\nGame Ty
 pe: Regular\nGame Status: Complete\nHome Team: Sting WTX G18 Alvarado\nAwa
 y Team: FC Rainbows\nHome Score: 7\nAway Score: 1
END:VEVENT
BEGIN:VEVENT
UID:16829594@ezleagues.ezfacility.com
DTSTAMP:20260423T031645Z
CREATED:20260423T031645Z
DTSTART:20251115T220000Z
DTEND:20251115T224000Z
LOCATION:Field A
CONTACT:
SUMMARY:CHIVAS 17 VS. Sting WTX G18 Alvarado
DESCRIPTION:League Name: Winter Youth 2025-26 -I)   U-9 Girls 2017\nGame Ty
 pe: Regular\nGame Status: Complete\nHome Team: CHIVAS 17\nAway Team: Sting
  WTX G18 Alvarado\nHome Score: 0\nAway Score: 14
END:VEVENT
BEGIN:VEVENT
UID:16829598@ezleagues.ezfacility.com
DTSTAMP:20260423T031645Z
CREATED:20260423T031645Z
DTSTART:20251122T212000Z
DTEND:20251122T220000Z
LOCATION:Field A
CONTACT:
SUMMARY:Sting Legends VS. Sting WTX G18 Alvarado
DESCRIPTION:League Name: Winter Youth 2025-26 -I)   U-9 Girls 2017\nGame Ty
 pe: Regular\nGame Status: Complete\nHome Team: Sting Legends\nAway Team: S
 ting WTX G18 Alvarado\nHome Score: 0\nAway Score: 7
END:VEVENT
BEGIN:VEVENT
UID:16829607@ezleagues.ezfacility.com
DTSTAMP:20260423T031645Z
CREATED:20260423T031645Z
DTSTART:20251206T204000Z
DTEND:20251206T212000Z
LOCATION:Field A
CONTACT:
SUMMARY:FC Rainbows VS. Sting WTX G18 Alvarado
DESCRIPTION:League Name: Winter Youth 2025-26 -I)   U-9 Girls 2017\nGame Ty
 pe: Regular\nGame Status: Complete\nHome Team: FC Rainbows\nAway Team: Sti
 ng WTX G18 Alvarado\nHome Score: 1\nAway Score: 13
END:VEVENT
BEGIN:VEVENT
UID:16829605@ezleagues.ezfacility.com
DTSTAMP:20260423T031645Z
CREATED:20260423T031645Z
DTSTART:20251216T020000Z
DTEND:20251216T024000Z
LOCATION:Field A
CONTACT:
SUMMARY:Sting WTX G18 Alvarado VS. The Cheetah Girls
DESCRIPTION:League Name: Winter Youth 2025-26 -I)   U-9 Girls 2017\nGame Ty
 pe: Regular\nGame Status: Complete\nHome Team: Sting WTX G18 Alvarado\nAwa
 y Team: The Cheetah Girls\nHome Score: 13\nAway Score: 0
END:VEVENT
BEGIN:VEVENT
UID:16829609@ezleagues.ezfacility.com
DTSTAMP:20260423T031645Z
CREATED:20260423T031645Z
DTSTART:20251220T204000Z
DTEND:20251220T212000Z
LOCATION:Field A
CONTACT:
SUMMARY:Sting WTX G18 Alvarado VS. CHIVAS 17
DESCRIPTION:League Name: Winter Youth 2025-26 -I)   U-9 Girls 2017\nGame Ty
 pe: Regular\nGame Status: Complete\nHome Team: Sting WTX G18 Alvarado\nAwa
 y Team: CHIVAS 17\nHome Score: 18\nAway Score: 2
END:VEVENT
BEGIN:VEVENT
UID:16829617@ezleagues.ezfacility.com
DTSTAMP:20260423T031645Z
CREATED:20260423T031645Z
DTSTART:20260103T220000Z
DTEND:20260103T224000Z
LOCATION:Field A
CONTACT:
SUMMARY:Sting WTX G18 Alvarado VS. Just 4 Kicks
DESCRIPTION:League Name: Winter Youth 2025-26 -I)   U-9 Girls 2017\nGame Ty
 pe: Regular\nGame Status: Complete\nHome Team: Sting WTX G18 Alvarado\nAwa
 y Team: Just 4 Kicks\nHome Score: 3\nAway Score: 7
END:VEVENT
BEGIN:VEVENT
UID:16829620@ezleagues.ezfacility.com
DTSTAMP:20260423T031645Z
CREATED:20260423T031645Z
DTSTART:20260110T212000Z
DTEND:20260110T220000Z
LOCATION:Field A
CONTACT:
SUMMARY:The Cheetah Girls VS. Sting WTX G18 Alvarado
DESCRIPTION:League Name: Winter Youth 2025-26 -I)   U-9 Girls 2017\nGame Ty
 pe: Regular\nGame Status: Complete\nHome Team: The Cheetah Girls\nAway Tea
 m: Sting WTX G18 Alvarado\nHome Score: 0\nAway Score: 9
END:VEVENT
BEGIN:VEVENT
UID:16829602@ezleagues.ezfacility.com
DTSTAMP:20260423T031645Z
CREATED:20260423T031645Z
DTSTART:20260117T184000Z
DTEND:20260117T192000Z
LOCATION:Field A
CONTACT:
SUMMARY:Just 4 Kicks VS. Sting WTX G18 Alvarado
DESCRIPTION:League Name: Winter Youth 2025-26 -I)   U-9 Girls 2017\nGame Ty
 pe: Regular\nGame Status: Complete\nHome Team: Just 4 Kicks\nAway Team: St
 ing WTX G18 Alvarado\nHome Score: 0\nAway Score: 3
END:VEVENT
BEGIN:VEVENT
UID:16829613@ezleagues.ezfacility.com
DTSTAMP:20260423T031645Z
CREATED:20260423T031645Z
DTSTART:20260124T204000Z
DTEND:20260124T212000Z
LOCATION:Field A
CONTACT:
SUMMARY:Sting WTX G18 Alvarado VS. Sting Legends
DESCRIPTION:League Name: Winter Youth 2025-26 -I)   U-9 Girls 2017\nGame Ty
 pe: Regular\nGame Status: Pending\nHome Team: Sting WTX G18 Alvarado\nAway
  Team: Sting Legends\n
END:VEVENT
END:VCALENDAR
