BEGIN:VCALENDAR
VERSION:2.0
PRODID:-//EZFacility.com, Inc.//EZL 2.5.5.28621
BEGIN:VEVENT
UID:16836732@ezleagues.ezfacility.com
DTSTAMP:20260424T041450Z
CREATED:20260424T041450Z
DTSTART:20251112T020000Z
DTEND:20251112T025000Z
LOCATION:A Large Field
CONTACT:
SUMMARY:FC Taters VS. Kiss My Pass
DESCRIPTION:League Name: Mens Soccer League\nGame Type: Regular\nGame Statu
 s: Complete\nHome Team: FC Taters\nAway Team: Kiss My Pass\nHome Score: 1\
 nAway Score: 13
END:VEVENT
BEGIN:VEVENT
UID:16836734@ezleagues.ezfacility.com
DTSTAMP:20260424T041450Z
CREATED:20260424T041450Z
DTSTART:20251112T034000Z
DTEND:20251112T043000Z
LOCATION:A Large Field
CONTACT:
SUMMARY:Kiss My Pass VS. Hooligans
DESCRIPTION:League Name: Mens Soccer League\nGame Type: Regular\nGame Statu
 s: Complete\nHome Team: Kiss My Pass\nAway Team: Hooligans\nHome Score: 9\
 nAway Score: 9
END:VEVENT
BEGIN:VEVENT
UID:16836741@ezleagues.ezfacility.com
DTSTAMP:20260424T041450Z
CREATED:20260424T041450Z
DTSTART:20251119T034000Z
DTEND:20251119T043000Z
LOCATION:A Large Field
CONTACT:
SUMMARY:Underachievers VS. Kiss My Pass
DESCRIPTION:League Name: Mens Soccer League\nGame Type: Regular\nGame Statu
 s: Complete\nHome Team: Underachievers\nAway Team: Kiss My Pass\nHome Scor
 e: 6\nAway Score: 8
END:VEVENT
BEGIN:VEVENT
UID:16836745@ezleagues.ezfacility.com
DTSTAMP:20260424T041450Z
CREATED:20260424T041450Z
DTSTART:20251126T025000Z
DTEND:20251126T034000Z
LOCATION:A Large Field
CONTACT:
SUMMARY:Hooligans VS. Kiss My Pass
DESCRIPTION:League Name: Mens Soccer League\nGame Type: Regular\nGame Statu
 s: Complete\nHome Team: Hooligans\nAway Team: Kiss My Pass\nHome Score: 9\
 nAway Score: 5
END:VEVENT
BEGIN:VEVENT
UID:16836749@ezleagues.ezfacility.com
DTSTAMP:20260424T041450Z
CREATED:20260424T041450Z
DTSTART:20251203T023000Z
DTEND:20251203T032000Z
LOCATION:A Large Field
CONTACT:
SUMMARY:Kiss My Pass VS. Cuervos
DESCRIPTION:League Name: Mens Soccer League\nGame Type: Regular\nGame Statu
 s: Complete\nHome Team: Kiss My Pass\nAway Team: Cuervos\nHome Score: 7\nA
 way Score: 5
END:VEVENT
BEGIN:VEVENT
UID:16836751@ezleagues.ezfacility.com
DTSTAMP:20260424T041450Z
CREATED:20260424T041450Z
DTSTART:20251210T032000Z
DTEND:20251210T041000Z
LOCATION:A Large Field
CONTACT:
SUMMARY:Kiss My Pass VS. FC Taters
DESCRIPTION:League Name: Mens Soccer League\nGame Type: Regular\nGame Statu
 s: Complete\nHome Team: Kiss My Pass\nAway Team: FC Taters\nHome Score: 8\
 nAway Score: 5
END:VEVENT
BEGIN:VEVENT
UID:16836760@ezleagues.ezfacility.com
DTSTAMP:20260424T041450Z
CREATED:20260424T041450Z
DTSTART:20251231T014000Z
DTEND:20251231T023000Z
LOCATION:A Large Field
CONTACT:
SUMMARY:Kiss My Pass VS. Underachievers
DESCRIPTION:League Name: Mens Soccer League\nGame Type: Postseason\nGame St
 atus: Complete\nHome Team: Kiss My Pass\nAway Team: Underachievers\nHome S
 core: 4\nAway Score: 10
END:VEVENT
END:VCALENDAR
