BEGIN:VCALENDAR
VERSION:2.0
PRODID:-//EZFacility.com, Inc.//EZL 2.5.5.28621
BEGIN:VEVENT
UID:16836734@ezleagues.ezfacility.com
DTSTAMP:20260425T222824Z
CREATED:20260425T222824Z
DTSTART:20251112T034000Z
DTEND:20251112T043000Z
LOCATION:A Large Field
CONTACT:
SUMMARY:Kiss My Pass VS. Hooligans
DESCRIPTION:League Name: Mens Soccer League\nGame Type: Regular\nGame Statu
 s: Complete\nHome Team: Kiss My Pass\nAway Team: Hooligans\nHome Score: 9\
 nAway Score: 9
END:VEVENT
BEGIN:VEVENT
UID:16836739@ezleagues.ezfacility.com
DTSTAMP:20260425T222824Z
CREATED:20260425T222824Z
DTSTART:20251119T020000Z
DTEND:20251119T025000Z
LOCATION:A Large Field
CONTACT:
SUMMARY:Hooligans VS. Underachievers
DESCRIPTION:League Name: Mens Soccer League\nGame Type: Regular\nGame Statu
 s: Complete\nHome Team: Hooligans\nAway Team: Underachievers\nHome Score: 
 6\nAway Score: 2
END:VEVENT
BEGIN:VEVENT
UID:16836742@ezleagues.ezfacility.com
DTSTAMP:20260425T222824Z
CREATED:20260425T222824Z
DTSTART:20251126T011000Z
DTEND:20251126T020000Z
LOCATION:A Large Field
CONTACT:
SUMMARY:Cuervos VS. Hooligans
DESCRIPTION:League Name: Mens Soccer League\nGame Type: Regular\nGame Statu
 s: Complete\nHome Team: Cuervos\nAway Team: Hooligans\nHome Score: 5\nAway
  Score: 6
END:VEVENT
BEGIN:VEVENT
UID:16836745@ezleagues.ezfacility.com
DTSTAMP:20260425T222824Z
CREATED:20260425T222824Z
DTSTART:20251126T025000Z
DTEND:20251126T034000Z
LOCATION:A Large Field
CONTACT:
SUMMARY:Hooligans VS. Kiss My Pass
DESCRIPTION:League Name: Mens Soccer League\nGame Type: Regular\nGame Statu
 s: Complete\nHome Team: Hooligans\nAway Team: Kiss My Pass\nHome Score: 9\
 nAway Score: 5
END:VEVENT
BEGIN:VEVENT
UID:16836750@ezleagues.ezfacility.com
DTSTAMP:20260425T222824Z
CREATED:20260425T222824Z
DTSTART:20251203T032000Z
DTEND:20251203T041000Z
LOCATION:A Large Field
CONTACT:
SUMMARY:Hooligans VS. FC Taters
DESCRIPTION:League Name: Mens Soccer League\nGame Type: Regular\nGame Statu
 s: Complete\nHome Team: Hooligans\nAway Team: FC Taters\nHome Score: 8\nAw
 ay Score: 6
END:VEVENT
BEGIN:VEVENT
UID:16836756@ezleagues.ezfacility.com
DTSTAMP:20260425T222824Z
CREATED:20260425T222824Z
DTSTART:20251217T032000Z
DTEND:20251217T041000Z
LOCATION:A Large Field
CONTACT:
SUMMARY:Underachievers VS. Hooligans
DESCRIPTION:League Name: Mens Soccer League\nGame Type: Regular\nGame Statu
 s: Complete\nHome Team: Underachievers\nAway Team: Hooligans\nHome Score: 
 4\nAway Score: 10
END:VEVENT
BEGIN:VEVENT
UID:16836758@ezleagues.ezfacility.com
DTSTAMP:20260425T222824Z
CREATED:20260425T222824Z
DTSTART:20251231T032000Z
DTEND:20251231T041000Z
LOCATION:A Large Field
CONTACT:
SUMMARY:Hooligans VS. 7:40pm Winner TBA
DESCRIPTION:League Name: Mens Soccer League\nGame Type: Postseason\nGame St
 atus: Complete\nHome Team: Hooligans\nAway Team: 7:40pm Winner TBA\nHome S
 core: 9\nAway Score: 5
END:VEVENT
END:VCALENDAR
